BEGIN:VCALENDAR
VERSION:2.0
PRODID:-//Le Petit Varois.Fr - ECPv6.0.10//NONSGML v1.0//EN
CALSCALE:GREGORIAN
METHOD:PUBLISH
X-WR-CALNAME:Le Petit Varois.Fr
X-ORIGINAL-URL:https://lepetitvarois.fr
X-WR-CALDESC:évènements pour Le Petit Varois.Fr
REFRESH-INTERVAL;VALUE=DURATION:PT1H
X-Robots-Tag:noindex
X-PUBLISHED-TTL:PT1H
BEGIN:VTIMEZONE
TZID:Europe/Paris
BEGIN:DAYLIGHT
TZOFFSETFROM:+0100
TZOFFSETTO:+0200
TZNAME:CEST
DTSTART:20190331T010000
END:DAYLIGHT
BEGIN:STANDARD
TZOFFSETFROM:+0200
TZOFFSETTO:+0100
TZNAME:CET
DTSTART:20191027T010000
END:STANDARD
END:VTIMEZONE
BEGIN:VEVENT
DTSTART;TZID=Europe/Paris:20191116T160000
DTEND;TZID=Europe/Paris:20191116T190000
DTSTAMP:20260423T035107
CREATED:20191107T102136Z
LAST-MODIFIED:20191107T102136Z
UID:13125-1573920000-1573930800@lepetitvarois.fr
SUMMARY:Loto et apéritif dînatoire
DESCRIPTION:Loto et apéritif dînatoire à 16h. \nSalle des Fêtes Marc Baron. ST MANDRIER\nLoto ouvert à tous sans inscription puis apéritif dînatoire de fin d’année. \n> 10 € les 3 cartons / 15 € les 6 cartons. 1 € le ticket de tombola. Apéritif dînatoire sur réservation : 15 € / gratuit pour les adhérents.\nAmicale des donneurs de sang bénévoles de St Mandrier 04 94 63 70 10  adsbchrist@sfr.fr
URL:https://lepetitvarois.fr/event/loto-et-aperitif-dinatoire/
CATEGORIES:Saint-Mandrier
ATTACH;FMTTYPE=image/jpeg:https://lepetitvarois.fr/wp-content/uploads/2018/12/47146727_2408017149425928_791952447093342208_n.jpg
END:VEVENT
END:VCALENDAR