BEGIN:VCALENDAR
VERSION:2.0
PRODID:-//Le Petit Varois.Fr - ECPv6.0.10//NONSGML v1.0//EN
CALSCALE:GREGORIAN
METHOD:PUBLISH
X-ORIGINAL-URL:https://lepetitvarois.fr
X-WR-CALDESC:évènements pour Le Petit Varois.Fr
REFRESH-INTERVAL;VALUE=DURATION:PT1H
X-Robots-Tag:noindex
X-PUBLISHED-TTL:PT1H
BEGIN:VTIMEZONE
TZID:Europe/Paris
BEGIN:DAYLIGHT
TZOFFSETFROM:+0100
TZOFFSETTO:+0200
TZNAME:CEST
DTSTART:20190331T010000
END:DAYLIGHT
BEGIN:STANDARD
TZOFFSETFROM:+0200
TZOFFSETTO:+0100
TZNAME:CET
DTSTART:20191027T010000
END:STANDARD
END:VTIMEZONE
BEGIN:VEVENT
DTSTART;VALUE=DATE:20191130
DTEND;VALUE=DATE:20191202
DTSTAMP:20260423T020848
CREATED:20191107T121055Z
LAST-MODIFIED:20191107T121055Z
UID:13236-1575072000-1575244799@lepetitvarois.fr
SUMMARY:Marché de Noël
DESCRIPTION:Marché de Noël de 10h à 18h. \nSalle Myrte et Arbouses\, av. Marie Fliche Bergis\, Pin Rolland. ST MANDRIER\nPour vos cadeaux et décorations de Noël\, venez découvrir des créations originales dans le respect de l’artisanat. Artisanat et dégustation\, vente de produits festifs dans le respect de la tradition : nougat Fouque\, chocolats Jeff de Bruges\, produits corses… Venez partager un moment convivial dans l’esprit de Noël. \nSamedi 30 novembre : de 14h30 à 16h30 atelier bonbons pour les enfants.\nDimanche 1er décembre : de 14h30 à 16h peluches géantes\, magie sculpture sur ballons en attendant l’arrivée du Père Noël avec ses friandises. \n> Entrée libre.\nAssociation festive de la presqu’île 06 71 10 62 27 
URL:https://lepetitvarois.fr/event/marche-de-noel-3/
CATEGORIES:Saint-Mandrier
ATTACH;FMTTYPE=image/jpeg:https://lepetitvarois.fr/wp-content/uploads/2019/11/cinnamon-stars-2991174_960_720.jpg
END:VEVENT
END:VCALENDAR