BEGIN:VCALENDAR
VERSION:2.0
PRODID:-//Le Petit Varois.Fr - ECPv6.0.10//NONSGML v1.0//EN
CALSCALE:GREGORIAN
METHOD:PUBLISH
X-WR-CALNAME:Le Petit Varois.Fr
X-ORIGINAL-URL:https://lepetitvarois.fr
X-WR-CALDESC:évènements pour Le Petit Varois.Fr
REFRESH-INTERVAL;VALUE=DURATION:PT1H
X-Robots-Tag:noindex
X-PUBLISHED-TTL:PT1H
BEGIN:VTIMEZONE
TZID:Europe/Paris
BEGIN:DAYLIGHT
TZOFFSETFROM:+0100
TZOFFSETTO:+0200
TZNAME:CEST
DTSTART:20190331T010000
END:DAYLIGHT
BEGIN:STANDARD
TZOFFSETFROM:+0200
TZOFFSETTO:+0100
TZNAME:CET
DTSTART:20191027T010000
END:STANDARD
END:VTIMEZONE
BEGIN:VEVENT
DTSTART;TZID=Europe/Paris:20191221T140000
DTEND;TZID=Europe/Paris:20191221T170000
DTSTAMP:20260423T021306
CREATED:20191218T090439Z
LAST-MODIFIED:20191218T090439Z
UID:13772-1576936800-1576947600@lepetitvarois.fr
SUMMARY:Les animations de Noël : arrivée du Père Noël
DESCRIPTION:Place des Résistants. ST MANDRIER\nLe matin\, dédicaces de Noël avec la radio Top FM (vous avez de la famille éloignée\, laissez-leur un petit message de Noël qui leur fera chaud au cœur). \nA partir de 14h30 : ateliers de Noël\, structures gonflables. \nA 16h30 : arrivée du Père Noël en bateau et goûter avec boissons chaudes. Puis\, petit spectacle son et lumières sur la façade de la mairie.\n> Gratuit. \nLa Mandréane 06 27 25 42 74
URL:https://lepetitvarois.fr/event/les-animations-de-noel-arrivee-du-pere-noel/
CATEGORIES:Saint-Mandrier
ATTACH;FMTTYPE=image/jpeg:https://lepetitvarois.fr/wp-content/uploads/2018/12/father-christmas-1149928_960_720.jpg
END:VEVENT
END:VCALENDAR