BEGIN:VCALENDAR
VERSION:2.0
PRODID:-//Le Petit Varois.Fr - ECPv6.0.10//NONSGML v1.0//EN
CALSCALE:GREGORIAN
METHOD:PUBLISH
X-WR-CALNAME:Le Petit Varois.Fr
X-ORIGINAL-URL:https://lepetitvarois.fr
X-WR-CALDESC:évènements pour Le Petit Varois.Fr
REFRESH-INTERVAL;VALUE=DURATION:PT1H
X-Robots-Tag:noindex
X-PUBLISHED-TTL:PT1H
BEGIN:VTIMEZONE
TZID:Europe/Paris
BEGIN:DAYLIGHT
TZOFFSETFROM:+0100
TZOFFSETTO:+0200
TZNAME:CEST
DTSTART:20200329T010000
END:DAYLIGHT
BEGIN:STANDARD
TZOFFSETFROM:+0200
TZOFFSETTO:+0100
TZNAME:CET
DTSTART:20201025T010000
END:STANDARD
END:VTIMEZONE
BEGIN:VEVENT
DTSTART;TZID=Europe/Paris:20200119T080000
DTEND;TZID=Europe/Paris:20200119T160000
DTSTAMP:20260423T005441
CREATED:20200110T000129Z
LAST-MODIFIED:20200110T000129Z
UID:13954-1579420800-1579449600@lepetitvarois.fr
SUMMARY:Vide-greniers de Pin Rolland
DESCRIPTION:Vide-greniers de Pin Rolland de 8h à 16h. \nParking Saint-Asile\, Pin Rolland. ST MANDRIER\nDes supers trouvailles pour votre vestiaire\, votre tenue de réveillon\, votre maison\, vos loisirs et pourquoi pas un cadeau original\, un objet de collection à prix tout mini ! On vous attend de pied ferme. On débarrasse\, on vide ! profitez-en !!\n> 10 € l’emplacement. Réservation obligatoire à la permanence le mercredi matin de 10 h à 12 h\, salle Myrte au Pin Rolland. \nAssociation festive de la presqu’île 06 71 10 62 27  
URL:https://lepetitvarois.fr/event/vide-greniers-de-pin-rolland-8/
CATEGORIES:Saint-Mandrier
ATTACH;FMTTYPE=image/jpeg:https://lepetitvarois.fr/wp-content/uploads/2019/03/dish-shelf-1290428_960_720.jpg
END:VEVENT
END:VCALENDAR