BEGIN:VCALENDAR
VERSION:2.0
PRODID:-//Le Petit Varois.Fr - ECPv6.0.10//NONSGML v1.0//EN
CALSCALE:GREGORIAN
METHOD:PUBLISH
X-ORIGINAL-URL:https://lepetitvarois.fr
X-WR-CALDESC:évènements pour Le Petit Varois.Fr
REFRESH-INTERVAL;VALUE=DURATION:PT1H
X-Robots-Tag:noindex
X-PUBLISHED-TTL:PT1H
BEGIN:VTIMEZONE
TZID:Europe/Paris
BEGIN:DAYLIGHT
TZOFFSETFROM:+0100
TZOFFSETTO:+0200
TZNAME:CEST
DTSTART:20200329T010000
END:DAYLIGHT
BEGIN:STANDARD
TZOFFSETFROM:+0200
TZOFFSETTO:+0100
TZNAME:CET
DTSTART:20201025T010000
END:STANDARD
END:VTIMEZONE
BEGIN:VEVENT
DTSTART;TZID=Europe/Paris:20200120T183000
DTEND;TZID=Europe/Paris:20200120T210000
DTSTAMP:20260423T005601
CREATED:20200110T000609Z
LAST-MODIFIED:20200110T000609Z
UID:13962-1579545000-1579554000@lepetitvarois.fr
SUMMARY:Conférence de Pascal Bruno\, musicologue et pianiste "Jean-Sébastien Bach (1685-1750) : le secret de la vie\, le père de tous les musiciens (en Occident)"
DESCRIPTION:Conférence de Pascal Bruno\, musicologue et pianiste « Jean-Sébastien Bach (1685-1750) : le secret de la vie\, le père de tous les musiciens (en Occident) » à 18h30. \nThéâtre Marc Baron\, square Marc Baron. ST MANDRIER\nService vie de la cité 04 94 11 51 75 www.ville-saintmandrier.fr
URL:https://lepetitvarois.fr/event/conference-de-pascal-bruno-musicologue-et-pianiste-jean-sebastien-bach-1685-1750-le-secret-de-la-vie-le-pere-de-tous-les-musiciens-en-occident/
CATEGORIES:Saint-Mandrier
ATTACH;FMTTYPE=image/jpeg:https://lepetitvarois.fr/wp-content/uploads/2018/02/startup-594090_960_720.jpg
END:VEVENT
END:VCALENDAR