BEGIN:VCALENDAR
VERSION:2.0
PRODID:-//Le Petit Varois.Fr - ECPv6.0.10//NONSGML v1.0//EN
CALSCALE:GREGORIAN
METHOD:PUBLISH
X-ORIGINAL-URL:https://lepetitvarois.fr
X-WR-CALDESC:évènements pour Le Petit Varois.Fr
REFRESH-INTERVAL;VALUE=DURATION:PT1H
X-Robots-Tag:noindex
X-PUBLISHED-TTL:PT1H
BEGIN:VTIMEZONE
TZID:Europe/Paris
BEGIN:DAYLIGHT
TZOFFSETFROM:+0100
TZOFFSETTO:+0200
TZNAME:CEST
DTSTART:20210328T010000
END:DAYLIGHT
BEGIN:STANDARD
TZOFFSETFROM:+0200
TZOFFSETTO:+0100
TZNAME:CET
DTSTART:20211031T010000
END:STANDARD
END:VTIMEZONE
BEGIN:VEVENT
DTSTART;TZID=Europe/Paris:20211010T100000
DTEND;TZID=Europe/Paris:20211010T170000
DTSTAMP:20260421T163813
CREATED:20211008T125255Z
LAST-MODIFIED:20211008T125255Z
UID:21718-1633860000-1633885200@lepetitvarois.fr
SUMMARY:Fête de la Cougourdo
DESCRIPTION:Animations\, course\, promenades en calèche\, concours de cuisine\, dégustations\, ateliers enfants\, et les animaux de l’Arche du temps perdu.\nPetite restauration et buvette sur place.\n\n\nDimanche 10 octobre 2021 de 10h à 17h.
URL:https://lepetitvarois.fr/event/fete-de-la-cougourdo-2/
CATEGORIES:Saint-Mandrier – Vie de la cité
ATTACH;FMTTYPE=image/png:https://lepetitvarois.fr/wp-content/uploads/2021/10/Capture-decran-2021-10-08-a-14.50.09.png
END:VEVENT
END:VCALENDAR