BEGIN:VCALENDAR
VERSION:2.0
PRODID:-//Le Petit Varois.Fr - ECPv6.0.10//NONSGML v1.0//EN
CALSCALE:GREGORIAN
METHOD:PUBLISH
X-WR-CALNAME:Le Petit Varois.Fr
X-ORIGINAL-URL:https://lepetitvarois.fr
X-WR-CALDESC:évènements pour Le Petit Varois.Fr
REFRESH-INTERVAL;VALUE=DURATION:PT1H
X-Robots-Tag:noindex
X-PUBLISHED-TTL:PT1H
BEGIN:VTIMEZONE
TZID:Europe/Paris
BEGIN:DAYLIGHT
TZOFFSETFROM:+0100
TZOFFSETTO:+0200
TZNAME:CEST
DTSTART:20180325T010000
END:DAYLIGHT
BEGIN:STANDARD
TZOFFSETFROM:+0200
TZOFFSETTO:+0100
TZNAME:CET
DTSTART:20181028T010000
END:STANDARD
END:VTIMEZONE
BEGIN:VEVENT
DTSTART;VALUE=DATE:20180901
DTEND;VALUE=DATE:20181001
DTSTAMP:20260422T203713
CREATED:20180901T201255Z
LAST-MODIFIED:20180901T201255Z
UID:7107-1535760000-1538351999@lepetitvarois.fr
SUMMARY:L'art Suspendu\, la cinquième édition
DESCRIPTION:Du samedi 1er au dimanche 30 septembre 2018 : L’ ART SUSPENDU – 5ème édition \nVernissage : Vendredi 31 août 2018\, 18h30\, Parvis de la Mairie. 51 artistes exposent leurs oeuvres dans les rues de la Ville. \nGrand jeu public : à vous d’élire votre toile préférée ! \nUne exposition exceptionnelle\, avec des toiles aériennes de 1.50/2m ! \nLa ville de Sanary-sur-Mer est heureuse d’accueillir la 5ème édition de « L’Art Suspendu »: un rendez-vous pour promouvoir l’art de façon populaire\, en permettant à 51 artistes\, régionaux\, nationaux\, voire internationaux d’être présentés. Les ruelles se transforment en véritable galerie à ciel ouvert\, touchant le plus large public\, badauds\, professionnels\, artistes… Le centre-ville se voit investi pendant un mois par des toiles géantes (150x200cm). Le public\, activement impliqué\, est invité à élire sa toile préférée. Cette manifestation artistique d’animation urbaine\, unique par son originalité\, concourt avec évidence au renouveau de la place de l’art dans notre région. Son accessibilité à tous les publics\, sa créativité et sa diversité font de ce festival un véritable liant social. \nVotez pour votre oeuvre préférée !!! \nParcours de l’exposition à retirer dans tous les points d’accueil. Bulletin de vote à déposer dans l’urne\, Parvis de l’Hôtel de Ville\, du 1er au 30 septembre 2018. A l’issue de la manifestation\, le « Grand Prix du Public » sera décerné par le vote des visiteurs. Un tirage au sort sera effectué permettant de gagner la reproduction de l’oeuvre plébiscitée par le public sur bâche.
URL:https://lepetitvarois.fr/event/lart-suspendu-la-cinquieme-edition/
CATEGORIES:Sanary
ATTACH;FMTTYPE=image/jpeg:https://lepetitvarois.fr/wp-content/uploads/2018/01/art-1840481_960_720.jpg
END:VEVENT
BEGIN:VEVENT
DTSTART;VALUE=DATE:20180902
DTEND;VALUE=DATE:20180903
DTSTAMP:20260422T203713
CREATED:20180901T203814Z
LAST-MODIFIED:20180901T203814Z
UID:7139-1535846400-1535932799@lepetitvarois.fr
SUMMARY:Brocante
DESCRIPTION:Dimanche 2 septembre\, de 9h à 18h\, près du Roy d’Ys : brocante caritative organisée par Inner Wheel Bandol.\nDimanche 2 septembre\, de 9h à 18h\, Kiosque à Musique : brocante caritative organisée par Sekolin’ny\nDimanche 16 septembre\, de 9h à 18h\, Allée d’Estienne d’Orves : brocante pro organisée par La Ligue contre le cancer\nSamedi 29 septembre\, Allée d’Estienne d’Orves\, de 9h à 18h : brocante des professionnels organisée par M. et Mme Gibereau.
URL:https://lepetitvarois.fr/event/brocante-2/2018-09-02/
CATEGORIES:Sanary
ATTACH;FMTTYPE=image/jpeg:https://lepetitvarois.fr/wp-content/uploads/2018/02/art-21542_960_720.jpg
END:VEVENT
BEGIN:VEVENT
DTSTART;TZID=Europe/Paris:20180905T203000
DTEND;TZID=Europe/Paris:20180905T233000
DTSTAMP:20260422T203713
CREATED:20180901T203117Z
LAST-MODIFIED:20180901T203133Z
UID:7126-1536179400-1536190200@lepetitvarois.fr
SUMMARY:Festival Musical de septembre "Rencontre"
DESCRIPTION:Mercredi 5 septembre : Du jazz New Orleans au Swing par le Middle Jazz Orchestra\nMercredi 12 septembre : Mozart et le cor de basset par le Bassethorn Trio 83 (Thierry Maison\, André Faure\, Richard Hardwigsen\, cors de basset)\nMercredi 19 septembre : Aux sources de J.S. Bach par l’ensemble Il Delirio Fantastico (Vincent Bernhardt\, orgue et direction artistique\, Laureen Stoulig\, soprano et 2 violons)\nMercredi 26 septembre : En hommage à Heidi Vallotton\, récital de piano par Jean-Sélim Abdelmoula\n\nSeptembre 2018\, Temple Protestant de Sanary-sur-Mer\, à 20h30 : Festival de septembre d’Art & Rencontres.
URL:https://lepetitvarois.fr/event/festival-musical-de-septembre-rencontre/2018-09-05/
CATEGORIES:Sanary
ATTACH;FMTTYPE=image/jpeg:https://lepetitvarois.fr/wp-content/uploads/2018/06/concert-896786_960_720.jpg
END:VEVENT
BEGIN:VEVENT
DTSTART;TZID=Europe/Paris:20180906T143000
DTEND;TZID=Europe/Paris:20180906T170000
DTSTAMP:20260422T203713
CREATED:20180901T201744Z
LAST-MODIFIED:20180901T201744Z
UID:7109-1536244200-1536253200@lepetitvarois.fr
SUMMARY:Ciné Club
DESCRIPTION:Ciné-Club * \nLe 1er jeudi du mois\, 14h30 : projection d’un film d’avant 1960… Pour les nostalgiques ou pour ceux qui veulent réviser leurs classiques. \nAuditorium Ernest Blanc \n 
URL:https://lepetitvarois.fr/event/cine-club/
CATEGORIES:Sanary
ATTACH;FMTTYPE=image/jpeg:https://lepetitvarois.fr/wp-content/uploads/2018/09/analogue-2974647_960_720.jpg
END:VEVENT
BEGIN:VEVENT
DTSTART;VALUE=DATE:20180908
DTEND;VALUE=DATE:20180910
DTSTAMP:20260422T203713
CREATED:20180901T200651Z
LAST-MODIFIED:20180901T200651Z
UID:7100-1536364800-1536537599@lepetitvarois.fr
SUMMARY:La Fête des Traditions à Sanary
DESCRIPTION:SAMEDI 8 SEPTEMBRE 2018 \n\n Maison Flotte : exposition « Exil et Transmission » du samedi 8 au mercredi 19 septembre\, sur le thème de l’exil. Inauguration :  samedi 8 septembre\, 19h Présentation des oeuvres et lecture de poèmes en accompagnement musical\, par Mireille Podchlebnik et Sophie Hassoun-Behin.\n\n  \n\nThéâtre Galli : visite avec le régisseur\, Jean-Christophe PESCIO\, à 10h\, 11h\, 14h\, 15h\, 16h. Sur inscriptions au 04 94 32 97 38\, à partir du lundi 3 septembre.\n\nDIMANCHE 9 SEPTEMBRE 2018 \n\nPort : démonstration de joutes des anciens\, de 10h à 12h.\n\n  \nMERCREDI 12 SEPTEMBRE 2018 \n• Eglise Saint-Nazaire\, 18h : la pause orgue : trente minutes pour écouter l’orgue de Sanary. Présentation et visite de l’orgue de l’Eglise Saint-Nazaire\, par l’organiste Brice MONTAGNOUX\, à 18h30\, 19h\, 19h30\, 20h. Sur inscription au 06 86 42 43 01\, à partir du lundi 3 septembre. \n 
URL:https://lepetitvarois.fr/event/la-fete-des-traditions-a-sanary/2018-09-08/
CATEGORIES:Sanary
ATTACH;FMTTYPE=image/jpeg:https://lepetitvarois.fr/wp-content/uploads/2018/09/olives-253264_960_720.jpg
END:VEVENT
BEGIN:VEVENT
DTSTART;TZID=Europe/Paris:20180912T193000
DTEND;TZID=Europe/Paris:20180912T223000
DTSTAMP:20260422T203713
CREATED:20180901T202329Z
LAST-MODIFIED:20180901T202351Z
UID:7116-1536780600-1536791400@lepetitvarois.fr
SUMMARY:Café Philo : Faut-il avoir peur des robots ? par Philippe Granarolo
DESCRIPTION:CAFÉ PHILO – « LE RENDEZ-VOUS DES IDÉES » \nThéâtre Galli – Petit Galli\, rue Raoul Henry Renseignements : Jean-Michel Berenguier 06 38 40 07 70 \nConférence \, Faut-il avoir peur des robots ? par Philippe Granarolo
URL:https://lepetitvarois.fr/event/faut-il-avoir-peur-des-robots-par-philippe-granarolo/
CATEGORIES:Sanary
ATTACH;FMTTYPE=image/jpeg:https://lepetitvarois.fr/wp-content/uploads/2018/09/knowledge-1052014_960_720.jpg
END:VEVENT
BEGIN:VEVENT
DTSTART;TZID=Europe/Paris:20180913T143000
DTEND;TZID=Europe/Paris:20180913T170000
DTSTAMP:20260422T203713
CREATED:20180901T201916Z
LAST-MODIFIED:20180901T201916Z
UID:7112-1536849000-1536858000@lepetitvarois.fr
SUMMARY:Ciné-Club VO
DESCRIPTION:Ciné-Club VO \nLes 2ème\, 3ème et 4ème jeudi du mois\, 14h30 \nDiffusion d’un film en langue originale sous-titrée. \nL’occasion de voir des films de tous pays en anglais\, italien\, portugais\, hindi\, japonais… \nAuditorium Ernest Blanc
URL:https://lepetitvarois.fr/event/cine-club-vo/2018-09-13/
CATEGORIES:Sanary
ATTACH;FMTTYPE=image/jpeg:https://lepetitvarois.fr/wp-content/uploads/2018/09/analogue-2974647_960_720.jpg
END:VEVENT
BEGIN:VEVENT
DTSTART;VALUE=DATE:20180915
DTEND;VALUE=DATE:20180917
DTSTAMP:20260422T203713
CREATED:20180901T201030Z
LAST-MODIFIED:20180901T201030Z
UID:7104-1536969600-1537142399@lepetitvarois.fr
SUMMARY:La fête des Traditions à Sanary
DESCRIPTION:SAMEDI 15 SEPTEMBRE 2018 \n\nInauguration de la fête des Traditions samedi 15 septembre\, 11h\, Place de l’Hôtel de la Tour\nBaie de Sanary-sur-Mer\, de 10h à 12h et de 14h30 à 17h30 : embarquements immédiats\, proposés par l’association des Pointus de Sanary.\nPort\, à partir de 11h : animation musicale\, dégustations de produits provençaux\, balades en calèches…\nAnimation musicale avec la Saint-Nazairienne\nDégustations de produits provençaux\, avec les associations « Cercle de San Nari »\, « Sanary Animations »\, « La Coustiero Flourido »\, « Les anciens marins »\,\nExpositions de vieux outils installés le long du port\, sous tentes\, face à la Mairie\,\n Kiosque à Musique : la petite ferme\n\nANIMATIONS DE RUES\, à partir de 15h \n\nDéambulation de costumes provençaux et danses folkloriques avec l’association « La Farigoulette » de La Garde\, la « Respelido » de la Valette\, «La Coustiero Flourido » de Sanary-sur-Mer et le groupe musical « à Cinq Sous »\nExpositions de vieux outils installés le long du port\, face à la Mairie\,\nChant provençaux par l’association « Le Raioulet » de Six-Fours\n\nDIMANCHE 16 SEPTEMBRE 2018  \n\nParvis de l’Eglise Saint-Nazaire\, 9h : messe provençale\, avec la chorale de la paroisse de Sanary.\nBaie de Sanary-sur-Mer\, de 10h à 12h et de 14h30 à 17h30 : embarquements immédiats\, proposés par l’association des Pointus de Sanary.\n En ville\, 10h : procession avec le buste de Saint-Nazaire\, aux côtés du groupe folklorique de la Coustiero Flourido\, qui distribuera des brins de lavande.\n Eglise Saint-Nazaire\, 16h30 : concert d’orgue par l’organiste Thomas OSPITAL •\n\n  \nMERCREDI 19 SEPTEMBRE 2018 \n• Eglise Saint-Nazaire\,18h : la pause orgue : trente minutes pour écouter l’orgue de Sanary. Présentation et visite de l’orgue de l’Eglise Saint-Nazaire\, par l’organiste Brice MONTAGNOUX\, à 18h30\, 19h\, 19h30\, 20h. \nSur inscription au 06 86 42 43 01\, à partir du lundi 3 septembre.
URL:https://lepetitvarois.fr/event/la-fete-des-traditions-a-sanary-2/2018-09-15/
CATEGORIES:Sanary
ATTACH;FMTTYPE=image/jpeg:https://lepetitvarois.fr/wp-content/uploads/2018/09/olives-253264_960_720.jpg
END:VEVENT
BEGIN:VEVENT
DTSTART;VALUE=DATE:20180915
DTEND;VALUE=DATE:20180917
DTSTAMP:20260422T203713
CREATED:20180901T203633Z
LAST-MODIFIED:20180901T203633Z
UID:7137-1536969600-1537142399@lepetitvarois.fr
SUMMARY:Opération embarquements Immédiats
DESCRIPTION:EMBARQUEMENTS IMMEDIATS \nPar l’Association des Pointus de Sanary. Les adhérents de l’APS vous offrent une balade en baie de Sanary-sur-Mer sur leurs pointus multicolores. Rendez-vous sur les quais du port. \nSamedi 15 et dimanche 16 septembre 2018\, de 9h30/12h et de 14h30/17h30\, Port (près de la fontaine de la Tour)
URL:https://lepetitvarois.fr/event/operation-embarquements-immediats/
CATEGORIES:Sanary
ATTACH;FMTTYPE=image/jpeg:https://lepetitvarois.fr/wp-content/uploads/2018/07/P6300389-scaled.jpg
END:VEVENT
BEGIN:VEVENT
DTSTART;TZID=Europe/Paris:20180916T160000
DTEND;TZID=Europe/Paris:20180916T200000
DTSTAMP:20260422T203713
CREATED:20180901T204354Z
LAST-MODIFIED:20180901T204354Z
UID:7145-1537113600-1537128000@lepetitvarois.fr
SUMMARY:Concert d'orgue\, Eglise Saint Nazaire
DESCRIPTION:Concert d’Orgue\, avec Thomas OSPITAL\, Organiste du grand-orgue de Saint- Eustache\, Paris – Professeur au Conservatoire Supérieur de Paris \n  \nNé en 1990 au pays basque (France)\, Thomas Ospital débute ses études musicales au Conservatoire de Bayonne avec Esteban Landart et les poursuit au Conservatoire National Supérieur de Musique et de Danse de Paris\, où il obtient cinq premiers prix en orgue\, improvisation\, harmonie\, contrepoint\, fugue et formes. \nIl a notamment pour professeurs Olivier Latry\, Michel Bouvard\, Thierry Escaich\, Philippe Lefebvre\, Fabien Waksman\, Isabelle Duha et Pierre Pincemaille. Lauréat de plusieurs concours internationaux (Saragosse\, Chartres\, Toulouse\, Grand Prix Florentz de l’Académie des Beaux-Arts)\, il occupe pendant six mois les fonctions de « Young artist in residence » à la Cathédrale Saint Louis King of France de La Nouvelle-Orléans\, aux États-Unis. En mars 2015\, il est nommé sur concours titulaire du grand-orgue de l’église Saint-Eustache à Paris et devient l’année suivante le premier organiste en résidence du nouvel instrument de l’auditorium de Radio France à Paris. Cette activité l’amène à collaborer régulièrement avec les différentes formations musicales de la Radio et à prendre part à des projets de médiation visant à faire connaître l’orgue au plus grand nombre. Sa carrière de concertiste le conduit à jouer tant en France qu’à l’étranger aussi bien en soliste\, en musique de chambre ou avec orchestre symphonique. L’improvisation tient une place importante dans sa pratique musicale ; soucieux de faire perdurer cet art sous toutes ses formes\, il pratique notamment l’accompagnement de films muets. En 2016\, on lui commande la musique additionnelle du film Django d’Étienne Comar. Son premier enregistrement discographique est consacré à des oeuvres de Franz Liszt au grand-orgue de Saint-Eustache (éditions Hortus\, septembre 2017). Enregistré sur l’orgue de l’auditorium de Radio France\, un deuxième album paru en janvier 2018 est consacré à des improvisations et à des oeuvres de Johann Sebastian Bach mises en regard avec les Chorals-Études de Thierry Escaich\, dont il a assuré la création. Passionné par la transmission\, Thomas Ospital est régulièrement sollicité pour enseigner l’interprétation et l’improvisation dans le cadre de masterclasses. Il est depuis 2017 professeur d’harmonisation au clavier au Conservatoire National Supérieur de Musique et de Danse de Paris\, où il enseigne également l’harmonie pour les ingénieurs en formation supérieure aux métiers du son. \nPROGRAMME \n\nHenry PURCELL (1659-1695) : Extraits de Didon et Enée (transcription André Isoir) Ouverture\, Danse Triomphale\, Mort de Didon\nAnonyme : Trois Danses (5’) : Basse dance\, Tourdion\, Branle gay\n Béla BARTOK (1881-1945) : 6 danses roumaines (transcription Thomas Ospital) (7’)\nThomas OSPITAL (1990) : Improvisation\nJohann Sebastian BACH (1685-1750) : Quatrième sonate en trio BWV 528 (10’) Adagio – Vivace – Andante – Un poco Allegro\nFugue à la Gigue BWV 577 (3\,30)\nToccata\, adagio et fugue BWV 564 (15’)
URL:https://lepetitvarois.fr/event/concert-dorgue-eglise-saint-nazaire/
CATEGORIES:Sanary
ATTACH;FMTTYPE=image/jpeg:https://lepetitvarois.fr/wp-content/uploads/2018/09/church-organ-3401780_960_720.jpg
END:VEVENT
BEGIN:VEVENT
DTSTART;TZID=Europe/Paris:20180919T193000
DTEND;TZID=Europe/Paris:20180919T213000
DTSTAMP:20260422T203713
CREATED:20180901T202629Z
LAST-MODIFIED:20180901T202629Z
UID:7120-1537385400-1537392600@lepetitvarois.fr
SUMMARY:Café psycho : Les hommes répondent aux questions des femmes et les femmes répondent aux questions des hommes
DESCRIPTION:Mercredi 19 septembre 2018\, 19h30 \nLes hommes répondent aux questions des femmes et les femmes répondent \naux questions des hommes par Gilles Collin
URL:https://lepetitvarois.fr/event/cafe-psycho-les-hommes-repondent-aux-questions-des-femmes-et-les-femmes-repondent-aux-questions-des-hommes/
CATEGORIES:Sanary
ATTACH;FMTTYPE=image/jpeg:https://lepetitvarois.fr/wp-content/uploads/2018/09/couple-1845334_960_720.jpg
END:VEVENT
BEGIN:VEVENT
DTSTART;TZID=Europe/Paris:20180923T150000
DTEND;TZID=Europe/Paris:20180923T170000
DTSTAMP:20260422T203713
CREATED:20180901T203345Z
LAST-MODIFIED:20180901T203345Z
UID:7135-1537714800-1537722000@lepetitvarois.fr
SUMMARY: Joutes\, en clôture de la saison estivale
DESCRIPTION:Joutes\, en clôture de la saison estivale. \nDimanche 23 septembre 2018\, de 15h à 17h
URL:https://lepetitvarois.fr/event/joutes-en-cloture-de-la-saison-estivale/
CATEGORIES:Sanary
ATTACH;FMTTYPE=image/jpeg:https://lepetitvarois.fr/wp-content/uploads/2015/04/21039510_10213072737549844_237770712_n.jpg
END:VEVENT
BEGIN:VEVENT
DTSTART;VALUE=DATE:20180928
DTEND;VALUE=DATE:20181001
DTSTAMP:20260422T203713
CREATED:20180901T202855Z
LAST-MODIFIED:20180901T202855Z
UID:7123-1538092800-1538351999@lepetitvarois.fr
SUMMARY:Paix\, joie et harmonie\, fruits de la patience et de la compassion
DESCRIPTION:Paix\, joie et harmonie\, fruits de la patience et de la compassion Etude du sixième chapitre de «l’Entrée dans la Conduite des Bodhisattvas» (Bodhisattvacaryavatara) du Maître indien Shantideva : « La patience » \n\n Vendredi 28 septembre : de 18h30 à 20h30\nSamedi 29 sptembre : de 10h à 12h30 et de 14h30 à 17h\nDimanche 30 septembre : de 10h à 12h30 et de 14h30 à 17h. Poudja de dédicaces de 18h à 20h\n\nCentre Bouddhiste Rabten Djangtchoub Ling\, 480 chemin Sainte Trinide  Renseignements: 06 87 43 91 43 – sanary@rabten.eu
URL:https://lepetitvarois.fr/event/paix-joie-et-harmonie-fruits-de-la-patience-et-de-la-compassion/
CATEGORIES:Sanary
ATTACH;FMTTYPE=image/jpeg:https://lepetitvarois.fr/wp-content/uploads/2018/09/zen-509371_960_720.jpg
END:VEVENT
BEGIN:VEVENT
DTSTART;TZID=Europe/Paris:20180930T120000
DTEND;TZID=Europe/Paris:20180930T170000
DTSTAMP:20260422T203713
CREATED:20180901T203916Z
LAST-MODIFIED:20180901T203916Z
UID:7143-1538308800-1538326800@lepetitvarois.fr
SUMMARY:Repas Dansant
DESCRIPTION:Dimanche 30 septembre 2018\, à partir de 12h\, Salle Polyvalente de La Guicharde (Avenue du Stade) : repas dansant\, organisé par l’association des Amis de Sousse et de Sanary\, avec l’orchestre BLEU AZUR \n\nFin des inscriptions : mercredi 26 septembre\, à 14h. 32€ pour les adhérents / 36€ pour les non-adhérents\nRenseignements : Joseph MARTORANA\, président de l’ASSOCIATION DES AMIS DE SOUSSE ET DE SANARY – 06 18 10 48 66 / amisdesoussejo@orange.fr
URL:https://lepetitvarois.fr/event/repas-dansant-2/
CATEGORIES:Sanary
ATTACH;FMTTYPE=image/jpeg:https://lepetitvarois.fr/wp-content/uploads/2018/02/person-2248567_960_720.jpg
END:VEVENT
END:VCALENDAR