BEGIN:VCALENDAR
VERSION:2.0
PRODID:-//Le Petit Varois.Fr - ECPv6.0.10//NONSGML v1.0//EN
CALSCALE:GREGORIAN
METHOD:PUBLISH
X-ORIGINAL-URL:https://lepetitvarois.fr
X-WR-CALDESC:évènements pour Le Petit Varois.Fr
REFRESH-INTERVAL;VALUE=DURATION:PT1H
X-Robots-Tag:noindex
X-PUBLISHED-TTL:PT1H
BEGIN:VTIMEZONE
TZID:Europe/Paris
BEGIN:DAYLIGHT
TZOFFSETFROM:+0100
TZOFFSETTO:+0200
TZNAME:CEST
DTSTART:20180325T010000
END:DAYLIGHT
BEGIN:STANDARD
TZOFFSETFROM:+0200
TZOFFSETTO:+0100
TZNAME:CET
DTSTART:20181028T010000
END:STANDARD
END:VTIMEZONE
BEGIN:VEVENT
DTSTART;TZID=Europe/Paris:20181101T150000
DTEND;TZID=Europe/Paris:20181201T170000
DTSTAMP:20260422T174854
CREATED:20181029T145844Z
LAST-MODIFIED:20181029T145844Z
UID:8016-1541084400-1543683600@lepetitvarois.fr
SUMMARY:Initiation au pastel offerte
DESCRIPTION:INITIATIONS AU PASTEL OFFERTES\, de 15h à 17h\, sur inscription au 06.67.36.81.81 \n(10 personnes maximum/jour) les : Jeudi 1er\, samedi 3\, dimanche 4\, mercredi 7\, jeudi 8\, samedi 10\, dimanche 11\, mercredi 14\, jeudi 15\, samedi 17 novembre 2018. \nLes personnes doivent être présentes 1/4 d’heure avant. Le matériel est fourni. Chaque dessin est conservé et à la fin de l’exposition\, personnalités et artistes choisissent un dessin et décerne les prix des « Pastellistes d’un jour » et « Prix du public » le 18 novembre\, à 17h\, Espace Saint-Nazaire.
URL:https://lepetitvarois.fr/event/initiation-au-pastel-offerte/2018-11-01/
CATEGORIES:Sanary
ATTACH;FMTTYPE=image/jpeg:https://lepetitvarois.fr/wp-content/uploads/2018/10/nature-3044755_960_720.jpg
END:VEVENT
BEGIN:VEVENT
DTSTART;VALUE=DATE:20181106
DTEND;VALUE=DATE:20181118
DTSTAMP:20260422T174854
CREATED:20181029T150501Z
LAST-MODIFIED:20181029T150501Z
UID:8028-1541462400-1542499199@lepetitvarois.fr
SUMMARY:La grande guerre Histoire et Nouvelles technologies\, inauguration\, études ..
DESCRIPTION:Rue Robert Schuman – Renseignements : 04 94 32 97 80 \n\n LA GRANDE GUERRE HISTOIRE ET NOUVELLES TECHNOLOGIES\n\n> COMMÉMORATION DE LA FIN DE LA GUERRE 14/18 \n\n Du mardi 6 au samedi 17 novembre 2018\n Vendredi 9 novembre 2018 – 18h15 : inauguration – 17h : étude du roman de Jean-Michel THIBAUX « Le rappel du tambour » par Jean PICANO\n\n> EXPOSITION « Putain de guerre » par l’auteur de bande dessinée TARDI \n> EXPOSITION de carnets de croquis des poilus (collection des archives départementales du Var) \n> EXPOSITION « Les Sanaryens morts pour la France entre 1914 et 1918 » par l’association du Souvenir Français \n> INSTALLATION D’UN CARTOMATON EN LIBRE-SERVICE. Cette borne fonctionne comme un photomaton. Il s’agit d’un dispositif d’impression à la demande de cartes postales personnalisées : une série de photos à trous préenregistrées (représentant des ambiances de la guerre de 14/18) sera disponible via une interface numérique\, proposant à chacun de se mettre en scène dans l’image. Au dos des cartes\, une information contextuelle sera ajoutée et chartée. Le public pourra imprimer et emporter la carte.
URL:https://lepetitvarois.fr/event/la-grande-guerre-histoire-et-nouvelles-technologies-inauguration-etudes/
CATEGORIES:Sanary
ATTACH;FMTTYPE=image/png:https://lepetitvarois.fr/wp-content/uploads/2018/10/Capture-d’écran-2018-10-29-à-16.02.27.png
END:VEVENT
BEGIN:VEVENT
DTSTART;TZID=Europe/Paris:20181116T150000
DTEND;TZID=Europe/Paris:20181116T170000
DTSTAMP:20260422T174854
CREATED:20181029T151113Z
LAST-MODIFIED:20181029T151113Z
UID:8031-1542380400-1542387600@lepetitvarois.fr
SUMMARY:Conférence :« Apollinaire »
DESCRIPTION:Vendredi 16 novembre 2018 : « Apollinaire » par Yves STALLONI \nCONFÉRENCES DE L’UNIVERSITÉ DU TEMPS LIBRE DE SANARY / CYCLE « LA GRANDE GUERRE » 15h\, Auditorium Ernest Blanc
URL:https://lepetitvarois.fr/event/conference-apollinaire/
CATEGORIES:Sanary
ATTACH;FMTTYPE=image/jpeg:https://lepetitvarois.fr/wp-content/uploads/2018/02/startup-594090_960_720.jpg
END:VEVENT
BEGIN:VEVENT
DTSTART;VALUE=DATE:20181120
DTEND;VALUE=DATE:20181121
DTSTAMP:20260422T174854
CREATED:20181029T152006Z
LAST-MODIFIED:20181029T152006Z
UID:8037-1542672000-1542758399@lepetitvarois.fr
SUMMARY:Conférences et Ateliers
DESCRIPTION:CAFÉ BIBLIQUE Centre Azur\, 149 Avenue du Nid – Tél 04 94 74 18 87 Renseignements : 06 60 66 38 90 Conférence – Mardi 20 novembre 2018\, 19h30 Je suis le seigneur ton Dieu : l’homme devant Dieu\, entre résistance et soumission.\n\n  \n\n CAFÉ PHILO – « LE RENDEZ-VOUS DES IDÉES » Théâtre Galli – Petit Galli\, rue Raoul Henry Renseignements : Jean-Michel Berenguier 06 38 40 07 70 Conférence – Mercredi 14 novembre 2018\, 19h30 Du normal et du pathologique par Silvia Berja\n\n  \n\n CAFÉ PSYCHO La magie des sens\, 269 avenue Joseph Lautier – Tél 04 83 42 53 29 Renseignements : Gilles Collin 04 94 90 59 01 / 06 15 85 75 62 Conférence – Mercredi 21 novembre 2018\, 19h30 Ma spiritualité… par Gilles Collin\n\n  \n\n CENTRE AZUR – FORUM Centre Azur\, 149 avenue du Nid\, Portissol Renseignements : 04 94 74 18 87 – forumcentreazur@hotmail.fr / www.centre-azur.com Ciné-Débat – Mercredi 7 novembre 2018\, 18h30 Les figures de l’ombre – Réalisé par Théodore Melfi – 2016 Brillantes scientifiques noires américaines recrutées par la NASA pour la conquête de l’espace.
URL:https://lepetitvarois.fr/event/conferences-et-ateliers/2018-11-20/
CATEGORIES:Sanary
ATTACH;FMTTYPE=image/png:https://lepetitvarois.fr/wp-content/uploads/2018/10/Capture-d’écran-2018-10-29-à-16.17.17.png
END:VEVENT
BEGIN:VEVENT
DTSTART;VALUE=DATE:20181123
DTEND;VALUE=DATE:20181126
DTSTAMP:20260422T174854
CREATED:20181029T152213Z
LAST-MODIFIED:20181029T152213Z
UID:8041-1542931200-1543190399@lepetitvarois.fr
SUMMARY:La persévérance enthousiaste
DESCRIPTION:CENTRE BOUDDHISTE RABTEN DJANGTCHOUB LING  \nCentre Bouddhiste Rabten Djangtchoub Ling\, 480 chemin Sainte Trinide  \nRenseignements : 06 87 43 91 43 – sanary@rabten.eu  \nConférences 2ème cycle : du vendredi 23 au dimanche 25 novembre 2018 par Vénérable moine Djangtchoub Puntsog (Vén. Markus) \n La persévérance enthousiaste\n La persévérance enthousiaste est la condition essentielle pour atteindre nos objectifs vertueux. Il est donc indispensable d’en connaître précisément la nature\, les qualités ainsi que les méthodes à appliquer pour générer et développer cette attitude en notre esprit\, afin qu’elle puisse soutenir et garantir notre cheminement spirituel sur le long terme. –  \nVendredi 23 novembre 2018\, de 18h30 à 20h30 – Samedi 24 novembre 2018\, de 10h à 12h30 et de 14h30 à 17h – Dimanche 25 novembre 2018\, de 10h à 12h30 et de 14h30 à 17h. \n Poudja de dédicaces de 18h à 20h.
URL:https://lepetitvarois.fr/event/la-perseverance-enthousiaste/
CATEGORIES:Sanary
ATTACH;FMTTYPE=image/jpeg:https://lepetitvarois.fr/wp-content/uploads/2018/09/zen-509371_960_720.jpg
END:VEVENT
BEGIN:VEVENT
DTSTART;TZID=Europe/Paris:20181123T150000
DTEND;TZID=Europe/Paris:20181123T170000
DTSTAMP:20260422T174854
CREATED:20181029T151209Z
LAST-MODIFIED:20181029T151209Z
UID:8033-1542985200-1542992400@lepetitvarois.fr
SUMMARY:« La marine en 14/18 »
DESCRIPTION:Vendredi 23 novembre 2018 : « La marine en 14/18 » par l’Amiral Rémi MONAQUE \n  \nCONFÉRENCES DE L’UNIVERSITÉ DU TEMPS LIBRE DE SANARY / CYCLE « LA GRANDE GUERRE » 15h\, Auditorium Ernest Blanc
URL:https://lepetitvarois.fr/event/la-marine-en-14-18/
CATEGORIES:Sanary
ATTACH;FMTTYPE=image/jpeg:https://lepetitvarois.fr/wp-content/uploads/2018/05/office-620822_960_720.jpg
END:VEVENT
BEGIN:VEVENT
DTSTART;TZID=Europe/Paris:20181130T150000
DTEND;TZID=Europe/Paris:20181130T170000
DTSTAMP:20260422T174854
CREATED:20181029T151449Z
LAST-MODIFIED:20181029T151449Z
UID:8035-1543590000-1543597200@lepetitvarois.fr
SUMMARY:« La presse en 14/18 »
DESCRIPTION:Vendredi 30 novembre 2018 : « La presse en 14/18 » par Gabriel JAUFFRET \nCONFÉRENCES DE L’UNIVERSITÉ DU TEMPS LIBRE DE SANARY / CYCLE « LA GRANDE GUERRE » 15h\, Auditorium Ernest Blanc
URL:https://lepetitvarois.fr/event/la-presse-en-14-18/
CATEGORIES:Sanary
END:VEVENT
END:VCALENDAR