BEGIN:VCALENDAR
VERSION:2.0
PRODID:-//Le Petit Varois.Fr - ECPv6.0.10//NONSGML v1.0//EN
CALSCALE:GREGORIAN
METHOD:PUBLISH
X-WR-CALNAME:Le Petit Varois.Fr
X-ORIGINAL-URL:https://lepetitvarois.fr
X-WR-CALDESC:évènements pour Le Petit Varois.Fr
REFRESH-INTERVAL;VALUE=DURATION:PT1H
X-Robots-Tag:noindex
X-PUBLISHED-TTL:PT1H
BEGIN:VTIMEZONE
TZID:Europe/Paris
BEGIN:DAYLIGHT
TZOFFSETFROM:+0100
TZOFFSETTO:+0200
TZNAME:CEST
DTSTART:20180325T010000
END:DAYLIGHT
BEGIN:STANDARD
TZOFFSETFROM:+0200
TZOFFSETTO:+0100
TZNAME:CET
DTSTART:20181028T010000
END:STANDARD
END:VTIMEZONE
BEGIN:VEVENT
DTSTART;TZID=Europe/Paris:20180603T120000
DTEND;TZID=Europe/Paris:20180603T170000
DTSTAMP:20260423T021408
CREATED:20180601T145458Z
LAST-MODIFIED:20180601T145458Z
UID:5105-1528027200-1528045200@lepetitvarois.fr
SUMMARY:Repas Dansant
DESCRIPTION:Dimanche 3 juin – à partir de 12h \nRepas dansant avec l’orchestre Bleu-Azur\, organisé par Les amis de Sousse et de Sanary \nSalle Polyvalente de la Guicharde \nRenseignements et inscriptions : 06 18 10 48 66 \n(Fin des inscriptions le 30 mai)
URL:https://lepetitvarois.fr/event/repas-dansant/
CATEGORIES:Sanary
ATTACH;FMTTYPE=image/jpeg:https://lepetitvarois.fr/wp-content/uploads/2018/03/29178727_10214801610890597_5990806231990665216_n.jpg
END:VEVENT
BEGIN:VEVENT
DTSTART;TZID=Europe/Paris:20180603T150000
DTEND;TZID=Europe/Paris:20180603T170000
DTSTAMP:20260423T021408
CREATED:20180601T145123Z
LAST-MODIFIED:20180601T145123Z
UID:5102-1528038000-1528045200@lepetitvarois.fr
SUMMARY:Joutes Provençales
DESCRIPTION:Dimanche 3 juin \nDe 15h à 17h\, initiation des scolaires et des clubs de basket et de rugby.
URL:https://lepetitvarois.fr/event/joutes-provencales/
CATEGORIES:Sanary
ATTACH;FMTTYPE=image/jpeg:https://lepetitvarois.fr/wp-content/uploads/2018/06/phpThumb_generated_thumbnailjpg.jpeg
END:VEVENT
END:VCALENDAR