BEGIN:VCALENDAR
VERSION:2.0
PRODID:-//Le Petit Varois.Fr - ECPv6.0.10//NONSGML v1.0//EN
CALSCALE:GREGORIAN
METHOD:PUBLISH
X-WR-CALNAME:Le Petit Varois.Fr
X-ORIGINAL-URL:https://lepetitvarois.fr
X-WR-CALDESC:évènements pour Le Petit Varois.Fr
REFRESH-INTERVAL;VALUE=DURATION:PT1H
X-Robots-Tag:noindex
X-PUBLISHED-TTL:PT1H
BEGIN:VTIMEZONE
TZID:Europe/Paris
BEGIN:DAYLIGHT
TZOFFSETFROM:+0100
TZOFFSETTO:+0200
TZNAME:CEST
DTSTART:20180325T010000
END:DAYLIGHT
BEGIN:STANDARD
TZOFFSETFROM:+0200
TZOFFSETTO:+0100
TZNAME:CET
DTSTART:20181028T010000
END:STANDARD
END:VTIMEZONE
BEGIN:VEVENT
DTSTART;TZID=Europe/Paris:20180609T080000
DTEND;TZID=Europe/Paris:20180609T170000
DTSTAMP:20260423T021420
CREATED:20180601T145913Z
LAST-MODIFIED:20180601T145913Z
UID:5114-1528531200-1528563600@lepetitvarois.fr
SUMMARY:Brocante
DESCRIPTION:Samedi 9 Juin : \nDe 8h à 18h\, Brocante solidaire organisée par Sanary Solidarité\, Allées Estienne d’Orves. \nExposition sur table uniquement\, nappe blanche – 20 € l’emplacement de 3m. \nRenseignements et réservation au 04 94 88 34 16 ou 06 25 64 01 03.
URL:https://lepetitvarois.fr/event/brocante/
CATEGORIES:Sanary
ATTACH;FMTTYPE=image/jpeg:https://lepetitvarois.fr/wp-content/uploads/2018/03/easter-3263657_960_720.jpg
END:VEVENT
END:VCALENDAR