BEGIN:VCALENDAR
VERSION:2.0
PRODID:-//Le Petit Varois.Fr - ECPv6.0.10//NONSGML v1.0//EN
CALSCALE:GREGORIAN
METHOD:PUBLISH
X-ORIGINAL-URL:https://lepetitvarois.fr
X-WR-CALDESC:évènements pour Le Petit Varois.Fr
REFRESH-INTERVAL;VALUE=DURATION:PT1H
X-Robots-Tag:noindex
X-PUBLISHED-TTL:PT1H
BEGIN:VTIMEZONE
TZID:Europe/Paris
BEGIN:DAYLIGHT
TZOFFSETFROM:+0100
TZOFFSETTO:+0200
TZNAME:CEST
DTSTART:20180325T010000
END:DAYLIGHT
BEGIN:STANDARD
TZOFFSETFROM:+0200
TZOFFSETTO:+0100
TZNAME:CET
DTSTART:20181028T010000
END:STANDARD
END:VTIMEZONE
BEGIN:VEVENT
DTSTART;TZID=Europe/Paris:20181204T180000
DTEND;TZID=Europe/Paris:20181204T200000
DTSTAMP:20260421T111419
CREATED:20181201T215714Z
LAST-MODIFIED:20181201T215714Z
UID:8463-1543946400-1543953600@lepetitvarois.fr
SUMMARY:Instant café "Les conflits dans la fratrie"
DESCRIPTION:Instant café « Les conflits dans la fratrie » de 18h à 20h.\nMaison des familles\, 135 rue de la Cauquière. SIX FOURS\nCes moments d’échange entre familles se dé roulent en petit groupe\, dans une ambiance détendue et conviviale\, selon un thème spécifique à chaque rendez-vous. Ils sont animés par des professionnels de la famille. \n> Gratuit. Sur inscription.\nMaison des Familles 04 94 34 93 70
URL:https://lepetitvarois.fr/event/instant-cafe-les-conflits-dans-la-fratrie/
CATEGORIES:Six-Fours
ATTACH;FMTTYPE=image/jpeg:https://lepetitvarois.fr/wp-content/uploads/2018/11/children-2105468_960_720.jpg
END:VEVENT
BEGIN:VEVENT
DTSTART;TZID=Europe/Paris:20181204T193000
DTEND;TZID=Europe/Paris:20181204T230000
DTSTAMP:20260421T111419
CREATED:20181201T220436Z
LAST-MODIFIED:20181201T220436Z
UID:8467-1543951800-1543964400@lepetitvarois.fr
SUMMARY:Loto du Téléthon
DESCRIPTION:Loto du Téléthon à 19h30.\nEspace culturel André Malraux\, 100 av. de Lattre de Tassigny. SIX FOURS\nAmicale Six Fournaise des Rapatriés d’Afrique du Nord  
URL:https://lepetitvarois.fr/event/loto-du-telethon/
CATEGORIES:Six-Fours
ATTACH;FMTTYPE=image/jpeg:https://lepetitvarois.fr/wp-content/uploads/2018/12/47146727_2408017149425928_791952447093342208_n.jpg
END:VEVENT
BEGIN:VEVENT
DTSTART;TZID=Europe/Paris:20181206T143000
DTEND;TZID=Europe/Paris:20181206T170000
DTSTAMP:20260421T111419
CREATED:20181201T221140Z
LAST-MODIFIED:20181201T221140Z
UID:8469-1544106600-1544115600@lepetitvarois.fr
SUMMARY:Conférence d'histoire de l'art "L'anticlassicisme au XVIIe siècle : une nouvelle vision et redécouverte de Georges de La Tour et de Claude Gellée\, dit "le Lorrain"
DESCRIPTION:Conférence d’histoire de l’art « L’anticlassicisme au XVIIe siècle : une nouvelle vision et redécouverte de Georges de La Tour et de Claude Gellée\, dit « le Lorrain » à 14h30.\nMaison du Cygne\, bois de la Coudoulière. SIX FOURS\n> Réservation obligatoire. \nAssociation Cultures Ecritures Peintures 04 94 91 52 95
URL:https://lepetitvarois.fr/event/conference-dhistoire-de-lart-lanticlassicisme-au-xviie-siecle-une-nouvelle-vision-et-redecouverte-de-georges-de-la-tour-et-de-claude-gellee-dit-le-lorrain/
CATEGORIES:Six-Fours
ATTACH;FMTTYPE=image/jpeg:https://lepetitvarois.fr/wp-content/uploads/2018/12/color-3256055_960_720.jpg
END:VEVENT
BEGIN:VEVENT
DTSTART;TZID=Europe/Paris:20181206T190000
DTEND;TZID=Europe/Paris:20181206T210000
DTSTAMP:20260421T111419
CREATED:20181201T221237Z
LAST-MODIFIED:20181201T221237Z
UID:8472-1544122800-1544130000@lepetitvarois.fr
SUMMARY:Café philo "Séduction : le code a changé"
DESCRIPTION:Café philo « Séduction : le code a changé » animé par Magali Aimé à 19h30.\nLe Mont Salva\, ch. du Mont Salva\, Le Brusc. SIX FOURS\n> 5 € la séance.\nLe Rendez-vous des Idées 06 38 40 07 70
URL:https://lepetitvarois.fr/event/cafe-philo-seduction-le-code-a-change/
CATEGORIES:Six-Fours
ATTACH;FMTTYPE=image/jpeg:https://lepetitvarois.fr/wp-content/uploads/2018/06/young-791849_960_720.jpg
END:VEVENT
BEGIN:VEVENT
DTSTART;VALUE=DATE:20181208
DTEND;VALUE=DATE:20181210
DTSTAMP:20260421T111419
CREATED:20181201T224403Z
LAST-MODIFIED:20181201T224403Z
UID:8499-1544227200-1544399999@lepetitvarois.fr
SUMMARY:Animations de Noël
DESCRIPTION:Centre-ville. SIX FOURS\nSamedi 8 : \n9h-10h : inauguration des festivités avec musique\, jongleurs et échassiers. \n10h-11h : vente du blé de la Sainte Barbe dans une ambiance musicale. \n11h-12h : ouverture du vin chaud\, recette spéciale « Hello Six Fours ». \n12h-14h : « C’est ça le Var »\, présentation de l’artisanat local (maroquinerie et céramique de Six Fours\, bière de Hyères\, nougats d’Ollioules…) \n14h-15h : les traditions de Noël (les santons\, la Sainte Barbe et le gros souper). \n15h-16h : spectacle avec les jongleurs du Fort.\n16h-17h : l’âne de Provence (l’animal\, le symbole\, les légendes…).\n17h-18h : « Le Grand Six » 100 enfants se verront offrir un lampion (tirage au sort sur le Facebook de Hello Six Fours) pour illuminer la place des Poilus.\n18h-19h : spectacle  » les flammes magiques ».\nDimanche 9 : \n9h-10h : drôleries du matin « Ca boulègue » en musique.\n10h-11h : spectacle de marionnettes avec le Marcos Puppets Show.\n11h-12h : défilé et danses folkloriques avec Lou Raioulet.\n12h-14h : « C’est ça le Var »\, présentation de l’artisanat local (maroquinerie et céramique de Six Fours\, bière de Hyères\, nougats d’Ollioules…).\n14h-15h : spectacle « Les contes magiques des Troubadours ».\n15h-17h : concert de Zoumai Aqui (rock festif et provençal chanté dans la langue de Mistral.\n17h-18h : spectacle « La musique en feu ».\n18h-19h : « Faites vos jeux »\, les meilleures offres du marché avant fermeture.\nAssociation des commerçants et artisans « Hello Six Fours » 04 94 25 60 05 contact@hello-sixfours.com – http://hello-sixfours.com/
URL:https://lepetitvarois.fr/event/animations-de-noel/
CATEGORIES:Six-Fours
ATTACH;FMTTYPE=image/jpeg:https://lepetitvarois.fr/wp-content/uploads/2018/12/christmas-bauble-1869989_960_720-2.jpg
END:VEVENT
BEGIN:VEVENT
DTSTART;TZID=Europe/Paris:20181208T173000
DTEND;TZID=Europe/Paris:20181208T230000
DTSTAMP:20260421T111419
CREATED:20181207T114433Z
LAST-MODIFIED:20181207T114433Z
UID:8708-1544290200-1544310000@lepetitvarois.fr
SUMMARY:Soirée Italienne par l'association Matriochka
DESCRIPTION:
URL:https://lepetitvarois.fr/event/soiree-italienne-par-lassociation-matriochka/
CATEGORIES:Six-Fours
ATTACH;FMTTYPE=image/png:https://lepetitvarois.fr/wp-content/uploads/2018/12/Capture-d’écran-2018-12-07-à-12.43.40.png
END:VEVENT
BEGIN:VEVENT
DTSTART;TZID=Europe/Paris:20181208T203000
DTEND;TZID=Europe/Paris:20181208T230000
DTSTAMP:20260421T111419
CREATED:20181201T223917Z
LAST-MODIFIED:20181201T223917Z
UID:8494-1544301000-1544310000@lepetitvarois.fr
SUMMARY:Contes d'hiver
DESCRIPTION:Contes d’hiver à 20h30.\nMaison du Patrimoine\, corniche des Iles Paul Ricard\, Le Brusc. SIX FOURS\nLes conteuses du Jardin des Contes présentent des contes d’hiver pour tout public. \n> 5 € / gratuit pour -6 ans. \nLe Jardin des Contes (Association) / 06 87  87 77 30
URL:https://lepetitvarois.fr/event/contes-dhiver/
CATEGORIES:Six-Fours
ATTACH;FMTTYPE=image/jpeg:https://lepetitvarois.fr/wp-content/uploads/2018/12/christmas-tree-3823674_960_720.jpg
END:VEVENT
BEGIN:VEVENT
DTSTART;TZID=Europe/Paris:20181209T090000
DTEND;TZID=Europe/Paris:20181209T170000
DTSTAMP:20260421T111419
CREATED:20181201T225230Z
LAST-MODIFIED:20181201T225230Z
UID:8510-1544346000-1544374800@lepetitvarois.fr
SUMMARY:Bourse aux jeux vidéo\, consoles et matériel informatique d’occasion
DESCRIPTION:Bourse aux jeux vidéo\, consoles et matériel informatique d’occasion de 9h à 17h.\nSalle Scarantino\, 45 rue du Stade. SIX FOURS\nEchange\, vente et achat de jeux vidéo\, consoles et autre matériels informatique. Pour les plus petits échange des cartes de jeux (Pokémon\, u-Gi-Oh\, Magic et autres). Buvette sur place. \n> Accès libre.\nKiwanis La Sene Six Fours Saint Mandrier 04 94 34 07 58 / 06 70 45 59 32
URL:https://lepetitvarois.fr/event/bourse-aux-jeux-video-consoles-et-materiel-informatique-doccasion/
CATEGORIES:Six-Fours
ATTACH;FMTTYPE=image/jpeg:https://lepetitvarois.fr/wp-content/uploads/2018/12/nintendo-switch-2154437_960_720.jpg
END:VEVENT
BEGIN:VEVENT
DTSTART;TZID=Europe/Paris:20181210T140000
DTEND;TZID=Europe/Paris:20181210T170000
DTSTAMP:20260421T111419
CREATED:20181202T104247Z
LAST-MODIFIED:20181202T104247Z
UID:8542-1544450400-1544461200@lepetitvarois.fr
SUMMARY:Connaissance du Monde "Le Texas"
DESCRIPTION:Connaissance du Monde « Le Texas » à 14h.\nCinéma Six n’Etoiles\, 48 rue de la République. SIX FOURS\n> 9\,50 € tarif plein / 8 € tarif réduit / Gratuit pour les -12 ans accompagnés d’un parent. Tarifs de groupe pour les scolaires à la demande. \nCinéma Six n’étoiles 04 94 26 58 48
URL:https://lepetitvarois.fr/event/connaissance-du-monde-le-texas/
CATEGORIES:Six-Fours
ATTACH;FMTTYPE=image/jpeg:https://lepetitvarois.fr/wp-content/uploads/2018/10/earth-1365995_960_720.jpg
END:VEVENT
BEGIN:VEVENT
DTSTART;TZID=Europe/Paris:20181211T120000
DTEND;TZID=Europe/Paris:20181211T180000
DTSTAMP:20260421T111419
CREATED:20181202T104335Z
LAST-MODIFIED:20181202T104335Z
UID:8544-1544529600-1544551200@lepetitvarois.fr
SUMMARY:Repas de Noël avec Marcel Musette animateur Dj
DESCRIPTION:Repas de Noël avec Marcel Musette animateur Dj de 12h à 18h.\nSalle Scarantino\, 45 rue du Stade. SIX FOURS\nAu menu : apéritif – gigot d’agneau et ses pommes duchesse\, poêlée de champignons et tomate provençale – fromage et salade – bûche pâtissière\, Clairette de Die\, papillotes et chocolats. Vin rouge\, rosé\, café\, thé. \n> 28 € adhérents / 30 € non-adhérents. Réservation obligatoire.\nAssociation Starmelody 06 14 33 17 76
URL:https://lepetitvarois.fr/event/repas-de-noel-avec-marcel-musette-animateur-dj/
CATEGORIES:Six-Fours
ATTACH;FMTTYPE=image/jpeg:https://lepetitvarois.fr/wp-content/uploads/2018/02/person-2248567_960_720.jpg
END:VEVENT
BEGIN:VEVENT
DTSTART;TZID=Europe/Paris:20181215T180000
DTEND;TZID=Europe/Paris:20181215T200000
DTSTAMP:20260421T111419
CREATED:20181202T112223Z
LAST-MODIFIED:20181202T112223Z
UID:8564-1544896800-1544904000@lepetitvarois.fr
SUMMARY:Défilé de la Saint Nicolas à 18h
DESCRIPTION:Défilé de la Saint Nicolas à 18h.\nCentre-ville. SIX FOURS\nSaint Nicolas sera accompagné d’une parade d’étoiles interstellaires. Départ de la place Gabriel Péri et arrivée sur la place des Poilus avec distribution de bonbons pour les enfants. \n> Gratuit.. Y\nService communication 04 94 34 93 50
URL:https://lepetitvarois.fr/event/defile-de-la-saint-nicolas-a-18h/
CATEGORIES:Six-Fours
ATTACH;FMTTYPE=image/jpeg:https://lepetitvarois.fr/wp-content/uploads/2018/12/santa-clause-3010837_960_720.jpg
END:VEVENT
BEGIN:VEVENT
DTSTART;TZID=Europe/Paris:20181215T183000
DTEND;TZID=Europe/Paris:20181215T203000
DTSTAMP:20260421T111419
CREATED:20181202T112328Z
LAST-MODIFIED:20181202T112328Z
UID:8567-1544898600-1544905800@lepetitvarois.fr
SUMMARY:Conférence "Pourquoi créé-t-on et comment préserve-t-on cette disposition tout au long de la vie ?"
DESCRIPTION:Conférence « Pourquoi créé-t-on et comment préserve-t-on cette disposition tout au long de la vie ? » animée par Hubert Ripoll à 18h30.\nMaison du Patrimoine\, corniche des Iles Paul Ricard\, Le Brusc. SIX FOURS\nPourquoi certains d’entre nous basculent-ils dans la création ? Quel rôle a joué leur entourage ? comment entretiennent-ils leur flamme ? Et jusqu’où sont-ils prêts à aller tout au long de la vie ? \n> Participation libre. Verre de l’amitié et douceurs offerts et vente de livres. \nAssociation Matriochka 04 94 74 95 11 / 06 70 09 01 80
URL:https://lepetitvarois.fr/event/conference-pourquoi-cree-t-on-et-comment-preserve-t-on-cette-disposition-tout-au-long-de-la-vie/
CATEGORIES:Six-Fours
ATTACH;FMTTYPE=image/jpeg:https://lepetitvarois.fr/wp-content/uploads/2018/02/startup-594090_960_720.jpg
END:VEVENT
BEGIN:VEVENT
DTSTART;VALUE=DATE:20181216
DTEND;VALUE=DATE:20181217
DTSTAMP:20260421T111419
CREATED:20181202T112823Z
LAST-MODIFIED:20181202T112823Z
UID:8572-1544918400-1545004799@lepetitvarois.fr
SUMMARY:Animations de Noël au Brusc
DESCRIPTION:Animations de Noël au Brusc\nPort du Brusc. SIX FOURS \nArrivée du Père Noël en pointu sur le port du Brusc. \nDe nombreuses animations égayeront cette matinée : distribution de papillotes et bonbons\, photos avec les enfants sur le traîneau du Père Noël\, déambulation de figurines\, un manège enfantin\, musique et chants de Noël et animation musicale. Distribution de chocolat chaud\, vin chaud et castagnade. Trois stands avec des produits locaux de Noël.  \nComité de liaison des associations bruscaines
URL:https://lepetitvarois.fr/event/animations-de-noel-au-brusc/
CATEGORIES:Six-Fours
ATTACH;FMTTYPE=image/jpeg:https://lepetitvarois.fr/wp-content/uploads/2018/12/christmas-tree-3823674_960_720.jpg
END:VEVENT
BEGIN:VEVENT
DTSTART;VALUE=DATE:20181216
DTEND;VALUE=DATE:20181217
DTSTAMP:20260421T111419
CREATED:20181202T112912Z
LAST-MODIFIED:20181202T112912Z
UID:8574-1544918400-1545004799@lepetitvarois.fr
SUMMARY:Bourse aux jouets
DESCRIPTION:Bourse aux jouets de 8h à 16h.\nPort du Brusc\, quai Saint Pierre. SIX FOURS\n> 10 € l’emplacement sur réservation.\nKiwanis La Seyne Six Fours Saint Mandrier 04 94 34 07 58 / 06 70 45 59 32
URL:https://lepetitvarois.fr/event/bourse-aux-jouets-5/
CATEGORIES:Six-Fours
ATTACH;FMTTYPE=image/jpeg:https://lepetitvarois.fr/wp-content/uploads/2018/02/marbles-1659398_960_720.jpg
END:VEVENT
BEGIN:VEVENT
DTSTART;VALUE=DATE:20181216
DTEND;VALUE=DATE:20181217
DTSTAMP:20260421T111419
CREATED:20181202T113055Z
LAST-MODIFIED:20181202T113055Z
UID:8578-1544918400-1545004799@lepetitvarois.fr
SUMMARY:Animations de Noël
DESCRIPTION:Animations de Noël de 9h à 19h.\nCentre-ville. SIX FOURS\n9h-10h : les bravadeurs vous réveillent (présentation\, histoire et démonstration).\n10h-12h : spectacle de magie avec le « Magic Comedy Show » par Damien illusionniste.\n11h-12h : la Bravade de Six Fours (bravadeurs\, folklore\, animaux\, échassiers\, jongleurs).\n12h-14h : « C’est ça le Var »\, présentation de l’artisanat local (maroquinerie et céramique de Six Fours\, bière de Hyères\, nougats d’Ollioules…).\n14h-15h : spectacle « Haut les jongles ! ».\n15h-16h : spectacle « Histoire des histoires ».\n16h-17h : Les Pères Noëls motards se rassemblent.\n18h-19h : spectacle « Les Lumières de Noël ».\nAssociation des commerçants et artisans « Hello Six Fours » 04 94 25 60 05
URL:https://lepetitvarois.fr/event/animations-de-noel-2/
CATEGORIES:Six-Fours
ATTACH;FMTTYPE=image/jpeg:https://lepetitvarois.fr/wp-content/uploads/2018/12/christmas-bauble-1869989_960_720-2.jpg
END:VEVENT
BEGIN:VEVENT
DTSTART;TZID=Europe/Paris:20181217T150000
DTEND;TZID=Europe/Paris:20181217T170000
DTSTAMP:20260421T111419
CREATED:20181211T101438Z
LAST-MODIFIED:20181211T101438Z
UID:8766-1545058800-1545066000@lepetitvarois.fr
SUMMARY:Six-Fours d'"Antan et de nos jours"
DESCRIPTION:A partir de photos du siècle dernier\, une prise de vue du même endroit au XXIéme et un montage des deux par F.X Cuvelier – les commentaires accompagnant le diaporama seront d’Antoine Perreti et de serge Sappino. \nF.X Cuvelier (membre de l’association)\, a découvert et pratiqué dès son plus jeune âge\, la photographie dans la région nimoise. Après avoir beaucoup voyagé pour des raisons professionnelles en tant qu’ingénieur projets à Paris et dans la région PACA.il s’est installé dans notre région et plus précisemment dans une entreprise\, grossiste en fleurs à Hyères. Il a posé ses valises en Provence en 1996\, et habite Six-Fours-Les-Plages\, depuis 2013.\nMembre du Photo Club Carqueirannais depuis 2010\, il expose en moyenne 2 fois par an. Adhérent à la « Fédération Photographique de France »\, et participe depuis 2012 aux compétitions régionales et nationales. Plusieurs de ces clichés sont parus dans le « Magazine France photographie »
URL:https://lepetitvarois.fr/event/six-fours-dantan-et-de-nos-jours/
CATEGORIES:Six-Fours
ATTACH;FMTTYPE=image/png:https://lepetitvarois.fr/wp-content/uploads/2018/12/Capture-d’écran-2018-12-11-à-11.11.30.png
END:VEVENT
BEGIN:VEVENT
DTSTART;TZID=Europe/Paris:20181217T203000
DTEND;TZID=Europe/Paris:20181217T233000
DTSTAMP:20260421T111419
CREATED:20181202T113402Z
LAST-MODIFIED:20181202T113402Z
UID:8584-1545078600-1545089400@lepetitvarois.fr
SUMMARY:Projection du film "Leto" suivi d'un débat
DESCRIPTION:Projection du film « Leto » suivi d’un débat à 20h30.\nCinéma Six n’Etoiles\, 48 rue de la République. SIX FOURS\nL’Eté est un drame russe de Kirill Serebrennikov sur le jeune Viktor Tsoi et la culture rock underground de Leningrad\, au début des années 1980. Viktor Tsoi est mort en août 1990 à 28 ans dans un accident de voiture. Le film met en vedette la musique du groupe Kino et d’autres groupes rock russes comme Zoopark.\n> Tarifs habituels du Six N’étoiles. Tarifs abonnée pour les membres de l’association Lumières du Sud.\nLumière(s) du Sud 06 13 30 62 40
URL:https://lepetitvarois.fr/event/projection-du-film-leto-suivi-dun-debat/
CATEGORIES:Six-Fours
ATTACH;FMTTYPE=image/jpeg:https://lepetitvarois.fr/wp-content/uploads/2018/06/audience-828584_960_720.jpg
END:VEVENT
BEGIN:VEVENT
DTSTART;TZID=Europe/Paris:20181219T150000
DTEND;TZID=Europe/Paris:20181219T170000
DTSTAMP:20260421T111419
CREATED:20181202T114209Z
LAST-MODIFIED:20181202T114209Z
UID:8586-1545231600-1545238800@lepetitvarois.fr
SUMMARY:Spectacle de Noël "L'Arbre des Contes" pour les enfants
DESCRIPTION:Spectacle de Noël « L’Arbre des Contes » pour les enfants à 15h.\nEspace culturel André Malraux\, 100 av. de Lattre de Tassigny. SIX FOURS\n> Gratuit. Pas de réservation (dans la limite des places disponibles).\nComité officiel des fêtes 06 62 03 11 96
URL:https://lepetitvarois.fr/event/spectacle-de-noel-larbre-des-contes-pour-les-enfants/
CATEGORIES:Six-Fours
ATTACH;FMTTYPE=image/jpeg:https://lepetitvarois.fr/wp-content/uploads/2018/01/books-2863724_960_720.jpg
END:VEVENT
BEGIN:VEVENT
DTSTART;TZID=Europe/Paris:20181220T143000
DTEND;TZID=Europe/Paris:20181220T170000
DTSTAMP:20260421T111419
CREATED:20181202T114317Z
LAST-MODIFIED:20181202T114317Z
UID:8588-1545316200-1545325200@lepetitvarois.fr
SUMMARY:Conférence d'histoire de l'art "Millet et Corot\, deux visions de la femme et de l'homme dans la nature"
DESCRIPTION:Conférence d’histoire de l’art « Millet et Corot\, deux visions de la femme et de l’homme dans la nature » à 14h30.\nMaison du Cygne\, bois de la Coudoulière. SIX FOURS\n> Réservation obligatoire. \nAssociation Cultures Ecritures Peintures 04 94 91 52 95
URL:https://lepetitvarois.fr/event/conference-dhistoire-de-lart-millet-et-corot-deux-visions-de-la-femme-et-de-lhomme-dans-la-nature/
CATEGORIES:Six-Fours
ATTACH;FMTTYPE=image/jpeg:https://lepetitvarois.fr/wp-content/uploads/2018/12/color-3256055_960_720.jpg
END:VEVENT
BEGIN:VEVENT
DTSTART;TZID=Europe/Paris:20181221T080000
DTEND;TZID=Europe/Paris:20181221T123000
DTSTAMP:20260421T111419
CREATED:20181202T114432Z
LAST-MODIFIED:20181202T114432Z
UID:8590-1545379200-1545395400@lepetitvarois.fr
SUMMARY:Collecte de sang
DESCRIPTION:Collecte de sang de 8h à 12h30.\nHalle des sports du Verger\, 6 av. Maréchal de Lattre de Tassigny. SIX FOURS\nEtablissement français du sang 04 98 08 08 56
URL:https://lepetitvarois.fr/event/collecte-de-sang-17/
CATEGORIES:Six-Fours
ATTACH;FMTTYPE=image/jpeg:https://lepetitvarois.fr/wp-content/uploads/2018/09/balloon-1046693_960_720.jpg
END:VEVENT
END:VCALENDAR