BEGIN:VCALENDAR
VERSION:2.0
PRODID:-//Le Petit Varois.Fr - ECPv6.0.10//NONSGML v1.0//EN
CALSCALE:GREGORIAN
METHOD:PUBLISH
X-WR-CALNAME:Le Petit Varois.Fr
X-ORIGINAL-URL:https://lepetitvarois.fr
X-WR-CALDESC:évènements pour Le Petit Varois.Fr
REFRESH-INTERVAL;VALUE=DURATION:PT1H
X-Robots-Tag:noindex
X-PUBLISHED-TTL:PT1H
BEGIN:VTIMEZONE
TZID:Europe/Paris
BEGIN:DAYLIGHT
TZOFFSETFROM:+0100
TZOFFSETTO:+0200
TZNAME:CEST
DTSTART:20190331T010000
END:DAYLIGHT
BEGIN:STANDARD
TZOFFSETFROM:+0200
TZOFFSETTO:+0100
TZNAME:CET
DTSTART:20191027T010000
END:STANDARD
END:VTIMEZONE
BEGIN:VEVENT
DTSTART;TZID=Europe/Paris:20190110T193000
DTEND;TZID=Europe/Paris:20190110T213000
DTSTAMP:20260421T093754
CREATED:20190108T142727Z
LAST-MODIFIED:20190108T142727Z
UID:8961-1547148600-1547155800@lepetitvarois.fr
SUMMARY:Café philo "Réflexions sur la guerre"
DESCRIPTION:Café philo « Réflexions sur la guerre » animé par Albert Hadida à 19h30. Entrée sans réservation. 5 € la séance. Le Mont Salva\, ch. du Mont Salva\, Le Brusc. SIX FOURS Le Rendez-vous des Idées 06 38 40 07 70 jm.berenguier@wash-perle.com
URL:https://lepetitvarois.fr/event/cafe-philo-reflexions-sur-la-guerre/
CATEGORIES:Six-Fours
ATTACH;FMTTYPE=image/jpeg:https://lepetitvarois.fr/wp-content/uploads/2018/10/startup-594091_960_720.jpg
END:VEVENT
BEGIN:VEVENT
DTSTART;TZID=Europe/Paris:20190111T180000
DTEND;TZID=Europe/Paris:20190111T203000
DTSTAMP:20260421T093754
CREATED:20190108T142835Z
LAST-MODIFIED:20190108T142835Z
UID:8963-1547229600-1547238600@lepetitvarois.fr
SUMMARY:Voeux du maire de Six-Fours à la population
DESCRIPTION:Vœux du Maire de Six Fours à la population à 18h. Halle des sports du Verger\, 6 av. Maréchal de Lattre de Tassigny. SIX FOURS. www.ville-six-fours.fr Service communication 04 94 34 93 50
URL:https://lepetitvarois.fr/event/voeux-du-maire-de-six-fours-a-la-population/
CATEGORIES:Six-Fours
ATTACH;FMTTYPE=image/jpeg:https://lepetitvarois.fr/wp-content/uploads/2019/01/20181226154801176.jpg
END:VEVENT
BEGIN:VEVENT
DTSTART;TZID=Europe/Paris:20190111T200000
DTEND;TZID=Europe/Paris:20190111T223000
DTSTAMP:20260421T093754
CREATED:20190108T143142Z
LAST-MODIFIED:20190108T143142Z
UID:8966-1547236800-1547245800@lepetitvarois.fr
SUMMARY:Projection « Au cœur de l’expo : Caravage à Rome »
DESCRIPTION:Projection « Au cœur de l’expo : Caravage à Rome » à 20h. Six n’Étoiles\, 48 rue de la République. SIX FOURS Des tableaux comme vous ne les avez jamais vus expliqués par les meilleurs spécialistes. Tarifs habituels / 5\,90 € prix préférentiel en vente à l’Office de Tourisme Six n’Étoiles 04 94 26 58 48 www.sixnetoiles.fr
URL:https://lepetitvarois.fr/event/projection-au-coeur-de-lexpo-caravage-a-rome/
CATEGORIES:Six-Fours
ATTACH;FMTTYPE=image/jpeg:https://lepetitvarois.fr/wp-content/uploads/2018/09/analogue-2974647_960_720.jpg
END:VEVENT
BEGIN:VEVENT
DTSTART;TZID=Europe/Paris:20190114T140000
DTEND;TZID=Europe/Paris:20190114T170000
DTSTAMP:20260421T093754
CREATED:20190108T143805Z
LAST-MODIFIED:20190108T144447Z
UID:8974-1547474400-1547485200@lepetitvarois.fr
SUMMARY:Connaissance du monde "La Patagonie"
DESCRIPTION:  \nConnaissance du monde « La Patagonie » à 14h. Cinéma Six n’Etoiles\, 48 rue de la République. Ce film\, tourné sur des terres intactes de la Patagonie\, aborde l’évolution du lien entre l’homme et cette région hors de l’ordinaire. A la lisiere du monde Au fil du temps\, le rapport des hommes à la nature patagonienne a évolué : à l’origine elle demeure un obstacle à contourner pour les navigateurs cinglant vers le Pacifique ; trois siècles plus tard elle est considérée comme un immense territoire sauvage à dompter pour les jeunes états argentins et chiliens avant de devenir un lieu de spectacles et d’observations pour les amoureux de la nature. \n> 9\,50 € tarif plein / 8 € tarif réduit / Gratuit pour les -12 ans accompagnés d’un parent. Tarifs de groupe pour les scolaires à la demande.  Cinéma Six n’étoiles 04 94 26 58 48 www.sixnetoiles.fr  \n  \n  \nCinéma Six n’Étoiles\, 48 rue de la République. SIX FOURS > 9\,50 € tarif plein / 8 € tarif réduit / Gratuit pour les -12 ans accompagnés. Tarifs de groupes scolaires à la demande. Six n’étoiles 04 94 26 58 48 www.sixnetoiles.fr
URL:https://lepetitvarois.fr/event/connaissance-du-monde-la-patagonie/
CATEGORIES:Six-Fours
ATTACH;FMTTYPE=image/jpeg:https://lepetitvarois.fr/wp-content/uploads/2018/10/cinema-64154_960_720.jpg
END:VEVENT
BEGIN:VEVENT
DTSTART;TZID=Europe/Paris:20190114T150000
DTEND;TZID=Europe/Paris:20190114T170000
DTSTAMP:20260421T093754
CREATED:20190108T144346Z
LAST-MODIFIED:20190108T144346Z
UID:8976-1547478000-1547485200@lepetitvarois.fr
SUMMARY:Vidéo projection : "Les Cyclades"
DESCRIPTION:Vidéo projection : « Les Cyclades » de Claudia Paul\, « Athènes » de Blanche Agullo et « Isle sur la Sorgue » de René Boitel à 15h.  \nA partir de 15h –« Isle sur la Sorgue » de René Boitel. Durée : 5mn. L’Isle sur la Sorgue tient son nom de la rivière qui la traverse\, suivons la Sorgue de sa source à L’Isle sur la Sorgue. « Athènes » de Blanche Agullo. Durée : 20 mn. Athènes moderne\, antique\, un voyage au coeur de la tradition\, de la culture\, de la musique\, de l’histoire et de la mémoire de l’humanité. « Les Cyclades » de Claudia Paul. Les Cyclades ; des pierres précieuses parsemées au coeur de la mer hellénique. Organisé par l’association « Voyages et  Loisirs Culturels. Entrée gratuite.
URL:https://lepetitvarois.fr/event/video-projection-les-cyclades/
CATEGORIES:Six-Fours
ATTACH;FMTTYPE=image/jpeg:https://lepetitvarois.fr/wp-content/uploads/2018/09/analogue-2974647_960_720.jpg
END:VEVENT
BEGIN:VEVENT
DTSTART;TZID=Europe/Paris:20190116T153000
DTEND;TZID=Europe/Paris:20190116T173000
DTSTAMP:20260421T093754
CREATED:20190108T144701Z
LAST-MODIFIED:20190108T144701Z
UID:8979-1547652600-1547659800@lepetitvarois.fr
SUMMARY:Atelier de cuisine pour les enfants
DESCRIPTION:Bavarois arc en ciel – De 15h30 à 17h30 – L’atelier comprend : prêt du matériel\, dégustation sur place\, la recette\, la toque offerte\, prêt du tablier et votre enfant repart avec sa création. Sensibiliser l’enfant à la cuisine et son histoire tout en s’amusant et développer son savoir être et savoir faire à travers les créations culinaires.\nToutes les denrées sont issues de l’agriculture biologique de nos régions et certifiées commerce équitable. 06 79 02 10 18 – 3300 avenue John Kennedy – Centre commercial Kennedy
URL:https://lepetitvarois.fr/event/atelier-de-cuisine-pour-les-enfants/
CATEGORIES:Six-Fours
ATTACH;FMTTYPE=image/jpeg:https://lepetitvarois.fr/wp-content/uploads/2019/01/child-930103_960_720.jpg
END:VEVENT
BEGIN:VEVENT
DTSTART;TZID=Europe/Paris:20190117T143000
DTEND;TZID=Europe/Paris:20190117T170000
DTSTAMP:20260421T093754
CREATED:20190108T145005Z
LAST-MODIFIED:20190108T145005Z
UID:8982-1547735400-1547744400@lepetitvarois.fr
SUMMARY:La rencontre de la nature et de la vie industrielle.
DESCRIPTION:À 14 h30 :  Impressionisme et vie moderne: Gustave Caillebotte et Frédéric Bazille. La rencontre de la nature et de la vie industrielle. Inscription : 15€\, les 10 conférences d’histoire de l’art 90€.  
URL:https://lepetitvarois.fr/event/la-rencontre-de-la-nature-et-de-la-vie-industrielle/
CATEGORIES:Six-Fours
ATTACH;FMTTYPE=image/jpeg:https://lepetitvarois.fr/wp-content/uploads/2018/02/paint-2940513_960_720.jpg
END:VEVENT
BEGIN:VEVENT
DTSTART;TZID=Europe/Paris:20190117T193000
DTEND;TZID=Europe/Paris:20190117T220000
DTSTAMP:20260421T093754
CREATED:20190108T145116Z
LAST-MODIFIED:20190108T145116Z
UID:8984-1547753400-1547762400@lepetitvarois.fr
SUMMARY:Opéra "Carmen"
DESCRIPTION:À 19h30 : Opéra « Carmen »\, opéra en 4 actes. Musique de Georges Bizet enregistré à l’Opéra Bastille en juillet 2017 (en Langue française Sous-titré français) Direction musicale Sir Mark Elder Mise en scène Calixto Bieito
URL:https://lepetitvarois.fr/event/opera-carmen/
CATEGORIES:Six-Fours
ATTACH;FMTTYPE=image/jpeg:https://lepetitvarois.fr/wp-content/uploads/2018/06/theatre-83862_960_720.jpg
END:VEVENT
BEGIN:VEVENT
DTSTART;TZID=Europe/Paris:20190120T150000
DTEND;TZID=Europe/Paris:20190120T170000
DTSTAMP:20260421T093754
CREATED:20190108T145240Z
LAST-MODIFIED:20190108T145240Z
UID:8986-1547996400-1548003600@lepetitvarois.fr
SUMMARY:Loto du Comité des Fêtes de Six Fours
DESCRIPTION:Loto du Comité des Fêtes de Six Fours à 15h00 – Espace culturel André Malraux. Galette des rois et cidre offerts. De nombreux lots à gagner ! Venez nombreux. Comité officiel des fêtes – 06 62 03 11 96
URL:https://lepetitvarois.fr/event/loto-du-comite-des-fetes-de-six-fours/
CATEGORIES:Six-Fours
ATTACH;FMTTYPE=image/jpeg:https://lepetitvarois.fr/wp-content/uploads/2018/12/47146727_2408017149425928_791952447093342208_n.jpg
END:VEVENT
BEGIN:VEVENT
DTSTART;TZID=Europe/Paris:20190120T160000
DTEND;TZID=Europe/Paris:20190120T190000
DTSTAMP:20260421T093754
CREATED:20190108T145344Z
LAST-MODIFIED:20190108T145344Z
UID:8988-1548000000-1548010800@lepetitvarois.fr
SUMMARY:Concert Caritatif
DESCRIPTION:Par les chorales « La Canatrelle » du Revest et « Tutti Canti » de Carqueiranne à 16h00 – Eglise Sainte Anne. Chants sacré et variété française et d’ailleurs interprétés par ces deux chorales. Organisateur \nKiwanis La Seyne Six Fours Saint Mandrier – Port : 06 13 49 08 98
URL:https://lepetitvarois.fr/event/concert-caritatif/
CATEGORIES:Six-Fours
ATTACH;FMTTYPE=image/jpeg:https://lepetitvarois.fr/wp-content/uploads/2018/06/singer-579923_960_720.jpg
END:VEVENT
BEGIN:VEVENT
DTSTART;TZID=Europe/Paris:20190121T180000
DTEND;TZID=Europe/Paris:20190121T213000
DTSTAMP:20260421T093754
CREATED:20190108T154740Z
LAST-MODIFIED:20190108T154740Z
UID:9029-1548093600-1548106200@lepetitvarois.fr
SUMMARY:Soirée spéciale à l’occasion du Festival Télérama
DESCRIPTION:Soirée  spéciale à l’occasion du Festival Télérama Cinéma Six n’Etoiles\, 48 rue de la République. SIX FOURS 18h30 : Coby (Vost) 21h00 : Girl (Vost) > 8 € les 2 films + buffet offert entre les 2 séances Tarif habituel pour Coby et 3\,50 € pour Girl. Réservation 04 94 26 58 48 www.sixnetoiles.fr
URL:https://lepetitvarois.fr/event/soiree-speciale-a-loccasion-du-festival-telerama/
CATEGORIES:Six-Fours
ATTACH;FMTTYPE=image/jpeg:https://lepetitvarois.fr/wp-content/uploads/2018/06/audience-828584_960_720.jpg
END:VEVENT
BEGIN:VEVENT
DTSTART;TZID=Europe/Paris:20190123T153000
DTEND;TZID=Europe/Paris:20190123T173000
DTSTAMP:20260421T093754
CREATED:20190108T145520Z
LAST-MODIFIED:20190108T145520Z
UID:8990-1548257400-1548264600@lepetitvarois.fr
SUMMARY:Atelier de cuisine pour les enfants
DESCRIPTION:Gâteau au chocolat\, miroir caramel de 15h30 à 17h30 – L’atelier comprend : prêt du matériel\, dégustation sur place\, la recette\, la toque offerte\, prêt du tablier et votre enfant repart avec sa  Sensibiliser l’enfant à la cuisine et son histoire tout en s’amusant et développer son savoir être et savoir faire à travers les créations culinaires. Toutes les denrées sont issues de l’agriculture biologique de nos régions et certifiées commerce équitable – 06 79 02 10 18 – 3300 avenue John Kennedy – Centre commercial Kennedy
URL:https://lepetitvarois.fr/event/atelier-de-cuisine-pour-les-enfants-2/
CATEGORIES:Six-Fours
ATTACH;FMTTYPE=image/jpeg:https://lepetitvarois.fr/wp-content/uploads/2019/01/child-930103_960_720.jpg
END:VEVENT
BEGIN:VEVENT
DTSTART;TZID=Europe/Paris:20190125T203000
DTEND;TZID=Europe/Paris:20190125T223000
DTSTAMP:20260421T093754
CREATED:20190108T145642Z
LAST-MODIFIED:20190108T145642Z
UID:8992-1548448200-1548455400@lepetitvarois.fr
SUMMARY:Carte Blanche à l'impro !
DESCRIPTION:À 20h30. Théâtre Daudet. Donnez-leur un thème\, un style ou un lieu… Les comédiens feront d’une page blanche un véritable spectacle improvisé. Au menu\, une farandole d’improvisations\, une brochette de fous rires\, un florilège de rebondissements !!! 12 € / 10 € réduit. Billetterie en vente dans nos accueils.\nFantaisie Prod 04 94 03 73 05 www.fantaisie-prod.com
URL:https://lepetitvarois.fr/event/carte-blanche-a-limpro/
CATEGORIES:Six-Fours
ATTACH;FMTTYPE=image/jpeg:https://lepetitvarois.fr/wp-content/uploads/2018/06/young-791849_960_720.jpg
END:VEVENT
BEGIN:VEVENT
DTSTART;TZID=Europe/Paris:20190126T203000
DTEND;TZID=Europe/Paris:20190126T230000
DTSTAMP:20260421T093754
CREATED:20190108T145752Z
LAST-MODIFIED:20190108T145752Z
UID:8994-1548534600-1548543600@lepetitvarois.fr
SUMMARY:Théâtre : L’hypno Conference
DESCRIPTION:20h30 – Salle Daudet – L’hypno Conference. «Enfin un spectacle drôle et bienveillant sur un sujet sérieux : l’hypnose ! Loin des standards classiques du genre\, remplie d’autodérision et de démystification\, vous y apprendrez que l’hypnose n’existe pas … en tout cas pas comme vous l’imaginez. Alain Parra et Stéphane Guyan\, thérapeutes depuis plus de 10 ans\, ont une seule devise : « changer votre monde\, change le monde ». Ils ont décidé de rendre accessible en toute légèreté leur vision de l’hypnose et leur philosophie afin de replacer le pouvoir où il doit être vraiment : chez vous… quitte à faire grincer quelques dents.\nVenez vivre une expérience unique et participer à un voyage entre frissons et stupéfactions ! Ne ratez pas cette opportunité exceptionnelle de changer VOTRE monde.
URL:https://lepetitvarois.fr/event/theatre-lhypno-conference/
CATEGORIES:Six-Fours
ATTACH;FMTTYPE=image/jpeg:https://lepetitvarois.fr/wp-content/uploads/2018/02/wells-theatre-210914_960_720.jpg
END:VEVENT
BEGIN:VEVENT
DTSTART;TZID=Europe/Paris:20190128T140000
DTEND;TZID=Europe/Paris:20190128T170000
DTSTAMP:20260421T093754
CREATED:20190108T145923Z
LAST-MODIFIED:20190108T145923Z
UID:8996-1548684000-1548694800@lepetitvarois.fr
SUMMARY:Conférence : Merveilles et splendeurs du Sichuan
DESCRIPTION:À 14h : « CHINE » – Merveilles et splendeurs du Sichuan. Le Sichuan est une province du sud-ouest de la Chine. D’une superficie plus grande que la France\, elle est également deux fois plus peuplée. \nLe film nous fait traverser l’histoire du Sichuan\, qui débute avec la culture du bronze de la civilisation Sanxingdui. Cette dernière donnera naissance à d’imposantes statues géantes et masques de culte.  Les archéologues internationaux l’ont qualifiée de « Neuvième Merveille du monde ». Deux grandes villes dominent le Sichuan. Il y a d’abord Chengdu\, la capitale historique qui voue un amour inégalé aux fleurs\, un culte aux poètes et abrite de nombreuses maisons de thé. Il y a aussi Chongqing\, surnommée la ville-montagne qui est aujourd’hui la plus grande municipalité au monde avec plus de 30 millions d’habitants sur 82 000 km2. A travers montagnes sacrées et rivières turquoises\, villes ultra-modernes et villages traditionnels\, parmi les pandas et les gnous\, le film nous emmène à la découverte de l’une des provinces les plus merveilleuses de Chine. Connaissance du monde au cinéma Six n’étoiles
URL:https://lepetitvarois.fr/event/conference-merveilles-et-splendeurs-du-sichuan/
CATEGORIES:Six-Fours
ATTACH;FMTTYPE=image/jpeg:https://lepetitvarois.fr/wp-content/uploads/2019/01/agriculture-1807576_960_720.jpg
END:VEVENT
BEGIN:VEVENT
DTSTART;TZID=Europe/Paris:20190130T153000
DTEND;TZID=Europe/Paris:20190130T173000
DTSTAMP:20260421T093754
CREATED:20190108T150103Z
LAST-MODIFIED:20190108T150103Z
UID:8999-1548862200-1548869400@lepetitvarois.fr
SUMMARY:Atelier de Cuisine pour les enfants
DESCRIPTION:Les cannellonis – De 15h30 à 17h30 – L’atelier comprend : prêt du matériel\, dégustation sur place\, la recette\, la toque offerte\, prêt du tablier et votre enfant repart avec sa création. Sensibiliser l’enfant à la cuisine et son histoire tout en s’amusant et développer son savoir être et savoir faire à travers les créations culinaires. Toutes les denrées sont issues de l’agriculture biologique de nos régions et certifiées commerce équitable. \n06 79 02 10 18 – 3300 avenue John Kennedy – Centre commercial Kennedy
URL:https://lepetitvarois.fr/event/atelier-de-cuisine-pour-les-enfants-3/
CATEGORIES:Six-Fours
ATTACH;FMTTYPE=image/jpeg:https://lepetitvarois.fr/wp-content/uploads/2019/01/child-930103_960_720.jpg
END:VEVENT
BEGIN:VEVENT
DTSTART;TZID=Europe/Paris:20190131T143000
DTEND;TZID=Europe/Paris:20190131T170000
DTSTAMP:20260421T093754
CREATED:20190108T150206Z
LAST-MODIFIED:20190108T150206Z
UID:9001-1548945000-1548954000@lepetitvarois.fr
SUMMARY:Eugène Delacroix\, Paul Gauguin et Toulouse Lautrec : L'exotisme et la « marginalité » sources de la création ?
DESCRIPTION:À 14 h30 –  Eugène Delacroix\, Paul Gauguin et Toulouse Lautrec : L’exotisme et la « marginalité » sources de la création ?  Inscription : 15€\, les 10 conférences d’histoire de l’art 90€.
URL:https://lepetitvarois.fr/event/eugene-delacroix-paul-gauguin-et-toulouse-lautrec-lexotisme-et-la-marginalite-sources-de-la-creation/
CATEGORIES:Six-Fours
ATTACH;FMTTYPE=image/jpeg:https://lepetitvarois.fr/wp-content/uploads/2018/01/art-1840481_960_720.jpg
END:VEVENT
BEGIN:VEVENT
DTSTART;TZID=Europe/Paris:20190131T203000
DTEND;TZID=Europe/Paris:20190131T233000
DTSTAMP:20260421T093754
CREATED:20190108T150348Z
LAST-MODIFIED:20190108T150348Z
UID:9003-1548966600-1548977400@lepetitvarois.fr
SUMMARY:Ciné-Philo : " Les Nouveaux Sauvages"
DESCRIPTION: » Les Nouveaux Sauvages » à 20h30 au Cinéma Six n’Etoiles. Présentation succincte du film et des thématiques philosophiques soulevées par le film en début de Séance puis débat en fin de séance.\nAnimé par Noémie Dumas\, directrice du cinéma et Silvia Berja\, philosophe. Film argentino-espagnol de Damian Szifron\, sorti en 2014. Le « pétage de plomb » et donc la violence au sein d’une société. C’est une question qui a trait à la philosophie politique. En effet\, la violence est un thème clé en philosophie politique. Physique ou symbolique\, individuelle ou étatique\, la violence est un concept protéiforme. Cinéma Six n’Etoiles 04 94 26 58 48
URL:https://lepetitvarois.fr/event/cine-philo-les-nouveaux-sauvages/
CATEGORIES:Six-Fours
ATTACH;FMTTYPE=image/jpeg:https://lepetitvarois.fr/wp-content/uploads/2019/01/images.jpeg
END:VEVENT
END:VCALENDAR