BEGIN:VCALENDAR
VERSION:2.0
PRODID:-//Le Petit Varois.Fr - ECPv6.0.10//NONSGML v1.0//EN
CALSCALE:GREGORIAN
METHOD:PUBLISH
X-ORIGINAL-URL:https://lepetitvarois.fr
X-WR-CALDESC:évènements pour Le Petit Varois.Fr
REFRESH-INTERVAL;VALUE=DURATION:PT1H
X-Robots-Tag:noindex
X-PUBLISHED-TTL:PT1H
BEGIN:VTIMEZONE
TZID:Europe/Paris
BEGIN:DAYLIGHT
TZOFFSETFROM:+0100
TZOFFSETTO:+0200
TZNAME:CEST
DTSTART:20190331T010000
END:DAYLIGHT
BEGIN:STANDARD
TZOFFSETFROM:+0200
TZOFFSETTO:+0100
TZNAME:CET
DTSTART:20191027T010000
END:STANDARD
END:VTIMEZONE
BEGIN:VEVENT
DTSTART;TZID=Europe/Paris:20190201T200000
DTEND;TZID=Europe/Paris:20190201T220000
DTSTAMP:20260421T080358
CREATED:20190123T203222Z
LAST-MODIFIED:20190123T203222Z
UID:9238-1549051200-1549058400@lepetitvarois.fr
SUMMARY:Conférence "Être libre\, le grand chantier de l’existence"
DESCRIPTION:Conférence « Être libre\, le grand chantier de l’existence » avec Mathieu Ricard\, Alexandre Jollien et Christophe André retransmise en direct depuis le Palais des Congrès de Paris à 20h.\nCinéma Six n’étoiles\, 48 rue de la République. SIX FOURS\n> 10 € / 8 € pour les -16 ans.\nCinéma Six n’étoiles 04 94 26 58 48
URL:https://lepetitvarois.fr/event/conference-etre-libre-le-grand-chantier-de-lexistence/
CATEGORIES:Six-Fours
ATTACH;FMTTYPE=image/jpeg:https://lepetitvarois.fr/wp-content/uploads/2018/02/startup-594090_960_720.jpg
END:VEVENT
BEGIN:VEVENT
DTSTART;TZID=Europe/Paris:20190202T080000
DTEND;TZID=Europe/Paris:20190202T120000
DTSTAMP:20260421T080358
CREATED:20190123T203600Z
LAST-MODIFIED:20190123T203600Z
UID:9244-1549094400-1549108800@lepetitvarois.fr
SUMMARY:Brocante
DESCRIPTION:Brocante de 8h à 11h30.\nSecours Catholique\, 40 Boucle du Stade. SIX FOURS\nVenez faire des affaires : vêtements hommes\, femmes\, enfants\, chaussures\, jouets\, petits appareils ménagers… \nSecours Catholique 04 94 34 26 32
URL:https://lepetitvarois.fr/event/brocante-5/
CATEGORIES:Six-Fours
ATTACH;FMTTYPE=image/jpeg:https://lepetitvarois.fr/wp-content/uploads/2018/06/flea-market-1883693_960_720.jpg
END:VEVENT
BEGIN:VEVENT
DTSTART;TZID=Europe/Paris:20190203T153000
DTEND;TZID=Europe/Paris:20190203T170000
DTSTAMP:20260421T080358
CREATED:20190123T204611Z
LAST-MODIFIED:20190123T204611Z
UID:9258-1549207800-1549213200@lepetitvarois.fr
SUMMARY:Contes et histoires pour enfants
DESCRIPTION:Contes et histoires pour enfants avec les conteuses du Jardin des Contes à 15h30.\nMaison du Patrimoine\, corniche des Iles Paul Ricard\, Le Brusc. SIX FOURS\n> 5 € / Gratuit pour -6 ans. Goûter offert.\nLe Jardin des Contes (Association)  06 87 87 77 30
URL:https://lepetitvarois.fr/event/contes-et-histoires-pour-enfants/
CATEGORIES:Six-Fours
ATTACH;FMTTYPE=image/jpeg:https://lepetitvarois.fr/wp-content/uploads/2018/10/books-1163695_960_720.jpg
END:VEVENT
BEGIN:VEVENT
DTSTART;TZID=Europe/Paris:20190204T150000
DTEND;TZID=Europe/Paris:20190204T170000
DTSTAMP:20260421T080358
CREATED:20190123T204830Z
LAST-MODIFIED:20190123T204830Z
UID:9260-1549292400-1549299600@lepetitvarois.fr
SUMMARY:Vidéo projections : "Carnaval de Nice et fête des citrons à Menton"
DESCRIPTION:Vidéo projections : « Carnaval de Nice et fête des citrons à Menton » de Jean-Marie Grange\, « Puy de Lumières » de Claude Furling et « La Birmanie » de Michel Rommes à 15h.\nThéâtre Daudet\, 100 av. du Maréchal de Lattre de Tassigny. SIX FOURS\n> Entrée libre.\nVoyages loisirs culturels section cercle vidéo 06 47 50 57 26
URL:https://lepetitvarois.fr/event/video-projections-carnaval-de-nice-et-fete-des-citrons-a-menton/
CATEGORIES:Six-Fours
ATTACH;FMTTYPE=image/jpeg:https://lepetitvarois.fr/wp-content/uploads/2019/01/tea-556777_960_720.jpg
END:VEVENT
BEGIN:VEVENT
DTSTART;TZID=Europe/Paris:20190204T203000
DTEND;TZID=Europe/Paris:20190204T223000
DTSTAMP:20260421T080358
CREATED:20190123T204934Z
LAST-MODIFIED:20190123T204934Z
UID:9263-1549312200-1549319400@lepetitvarois.fr
SUMMARY:Ciné rencontre "Prochain arrêt Utopia" film documentaire d'Apostolos Karakasis
DESCRIPTION:Ciné rencontre « Prochain arrêt Utopia » film documentaire d’Apostolos Karakasis suivie d’une rencontre avec le producteur grec du film à 20h30. \nCinéma Six n’étoiles\, 48 rue de la République. SIX FOURS\n> Tarifs habituels du cinéma.\nLumière(s) du Sud  06 13 30 62 40 / Cinéma Six n’étoiles 04 94 26 58 48
URL:https://lepetitvarois.fr/event/cine-rencontre-prochain-arret-utopia-film-documentaire-dapostolos-karakasis/
CATEGORIES:Six-Fours
ATTACH;FMTTYPE=image/jpeg:https://lepetitvarois.fr/wp-content/uploads/2018/06/audience-828584_960_720.jpg
END:VEVENT
BEGIN:VEVENT
DTSTART;TZID=Europe/Paris:20190206T183000
DTEND;TZID=Europe/Paris:20190206T200000
DTSTAMP:20260421T080358
CREATED:20190123T205734Z
LAST-MODIFIED:20190123T205734Z
UID:9271-1549477800-1549483200@lepetitvarois.fr
SUMMARY:Conversation anglaise
DESCRIPTION:Conversation anglaise de 18h30 à 20h.\nLe Mont Salva\, ch. du Mont Salva\, Le Brusc. SIX FOURS\n> Gratuit. Consommation minimum de 3 €.\nSix-Fours English 06 98 46 27 65 masstguir@orange.fr
URL:https://lepetitvarois.fr/event/conversation-anglaise-9/
CATEGORIES:Six-Fours
ATTACH;FMTTYPE=image/jpeg:https://lepetitvarois.fr/wp-content/uploads/2018/04/american-1209605_960_720.jpg
END:VEVENT
BEGIN:VEVENT
DTSTART;VALUE=DATE:20190207
DTEND;VALUE=DATE:20190216
DTSTAMP:20260421T080358
CREATED:20190201T205617Z
LAST-MODIFIED:20190201T205617Z
UID:9336-1549497600-1550275199@lepetitvarois.fr
SUMMARY:Festival international Sand et Chopin en Seyne 1ère édition hivernal
DESCRIPTION:Festival international Sand et Chopin en Seyne 1ère édition hivernal \nCasino Joa de LA SEYNE et Cinéma Six n’étoiles de SIX FOURS \nJeudi 7 à 20h30\, cinéma Six n’étoiles : projection du film « Le Roman de Marguerite Gautier » réalisé par Georges Cukor avec Greta Garbo et Lionel Barrymore. \nLundi 11 à 14h\, cinéma Six n’étoiles : ciné goûter « Le Piano magique » par Gabriel Jacquel\, Anne Kristin Berge et Martin Clapp.\n> 7\,90 € / 5\,90 € tarif festival (sur présentation d’un justificatif pour une soirée du festival 2019) / 6\,20 € tarif réduit (C.E.\, enseignants\, chômeurs\, étudiants\, jeunes) / 4 € tarif enfant -12 ans. Réservation conseillée. \nJeudi 14 à 17h30\, casino Joa : conférence « De Marie à Violetta\, d’Isidora à Marguerite : images de quelques courtisanes entre réalité et fiction » par Gilbert Paoli.\n> Entrée libre sur réservation au 06 10 89 75 23 / 04 94 94 18 91. \nJeudi 14 à 21h\, casino Joa : spectacle « Moi… la Traviata » avec Chrystelle Di Marco (soprano et comédienne) et Virginie Martineau (piano). \nVendredi 15 à 21h\, casino Joa : concert « Chopin et la Dame aux Camélias » avec Naruhiko Kawaguchi (piano) et Gabriel Boz (lecture)\n> 25 € / 20 € tarif réduit (C.E.\, enseignants\, chômeurs\, étudiants\, jeunes). 35 € carré or avec coupe de champagne. Réservation conseillée.\nCasino Joa 04 94 29 16 67 www.joa.fr/casinos/la-seyne / Cinéma Six n’étoiles 04 94 26 58 48
URL:https://lepetitvarois.fr/event/festival-international-sand-et-chopin-en-seyne-1ere-edition-hivernal/
CATEGORIES:La Seyne,Six-Fours
ATTACH;FMTTYPE=image/jpeg:https://lepetitvarois.fr/wp-content/uploads/2019/02/800x600_35733-ls_affiche_festival_sand_et_chopin_hivernal_7_au_15_fevrier19.jpg
END:VEVENT
BEGIN:VEVENT
DTSTART;TZID=Europe/Paris:20190207T190000
DTEND;TZID=Europe/Paris:20190207T210000
DTSTAMP:20260421T080358
CREATED:20190201T205248Z
LAST-MODIFIED:20190201T205248Z
UID:9334-1549566000-1549573200@lepetitvarois.fr
SUMMARY:Café philo "L'éducation et ses enjeux politiques et sociétaux" animé par Silvia Berja
DESCRIPTION:Café philo « L’éducation et ses enjeux politiques et sociétaux » animé par Silvia Berja à 19h30.\nLe Mont Salva\, ch. du Mont Salva\, Le Brusc. SIX FOURS\n> Entrée sans réservation. 5 € la séance.\nLe Rendez-vous des Idées 06 38 40 07 70
URL:https://lepetitvarois.fr/event/cafe-philo-leducation-et-ses-enjeux-politiques-et-societaux-anime-par-silvia-berja/
CATEGORIES:Six-Fours
ATTACH;FMTTYPE=image/jpeg:https://lepetitvarois.fr/wp-content/uploads/2018/06/young-791849_960_720.jpg
END:VEVENT
BEGIN:VEVENT
DTSTART;TZID=Europe/Paris:20190210T103000
DTEND;TZID=Europe/Paris:20190210T120000
DTSTAMP:20260421T080358
CREATED:20190201T210157Z
LAST-MODIFIED:20190201T210157Z
UID:9343-1549794600-1549800000@lepetitvarois.fr
SUMMARY:Ciné p’tit déj "L’Odyssée de l’empathie"
DESCRIPTION:Ciné p’tit déj « L’Odyssée de l’empathie » à 10h30 (film + débat précédé d’un petit-déjeuner partagé).\nCinéma Six n’étoiles\, 48 rue de la République. SIX FOURS\n> Tarifs habituels du cinéma.\nCinéma Six n’étoiles 04 94 26 58 48
URL:https://lepetitvarois.fr/event/cine-ptit-dej-lodyssee-de-lempathie/
CATEGORIES:Six-Fours
ATTACH;FMTTYPE=image/jpeg:https://lepetitvarois.fr/wp-content/uploads/2018/10/cinema-64154_960_720.jpg
END:VEVENT
BEGIN:VEVENT
DTSTART;TZID=Europe/Paris:20190210T120000
DTEND;TZID=Europe/Paris:20190210T180000
DTSTAMP:20260421T080358
CREATED:20190201T210859Z
LAST-MODIFIED:20190201T210859Z
UID:9345-1549800000-1549821600@lepetitvarois.fr
SUMMARY:Starmelody fête la Saint Valentin avec Marcel Musette
DESCRIPTION:Starmelody fête la Saint Valentin avec Marcel Musette de 12h à 18h.\nSalle Scarantino\, 45 rue du Stade. SIX FOURS\n> 28 € adhérents / 30 € non-adhérents. Réservation obligatoire.\nAssociation Starmelody 06 14 33 17 76
URL:https://lepetitvarois.fr/event/starmelody-fete-la-saint-valentin-avec-marcel-musette/
CATEGORIES:Six-Fours
ATTACH;FMTTYPE=image/jpeg:https://lepetitvarois.fr/wp-content/uploads/2018/02/28125214_10214540808610703_2054004481_o.jpg
END:VEVENT
BEGIN:VEVENT
DTSTART;TZID=Europe/Paris:20190210T150000
DTEND;TZID=Europe/Paris:20190210T170000
DTSTAMP:20260421T080358
CREATED:20190201T211201Z
LAST-MODIFIED:20190201T211201Z
UID:9349-1549810800-1549818000@lepetitvarois.fr
SUMMARY:Bernard Phane présente Hypnose
DESCRIPTION:Bernard Phane présente Hypnose à 15h.\nThéâtre Daudet\, 100 av. du Maréchal de Lattre de Tassigny. SIX FOURS\nSpectacle au profit de l’association Bati Bati (Un battement de cœur  pour Tignère). \nEn 1ère partie\, spectacle d’hypnose classique et music hall et en 2e partie\, séance d’hypnothérapie. De l’hypnose de Music Hall à L’Hypnose thérapeutique\, Bernard Phane passionne les foules à travers un spectacle extraordinaire et mystérieux\, ou soigne ceux qui veulent faire confiance à leur pouvoir d’auto guérison.\n> 15 € / 10 € pour les -18 ans. Réservation obligatoire.\nAssociation Bati Bati  06 51 51 23 38 http://batibati.fr
URL:https://lepetitvarois.fr/event/bernard-phane-presente-hypnose/
CATEGORIES:Six-Fours
ATTACH;FMTTYPE=image/png:https://lepetitvarois.fr/wp-content/uploads/2019/02/Capture-d’écran-2019-01-19-à-21.23.42.png
END:VEVENT
BEGIN:VEVENT
DTSTART;TZID=Europe/Paris:20190210T183000
DTEND;TZID=Europe/Paris:20190210T203000
DTSTAMP:20260421T080358
CREATED:20190201T211357Z
LAST-MODIFIED:20190201T211357Z
UID:9354-1549823400-1549830600@lepetitvarois.fr
SUMMARY:Gala du Nouvel An Vietnamien "Têt Ky Hoi"
DESCRIPTION:Gala du Nouvel An Vietnamien « Têt Ky Hoi » de 18h30 à 23h30.\nEspace culturel André Malraux\, 100 av. de Lattre de Tassigny. SIX FOURS\nGrande soirée de gala avec spectacles traditionnelles et animations disco !.  \nAnimations : danses chorégraphiques traditionnelles\, danse de la licorne et arts martiaux. Vente de boissons et spécialités vietnamiennes sur place.\n> 20 € / 18 € adhérents / 10 € jeunes de 10 à 16 ans. Réservation obligatoire.\nAssociation Var Vietnam Passion 04 94 07 10 57
URL:https://lepetitvarois.fr/event/gala-du-nouvel-an-vietnamien-tet-ky-hoi/
CATEGORIES:Six-Fours
ATTACH;FMTTYPE=image/jpeg:https://lepetitvarois.fr/wp-content/uploads/2018/12/47341237_1133735390126005_7207194498395275264_n.jpg
END:VEVENT
BEGIN:VEVENT
DTSTART;TZID=Europe/Paris:20190220T183000
DTEND;TZID=Europe/Paris:20190220T200000
DTSTAMP:20260421T080358
CREATED:20190201T213013Z
LAST-MODIFIED:20190201T213013Z
UID:9376-1550687400-1550692800@lepetitvarois.fr
SUMMARY:Conversation anglaise
DESCRIPTION:Conversation anglaise de 18h30 à 20h.\nLe Mont Salva\, Chemin du Mont Salva\, Le Brusc. SIX FOURS\n> Gratuit. Consommation minimum de 3 €.\nSix-Fours English 06 98 46 27 65 masstguir@orange.fr
URL:https://lepetitvarois.fr/event/conversation-anglaise-10/
CATEGORIES:Six-Fours
ATTACH;FMTTYPE=image/jpeg:https://lepetitvarois.fr/wp-content/uploads/2018/04/american-1209605_960_720.jpg
END:VEVENT
BEGIN:VEVENT
DTSTART;TZID=Europe/Paris:20190224T150000
DTEND;TZID=Europe/Paris:20190224T170000
DTSTAMP:20260421T080358
CREATED:20190118T095137Z
LAST-MODIFIED:20190118T095137Z
UID:9150-1551020400-1551027600@lepetitvarois.fr
SUMMARY:Concert caritatif présenté par les sociétés philharmoniques La Seynoise et La Six-Fournaise
DESCRIPTION:Ce concert\, présenté par les sociétés philharmoniques La Seynoise et La Six-Fournaise\, aura lieu à 15h00\, à l’espace Malraux\, avenue de Lattre de Tassigny à Six-Fours. \nLa participation est libre\, les fonds récoltés étant destinés au Centre communal d’actions sociales de Six-Fours. \n 
URL:https://lepetitvarois.fr/event/concert-caritatif-presente-par-les-societes-philharmoniques-la-seynoise-et-la-six-fournaise/
CATEGORIES:Six-Fours
ATTACH;FMTTYPE=image/jpeg:https://lepetitvarois.fr/wp-content/uploads/2018/10/classical-music-1838390_960_720.jpg
END:VEVENT
BEGIN:VEVENT
DTSTART;TZID=Europe/Paris:20190224T150000
DTEND;TZID=Europe/Paris:20190224T170000
DTSTAMP:20260421T080358
CREATED:20190201T213916Z
LAST-MODIFIED:20190201T213916Z
UID:9386-1551020400-1551027600@lepetitvarois.fr
SUMMARY:Concert solidaire au profit du CCAS de Six Fours
DESCRIPTION:Concert solidaire au profit du CCAS de Six Fours à 15h.\nEspace culturel André Malraux\, 100 av. de Lattre de Tassigny. SIX FOURS\nDeux philharmonies\, La Seynoise et La Six-Fournaise\, s’associent pour offrir un concert au profit du CCAS de Six-Fours. Les deux formations seront dirigées par Christine Reggiani et Gisèle Ghigo\, ces deux directrices musicales étant bien connues des publics seynois et six-fournais. Le programme\, très éclectique\, balaiera un spectre très large\, du classique aux rythmes sud-américains en passant par différentes formes de jazz…\n> Participation libre. Le produit de la recette sera reversé au CCAS de Six Fours.\nSociété philharmonique la Six Fournaise 04 89 66 59 50 / 06 87 63 32 16
URL:https://lepetitvarois.fr/event/concert-solidaire-au-profit-du-ccas-de-six-fours/
CATEGORIES:Six-Fours
ATTACH;FMTTYPE=image/jpeg:https://lepetitvarois.fr/wp-content/uploads/2018/08/concert-1209323_960_720.jpg
END:VEVENT
BEGIN:VEVENT
DTSTART;TZID=Europe/Paris:20190225T150000
DTEND;TZID=Europe/Paris:20190225T193000
DTSTAMP:20260421T080358
CREATED:20190201T214136Z
LAST-MODIFIED:20190201T214136Z
UID:9390-1551106800-1551123000@lepetitvarois.fr
SUMMARY:Collecte de sang
DESCRIPTION:Collecte de sang de 15h à 19h30.\nHalle des sports du Verger\, 6 av. Maréchal de Lattre de Tassigny. SIX FOURS\nEtablissement français du sang 04 98 08 08 56 https://dondesang.efs.sante.fr \n 
URL:https://lepetitvarois.fr/event/collecte-de-sang-20/
CATEGORIES:Six-Fours
ATTACH;FMTTYPE=image/jpeg:https://lepetitvarois.fr/wp-content/uploads/2018/09/balloon-1046693_960_720.jpg
END:VEVENT
BEGIN:VEVENT
DTSTART;TZID=Europe/Paris:20190228T143000
DTEND;TZID=Europe/Paris:20190228T170000
DTSTAMP:20260421T080358
CREATED:20190201T214335Z
LAST-MODIFIED:20190201T214335Z
UID:9394-1551364200-1551373200@lepetitvarois.fr
SUMMARY:Conférence d'histoire de l'art "Impressionnisme et vie moderne :
DESCRIPTION:Conférence d’histoire de l’art « Impressionnisme et vie moderne : Gustave Caillebotte et Frédéric Bazille. La rencontre de la nature et de la vie industrielle » à 14h30.\nMaison du Cygne\, bois de la Coudoulière. SIX FOURS\n> Réservation obligatoire\nAssociation Cultures Ecritures Peintures 04 94 91 52 95 biancris@orange.fr
URL:https://lepetitvarois.fr/event/conference-dhistoire-de-lart-impressionnisme-et-vie-moderne/
CATEGORIES:Six-Fours
ATTACH;FMTTYPE=image/jpeg:https://lepetitvarois.fr/wp-content/uploads/2018/01/art-1840481_960_720.jpg
END:VEVENT
BEGIN:VEVENT
DTSTART;TZID=Europe/Paris:20190228T203000
DTEND;TZID=Europe/Paris:20190228T223000
DTSTAMP:20260421T080358
CREATED:20190201T214424Z
LAST-MODIFIED:20190201T214424Z
UID:9396-1551385800-1551393000@lepetitvarois.fr
SUMMARY:Ciné ACID "Dans la terrible jungle"
DESCRIPTION:Ciné ACID « Dans la terrible jungle » suivi d’une rencontre avec le réalisateur à 20h30. \nCinéma Six n’étoiles\, 48 rue de la République. SIX FOURS\n> Tarifs habituels du cinéma / 4\,90 € adhérent Lumière(s) du Sud.\nLumière(s) du Sud  06 13 30 62 40 / Cinéma Six n’étoiles 04 94 26 58 48
URL:https://lepetitvarois.fr/event/cine-acid-dans-la-terrible-jungle/
CATEGORIES:Six-Fours
ATTACH;FMTTYPE=image/jpeg:https://lepetitvarois.fr/wp-content/uploads/2018/09/analogue-2974647_960_720.jpg
END:VEVENT
END:VCALENDAR