BEGIN:VCALENDAR
VERSION:2.0
PRODID:-//Le Petit Varois.Fr - ECPv6.0.10//NONSGML v1.0//EN
CALSCALE:GREGORIAN
METHOD:PUBLISH
X-ORIGINAL-URL:https://lepetitvarois.fr
X-WR-CALDESC:évènements pour Le Petit Varois.Fr
REFRESH-INTERVAL;VALUE=DURATION:PT1H
X-Robots-Tag:noindex
X-PUBLISHED-TTL:PT1H
BEGIN:VTIMEZONE
TZID:Europe/Paris
BEGIN:DAYLIGHT
TZOFFSETFROM:+0100
TZOFFSETTO:+0200
TZNAME:CEST
DTSTART:20190331T010000
END:DAYLIGHT
BEGIN:STANDARD
TZOFFSETFROM:+0200
TZOFFSETTO:+0100
TZNAME:CET
DTSTART:20191027T010000
END:STANDARD
END:VTIMEZONE
BEGIN:VEVENT
DTSTART;VALUE=DATE:20190705
DTEND;VALUE=DATE:20190708
DTSTAMP:20260421T000031
CREATED:20190701T104048Z
LAST-MODIFIED:20190701T104048Z
UID:11764-1562284800-1562543999@lepetitvarois.fr
SUMMARY:Pointu Festival 2019
DESCRIPTION:Festival Isla 2019 3e édition  \nIle des Embiez. SIX FOURS\nLe festival Isla revient pour un troisième été sur l’île des Embiez. Programmation à venir.  \nUne parenthèse musicale\, avec conférences\, rencontres\, cours de yoga\, parcours artistiques et concerts à gogo. Plus d’infos très bientôt\, mais les années précédentes\, Polo & Pan\, Jacques\, Flavien Berger\, Feu Chatterton étaient de la partie… Réserve vite !\nIsla Les Embiez  www.isla-lesembiez.com  \n■ Pointu Festival 2019 de 18h à minuit. \nPresqu’île du Gaou. SIX FOURS\nLe 5 : Hot Chip (UK)\, Slaves (UK)\, Julia Jacklin (AUS) et The Japanese House (UK). \nLe 6 : Fat White Family\, The Twilight Sad (Official) (UK)\, Steve Gunn (USA) et Penelope Isles (UK). \nLe 7 : Mogwai (UK)\, Converge (USA)\, METZ (CA) et J.C.Satàn (FR).\nRenseignement www.pointufestival.fr 
URL:https://lepetitvarois.fr/event/pointu-festival-2019/
CATEGORIES:Six-Fours
ATTACH;FMTTYPE=image/png:https://lepetitvarois.fr/wp-content/uploads/2019/07/D95genSX4AEIa0D.png-large.png
END:VEVENT
BEGIN:VEVENT
DTSTART;TZID=Europe/Paris:20190706T080000
DTEND;TZID=Europe/Paris:20190706T113000
DTSTAMP:20260421T000031
CREATED:20190702T142127Z
LAST-MODIFIED:20190702T142127Z
UID:11793-1562400000-1562412600@lepetitvarois.fr
SUMMARY:Brocante
DESCRIPTION:Brocante de 8h à 11h30. \nSecours Catholique\, 40 boucle du Stade. SIX FOURS\nRenseignement 04 94 34 26 32
URL:https://lepetitvarois.fr/event/brocante-7/
CATEGORIES:Six-Fours
ATTACH;FMTTYPE=image/jpeg:https://lepetitvarois.fr/wp-content/uploads/2018/02/flea-market-1883689_960_720.jpg
END:VEVENT
BEGIN:VEVENT
DTSTART;TZID=Europe/Paris:20190706T103000
DTEND;TZID=Europe/Paris:20190706T170000
DTSTAMP:20260421T000031
CREATED:20190702T142217Z
LAST-MODIFIED:20190702T142217Z
UID:11795-1562409000-1562432400@lepetitvarois.fr
SUMMARY:Conférence "Hildegarde de Bingen"
DESCRIPTION: Conférence « Hildegarde de Bingen » par le Père Matthieu Rouillé d’Orfeuil à 10h30. \nChapelle Notre Dame de Pépiole\, ch. de Pépiole. SIX FOURS\nHildegarde de Bingen\, née le 16 septembre 1098 à Bermersheim vor der Höhe près d’Alzey (Hesse rhénane) et morte le 17 septembre 1179 à Rupertsberg (près de Bingen)\, est une religieuse bénédictine mystique\, compositrice et femme de lettres franconienne\, sainte de l’Église catholique du XIIe siècle. Elle a été aussi plus rarement dénommée Hildegarde de Rupertsberg.\n> Entrée libre.\nService communication 04 94 34 93 50 www.ville-six-fours.fr
URL:https://lepetitvarois.fr/event/conference-hildegarde-de-bingen/
CATEGORIES:Six-Fours
ATTACH;FMTTYPE=image/jpeg:https://lepetitvarois.fr/wp-content/uploads/2018/10/startup-594091_960_720.jpg
END:VEVENT
BEGIN:VEVENT
DTSTART;TZID=Europe/Paris:20190707T120000
DTEND;TZID=Europe/Paris:20190707T170000
DTSTAMP:20260421T000031
CREATED:20190702T142957Z
LAST-MODIFIED:20190702T142957Z
UID:11807-1562500800-1562518800@lepetitvarois.fr
SUMMARY:Méchoui
DESCRIPTION:Méchoui à 12h. \nCentre Robert Guillemard\, 190 av. Robert Guillemard. SIX FOURS\nCette  journée détente est accessible à tous. \nAu menu : apéritif\, entrée\, sardinade\, fromage\, dessert\, café et boissons. Apportez vos couverts et assiettes. \nAprès-midi détente\, vous pourrez participer à un concours de boules ou jouer aux cartes. \n> Réservation obligatoire.\nLou Peilou\, les Amis du Brusc (Association) 06 15 92 89 98 
URL:https://lepetitvarois.fr/event/mechoui/
CATEGORIES:Six-Fours
ATTACH;FMTTYPE=image/jpeg:https://lepetitvarois.fr/wp-content/uploads/2018/02/person-2248567_960_720.jpg
END:VEVENT
BEGIN:VEVENT
DTSTART;TZID=Europe/Paris:20190710T210000
DTEND;TZID=Europe/Paris:20190710T233000
DTSTAMP:20260421T000031
CREATED:20190703T222706Z
LAST-MODIFIED:20190703T222706Z
UID:11842-1562792400-1562801400@lepetitvarois.fr
SUMMARY:Le Brusc en photos d'hier à aujourd'hui
DESCRIPTION:Le Brusc en photos d’hier à aujourd’hui à 21h. \nQuai de la prud’homie\, port du Brusc. SIX FOURS\nProjection de photos du Brusc d’hier à aujourd’hui avec des explications d’André Mercheyer. \n> Gratuit.\nComité de Liaison des Associations Bruscaines lebrusc.info@gmail.com – www.lebrusc.info
URL:https://lepetitvarois.fr/event/le-brusc-en-photos-dhier-a-aujourdhui/
CATEGORIES:Six-Fours
ATTACH;FMTTYPE=image/jpeg:https://lepetitvarois.fr/wp-content/uploads/2019/03/blue-1840457_960_720.jpg
END:VEVENT
BEGIN:VEVENT
DTSTART;TZID=Europe/Paris:20190711T140000
DTEND;TZID=Europe/Paris:20190711T190000
DTSTAMP:20260421T000031
CREATED:20190703T222849Z
LAST-MODIFIED:20190703T222849Z
UID:11846-1562853600-1562871600@lepetitvarois.fr
SUMMARY:Sunshine Tour
DESCRIPTION:Sunshine Tour de 14h à 19h. \nPlage de Bonnegrâce. SIX FOURS\nPrévention santé sexuelle et risque lié au soleil. Stands d’animation et de prévention sur la santé sexuelle\, distribution de préservatifs\, jeu grandeur nature\, questionnaires. \nAssociation Paramour 06 20 34 31 88  associationparamour@gmail.com – www.paramour-asso.com
URL:https://lepetitvarois.fr/event/sunshine-tour/
CATEGORIES:Six-Fours
ATTACH;FMTTYPE=image/jpeg:https://lepetitvarois.fr/wp-content/uploads/2018/09/balloon-1046693_960_720.jpg
END:VEVENT
BEGIN:VEVENT
DTSTART;VALUE=DATE:20190712
DTEND;VALUE=DATE:20190716
DTSTAMP:20260421T000031
CREATED:20190703T223003Z
LAST-MODIFIED:20190703T223003Z
UID:11848-1562889600-1563235199@lepetitvarois.fr
SUMMARY:Grande fête du hameau des Playes
DESCRIPTION:Grande fête du hameau des Playes  \nEspace Pierre Reymonenq\, av. de la Calade\, Les Playes. SIX FOURS\nVendredi 12 juillet à 21h : concert gratuit de Claude Barzotti avec une première partie son et lumière.  \nSamedi 13 juillet à partir de 9h : matinée récréative pour les enfants (jeux gonflables gratuits avec collation offerte). \nA 14h30\, concours de boules 3X3 (5 €/personne). \nDimanche 14 juillet à 11h30 : apéritif d’honneur offert par le comité des fêtes. A 16h\, concours de belote « coupe Jacques Ferroni » (5 €/personne). \nLundi 15 juillet à 14h30 : concours de pétanque en triplette choisie ou constituée sur place (5 €/personne).\nComité des fêtes des Playes 06 69 41 32 64  flavienmattei@gmail.com  
URL:https://lepetitvarois.fr/event/grande-fete-du-hameau-des-playes/
CATEGORIES:Six-Fours
ATTACH;FMTTYPE=image/jpeg:https://lepetitvarois.fr/wp-content/uploads/2018/10/mirroring-711926_960_720.jpg
END:VEVENT
BEGIN:VEVENT
DTSTART;TZID=Europe/Paris:20190712T180000
DTEND;TZID=Europe/Paris:20190712T233000
DTSTAMP:20260421T000031
CREATED:20190703T223141Z
LAST-MODIFIED:20190703T223141Z
UID:11852-1562954400-1562974200@lepetitvarois.fr
SUMMARY:Marché artisanal nocturne
DESCRIPTION:Marché artisanal nocturne de 18h à minuit. \nQuai de la prud’homie\, port du Brusc. SIX FOURS\nAssociation des artistes créateurs (A.D.A.C.) 06 16 11 41 40 www.asso-adac.fr
URL:https://lepetitvarois.fr/event/marche-artisanal-nocturne-4/
CATEGORIES:Six-Fours
ATTACH;FMTTYPE=image/jpeg:https://lepetitvarois.fr/wp-content/uploads/2018/02/art-21542_960_720.jpg
END:VEVENT
BEGIN:VEVENT
DTSTART;TZID=Europe/Paris:20190712T210000
DTEND;TZID=Europe/Paris:20190712T223000
DTSTAMP:20260421T000031
CREATED:20190710T201436Z
LAST-MODIFIED:20190710T201436Z
UID:11914-1562965200-1562970600@lepetitvarois.fr
SUMMARY:Concert lyrique et sacré par l'ensemble vocal hyérois
DESCRIPTION:Concert lyrique et sacré par l’ensemble vocal hyérois à 21h. \nChapelle Notre Dame de Pépiole\, ch. de Pépiole. SIX FOURS\n> Participation libre.  \nRenseignement 06 81 39 33 67
URL:https://lepetitvarois.fr/event/concert-lyrique-et-sacre-par-lensemble-vocal-hyerois/
CATEGORIES:Six-Fours
ATTACH;FMTTYPE=image/jpeg:https://lepetitvarois.fr/wp-content/uploads/2018/06/singer-579923_960_720.jpg
END:VEVENT
BEGIN:VEVENT
DTSTART;VALUE=DATE:20190713
DTEND;VALUE=DATE:20190715
DTSTAMP:20260421T000031
CREATED:20190710T201857Z
LAST-MODIFIED:20190710T201857Z
UID:11918-1562976000-1563148799@lepetitvarois.fr
SUMMARY:La Camargue aux Embiez
DESCRIPTION:La Camargue aux Embiez  \nIle des Embiez. SIX FOURS\nPour cette 29è édition\, cet événement plongera plaisanciers et visiteurs dans l’ambiance de la Camargue entre défilés\, animations musicales et exposants. Les festivités débuteront le samedi jusqu’au dimanche après-midi. Au programme : \nSamedi 13 juillet  \n18h45 : défilé des gardians de la Manade Lescot & amazones. \n19h : animation musicale « Gipsy » dans les bars et restaurants de l’île par Spain Latino. \n19h30 : dépôt d’une gerbe sur la tombe de Paul et Patrick Ricard. \nDîner thématique proposé dans chaque restaurant. \nDimanche 14 juillet \nA partir de 10h : animations sur la place et aux alentours (stands de produits Camarguais\, animation musicale\, défilé de gardians de la Manade Lescot & amazones\, promenade à poney). \n11h30 : abrivado (démonstration de conduite de taureaux par les gardians à cheval). \n13h : déjeuner à la salle Sainte-Marthe– Infos et réservation auprès de la réception de l’Hôtel Hélios 04 94 10 66 10. \n16h30\, aux arènes Philippe Thiers : spectacle équestre Camarguais de la Manade Lescot et de ses amazones ; la course camarguaise et la course des recortadores (une discipline pratiquée essentiellement dans le nord de l’Espagne qui consiste à effectuer des figures et sauts autour de la vache).\n> Gratuit. Hors traversée maritime \, repas et extras.\nPoint information touristique des Embiez 04 94 10 75 90 www.lesilespaulricard.com  \n 
URL:https://lepetitvarois.fr/event/la-camargue-aux-embiez-2/
CATEGORIES:Six-Fours
ATTACH;FMTTYPE=image/jpeg:https://lepetitvarois.fr/wp-content/uploads/2019/07/camargue-1628592_960_720.jpg
END:VEVENT
BEGIN:VEVENT
DTSTART;TZID=Europe/Paris:20190713T200000
DTEND;TZID=Europe/Paris:20190713T220000
DTSTAMP:20260421T000031
CREATED:20190710T202847Z
LAST-MODIFIED:20190710T202847Z
UID:11923-1563048000-1563055200@lepetitvarois.fr
SUMMARY:Fête des pêcheurs
DESCRIPTION:Fête des pêcheurs à partir de 20h. \nQuai de la prud’homie\, port du Brusc. SIX FOURS\nVenez déguster les produits de la pêche locale préparés par les Pescadous du Brusc : poissons grillés\, pâtes à la sétoise\, daube de poulpe\, anchoïade… dans une ambiance festive et conviviale. Des tables et des chaises seront installées pour l’occasion\, pas de réservation à l’avance.\nOT Six Fours 04 94 07 02 21 www.tourisme-ouestvar.com
URL:https://lepetitvarois.fr/event/fete-des-pecheurs-2/
CATEGORIES:Six-Fours
ATTACH;FMTTYPE=image/jpeg:https://lepetitvarois.fr/wp-content/uploads/2018/06/fish-1149465_960_720.jpg
END:VEVENT
BEGIN:VEVENT
DTSTART;VALUE=DATE:20190714
DTEND;VALUE=DATE:20190715
DTSTAMP:20260421T000031
CREATED:20190710T203511Z
LAST-MODIFIED:20190710T203511Z
UID:11930-1563062400-1563148799@lepetitvarois.fr
SUMMARY:Fête Nationale à la Villa Simone
DESCRIPTION:Fête Nationale à la Villa Simone de 10h à 19h. \nVilla Simone\, av. Audibert. SIX FOURS\nAu programme : animation musicale\, ateliers pour les enfants\, anchoïade offerte par la ville puis pique-nique tiré du sac\, concours « Marianne »\, concours de boules\, bal populaire. \nService communication 04 94 34 93 50 www.ville-six-fours.fr
URL:https://lepetitvarois.fr/event/fete-nationale-a-la-villa-simone/
CATEGORIES:Six-Fours
ATTACH;FMTTYPE=image/png:https://lepetitvarois.fr/wp-content/uploads/2019/03/Capture-d’écran-2019-03-18-à-16.11.45.png
END:VEVENT
BEGIN:VEVENT
DTSTART;TZID=Europe/Paris:20190714T210000
DTEND;TZID=Europe/Paris:20190714T230000
DTSTAMP:20260421T000031
CREATED:20190710T204041Z
LAST-MODIFIED:20190710T204041Z
UID:11935-1563138000-1563145200@lepetitvarois.fr
SUMMARY:Bal avec l'orchestre Syrius à 21h30 et feu d'artifice
DESCRIPTION:Bal avec l’orchestre Syrius à 21h30 et feu d’artifice à 22h. \nPort du Brusc\, quai Saint Pierre. SIX FOURS\nComité officiel des fêtes 06 62 03 11 96 www.comitedesfetesdesixfours.org
URL:https://lepetitvarois.fr/event/bal-avec-lorchestre-syrius-a-21h30-et-feu-dartifice/
CATEGORIES:Six-Fours
ATTACH;FMTTYPE=image/jpeg:https://lepetitvarois.fr/wp-content/uploads/2019/07/boy-1205255_960_720.jpg
END:VEVENT
BEGIN:VEVENT
DTSTART;TZID=Europe/Paris:20190717T160000
DTEND;TZID=Europe/Paris:20190717T190000
DTSTAMP:20260421T000031
CREATED:20190710T205813Z
LAST-MODIFIED:20190710T205813Z
UID:11952-1563379200-1563390000@lepetitvarois.fr
SUMMARY:Les mercredis de la mer : conférence "La biodiversité méditerranéenne"
DESCRIPTION:Les mercredis de la mer : conférence « La biodiversité méditerranéenne » par Aurélie Vion de l’Institut Océanographique Paul Ricard à 16h. \nInstitut océanographique Paul Ricard\, île des Embiez\, fort Saint Pierre. SIX FOURS\nVisite du musée aquarium comprise\, prévoir d’arriver 30 minutes avant la conférence. \n> 5 € adultes / 2\,50 € enfants jusqu’à 11 ans.\nInstitut océanographique Paul Ricard 04 94 34 02 49 embiez@institut-paul-ricard.org – www.institut-paul-ricard.org
URL:https://lepetitvarois.fr/event/les-mercredis-de-la-mer-conference-la-biodiversite-mediterraneenne/
CATEGORIES:Six-Fours
ATTACH;FMTTYPE=image/jpeg:https://lepetitvarois.fr/wp-content/uploads/2018/06/sea-2052650_960_720.jpg
END:VEVENT
BEGIN:VEVENT
DTSTART;TZID=Europe/Paris:20190717T203000
DTEND;TZID=Europe/Paris:20190717T233000
DTSTAMP:20260421T000031
CREATED:20190710T210829Z
LAST-MODIFIED:20190710T210829Z
UID:11956-1563395400-1563406200@lepetitvarois.fr
SUMMARY:L'Estival 2019 : concert à la Collégiale "Index Pro Memoria" de Vivaldi
DESCRIPTION: L’Estival 2019 : concert à la Collégiale « Index Pro Memoria » de Vivaldi par l’ensemble Matheus sous la direction de Jean-Christophe Spinosi à 20h30. \nCollégiale Saint Pierre\, montée du Fort. SIX FOURS\nAu verso de la dernière page d’un manuscrit de concertos\, figure une note mystérieuse de la main de Vivaldi : sept mesures séparées de doubles barres qui sont en fait les premières notes de sept des plus grands chefs d’oeuvre instrumentaux du prêtre roux\, agencés dans un ordre parfait. \nAccès depuis le bas de la Collégiale interdit à tous les véhicules. Parking gratuit : Esplanade de la Halle du verger.  \nDes navettes assureront les transferts avant et après le concert.\n> 21\,50 € tarif plein / 18\,50 € tarif réduit (Amis du Festival\, Association pour les musées de Toulon\, groupes minimum 10 personnes\, professeurs du Conservatoire TPM) / 11\,50 € tarif spécial jeunes six-fournais (13-25 ans). Billetterie en vente à l’accueil de l’office de tourisme de Six Fours. \nOT Six Fours 04 94 07 02 21 / Festival de Musique de Toulon 04 94 93 55 45 www.festivalmusiquetoulon.com
URL:https://lepetitvarois.fr/event/lestival-2019-concert-a-la-collegiale-index-pro-memoria-de-vivaldi/
CATEGORIES:Six-Fours
ATTACH;FMTTYPE=image/png:https://lepetitvarois.fr/wp-content/uploads/2018/06/Capture-d’écran-2018-06-23-à-12.03.47.png
END:VEVENT
BEGIN:VEVENT
DTSTART;TZID=Europe/Paris:20190718T180000
DTEND;TZID=Europe/Paris:20190718T223000
DTSTAMP:20260421T000031
CREATED:20190710T211147Z
LAST-MODIFIED:20190710T211147Z
UID:11960-1563472800-1563489000@lepetitvarois.fr
SUMMARY:Hello shop'n dance
DESCRIPTION:Hello shop’n dance de 18h à 22h30. \nRue de la République. SIX FOURS\nUn petit marché « mode et accessoires » tout en musique\, dans la rue de la République transformé en Dance Floor… Venez dès la sortie du travail\, à 18h\, pour profiter des rafraîchissements\, du Dj et surtout pour faire du shopping (et/ou) en dansant.\nAssociation des commerçants et artisans « Hello Six Fours » 04 94 25 60 05 contact@hello-sixfours.com – http://hello-sixfours.com
URL:https://lepetitvarois.fr/event/hello-shopn-dance/
CATEGORIES:Six-Fours
ATTACH;FMTTYPE=image/jpeg:https://lepetitvarois.fr/wp-content/uploads/2019/03/dish-shelf-1290428_960_720.jpg
END:VEVENT
BEGIN:VEVENT
DTSTART;TZID=Europe/Paris:20190719T100000
DTEND;TZID=Europe/Paris:20190719T190000
DTSTAMP:20260421T000031
CREATED:20190710T211429Z
LAST-MODIFIED:20190710T211429Z
UID:11964-1563530400-1563562800@lepetitvarois.fr
SUMMARY:Tournée des plages : Pitch
DESCRIPTION:Tournée des plages : Pitch de 10h à 19h. \nPlage de Bonnegrâce. SIX FOURS\nService communication 04 94 34 93 50
URL:https://lepetitvarois.fr/event/tournee-des-plages-pitch/
CATEGORIES:Six-Fours
ATTACH;FMTTYPE=image/jpeg:https://lepetitvarois.fr/wp-content/uploads/2018/07/beach-455752_960_720.jpg
END:VEVENT
BEGIN:VEVENT
DTSTART;TZID=Europe/Paris:20190719T180000
DTEND;TZID=Europe/Paris:20190719T233000
DTSTAMP:20260421T000031
CREATED:20190710T211711Z
LAST-MODIFIED:20190710T211711Z
UID:11970-1563559200-1563579000@lepetitvarois.fr
SUMMARY:Marché des artisans et créateurs de Provence
DESCRIPTION:Marché des artisans et créateurs de Provence de 18h à minuit. \nQuai de la prud’homie\, port du Brusc. SIX FOURS\nComité de Liaison des Associations Bruscaines  lebrusc.info@gmail.com – www.lebrusc.info
URL:https://lepetitvarois.fr/event/marche-des-artisans-et-createurs-de-provence-2/
CATEGORIES:Six-Fours
ATTACH;FMTTYPE=image/jpeg:https://lepetitvarois.fr/wp-content/uploads/2018/06/flea-market-1883693_960_720.jpg
END:VEVENT
BEGIN:VEVENT
DTSTART;TZID=Europe/Paris:20190719T200000
DTEND;TZID=Europe/Paris:20190719T233000
DTSTAMP:20260421T000031
CREATED:20190710T211939Z
LAST-MODIFIED:20190710T211939Z
UID:11972-1563566400-1563579000@lepetitvarois.fr
SUMMARY:Dîner concert jazz avec Eric Luthier en quintet pour une soirée New Orléans
DESCRIPTION:Dîner concert jazz avec Eric Luthier en quintet pour une soirée New Orléans à 20h. \nLe Mont Salva\, ch. du Mont Salva\, Le Brusc. SIX FOURS\nVittorio Silvestri\, musicien de jazz italien. \nGuitariste confirmé au style élégant\, il combine interprétation et composition en nous faisant revisiter les chansons du monde et d’Italie. Il sera accompagné de Gabrielle Koehlhoeffer à la contrebasse et Christian Ton Ton Salut aux drums.\n> 41 € (concert\, dîner\, vin et apéritif).\nRéservation 04 94 34 03 93 / 06 28 46 18 41 www.restaurant-reception.com 
URL:https://lepetitvarois.fr/event/diner-concert-jazz-avec-eric-luthier-en-quintet-pour-une-soiree-new-orleans/
CATEGORIES:Six-Fours
ATTACH;FMTTYPE=image/jpeg:https://lepetitvarois.fr/wp-content/uploads/2018/02/person-2248567_960_720.jpg
END:VEVENT
BEGIN:VEVENT
DTSTART;TZID=Europe/Paris:20190719T203000
DTEND;TZID=Europe/Paris:20190719T223000
DTSTAMP:20260421T000031
CREATED:20190710T212406Z
LAST-MODIFIED:20190710T212406Z
UID:11974-1563568200-1563575400@lepetitvarois.fr
SUMMARY:L'Estival 2019 : concert à la Collégiale "La Battle des Anges" de Vivaldi
DESCRIPTION:L’Estival 2019 : concert à la Collégiale « La Battle des Anges » de Vivaldi par l’Ensemble Matheus\, 2 chœurs sous la direction de Jean-Christophe Spinosi à 20h30. \nCollégiale Saint Pierre\, montée du Fort. SIX FOURS\nQuand le prêtre Antonio Vivaldi fait se confronter les anges pour célébrer la gloire de Dieu\, il organise la première battle vocale baroque. Les trois chefs d’oeuvre « Dixit Dominus »\, « Beatus Vir » et « Lauda Jerusalem » présentent les œuvres « à double chœur » : deux équipes distinctes de chanteurs se font face pour rivaliser de beauté et de grâce. \nAccès depuis le bas de la Collégiale interdit à tous les véhicules.  \nParking gratuit : Esplanade de la Halle du verger\, et des navettes assureront les transferts avant et après le concert.\n> 21\,50 € tarif plein / 18\,50 € tarif réduit (Amis du Festival\, Association pour les musées de Toulon\, groupes minimum 10 personnes\, professeurs du Conservatoire TPM) / 11\,50 € tarif spécial jeunes six-fournais (13-25 ans). Billetterie en vente à l’accueil de l’office de tourisme de Six Fours. \nOT Six Fours 04 94 07 02 21 / Festival de Musique de Toulon 04 94 93 55 45 www.festivalmusiquetoulon.com  \n 
URL:https://lepetitvarois.fr/event/lestival-2019-concert-a-la-collegiale-la-battle-des-anges-de-vivaldi/
CATEGORIES:Six-Fours
ATTACH;FMTTYPE=image/png:https://lepetitvarois.fr/wp-content/uploads/2018/06/Capture-d’écran-2018-06-23-à-12.03.47.png
END:VEVENT
BEGIN:VEVENT
DTSTART;TZID=Europe/Paris:20190720T210000
DTEND;TZID=Europe/Paris:20190720T230000
DTSTAMP:20260421T000031
CREATED:20190712T204145Z
LAST-MODIFIED:20190712T204145Z
UID:12018-1563656400-1563663600@lepetitvarois.fr
SUMMARY:L'Estival 2019 : concert en plein air Baroque and Pop "Il Giardino d'Amore"
DESCRIPTION:L’Estival 2019 : concert en plein air Baroque and Pop « Il Giardino d’Amore » à 21h suivi du feu d’artifice à 22h30. \nParc de la Méditerranée\, corniche de la Coudoulière. SIX FOURS\nReturn to Forever est une célébration de compositions épiques\, pop et baroques\, arrangées de manière subtile et raffinée. « Dancing to the Rythm » Stevie Wonder\, « Billie Jean » Michael Jackson\, « Rolling in the Deep » Adèle\, « Bourgeois Gentilhomme » Lully\, « Marche pour la Cérémonie des Turcs »\, « Bohemian Rhapsody » Queen\, « How deep is your love » Bee Gees… \nPensez à apporter votre pique-nique et votre coussin pour vous asseoir dans l’herbe ! Parkings et navettes gratuits.\n> Gratuit.\nOT Six Fours 04 94 07 02 21 / Festival de Musique de Toulon 04 94 93 55 45 www.festivalmusiquetoulon.com
URL:https://lepetitvarois.fr/event/lestival-2019-concert-en-plein-air-baroque-and-pop-il-giardino-damore/
CATEGORIES:Six-Fours
ATTACH;FMTTYPE=image/jpeg:https://lepetitvarois.fr/wp-content/uploads/2019/03/concert-662851_960_720.jpg
END:VEVENT
BEGIN:VEVENT
DTSTART;TZID=Europe/Paris:20190721T190000
DTEND;TZID=Europe/Paris:20190721T223000
DTSTAMP:20260421T000031
CREATED:20190712T204847Z
LAST-MODIFIED:20190712T204847Z
UID:12024-1563735600-1563748200@lepetitvarois.fr
SUMMARY:Soirée guinguette à 19h
DESCRIPTION: Soirée guinguette à 19h. \nPlace du Docteur Adrien Cader\, Le Brusc. SIX FOURS\nComité de Liaison des Associations Bruscaines
URL:https://lepetitvarois.fr/event/soiree-guinguette-a-19h/
CATEGORIES:Six-Fours
ATTACH;FMTTYPE=image/jpeg:https://lepetitvarois.fr/wp-content/uploads/2019/07/actress-2868705_960_720.jpg
END:VEVENT
BEGIN:VEVENT
DTSTART;TZID=Europe/Paris:20190721T213000
DTEND;TZID=Europe/Paris:20190721T233000
DTSTAMP:20260421T000031
CREATED:20190712T205116Z
LAST-MODIFIED:20190712T205116Z
UID:12028-1563744600-1563751800@lepetitvarois.fr
SUMMARY:Cinéma en plein air "Gauguin"
DESCRIPTION:Cinéma en plein air « Gauguin » à 21h30. \nPlace des Poilus. SIX FOURS\n> Gratuit.\nService communication 04 94 34 93 50 www.ville-six-fours.fr
URL:https://lepetitvarois.fr/event/cinema-en-plein-air-gauguin/
CATEGORIES:Six-Fours
ATTACH;FMTTYPE=image/jpeg:https://lepetitvarois.fr/wp-content/uploads/2019/07/640_148014.jpg-r_1920_1080-f_jpg-q_x-xxyxx.jpg
END:VEVENT
BEGIN:VEVENT
DTSTART;TZID=Europe/Paris:20190722T150000
DTEND;TZID=Europe/Paris:20190722T190000
DTSTAMP:20260421T000031
CREATED:20190712T204938Z
LAST-MODIFIED:20190712T204938Z
UID:12026-1563807600-1563822000@lepetitvarois.fr
SUMMARY:Collecte de sang
DESCRIPTION:Collecte de sang de 15h à 19h30. \nHalle des sports du Verger\, 6 av. Maréchal de Lattre de Tassigny. SIX FOURS\nEtablissement français du sang 04 98 08 08 56  https://dondesang.efs.sante.fr
URL:https://lepetitvarois.fr/event/collecte-de-sang-34/
CATEGORIES:Six-Fours
ATTACH;FMTTYPE=image/jpeg:https://lepetitvarois.fr/wp-content/uploads/2018/09/balloon-1046693_960_720.jpg
END:VEVENT
BEGIN:VEVENT
DTSTART;TZID=Europe/Paris:20190723T190000
DTEND;TZID=Europe/Paris:20190723T230000
DTSTAMP:20260421T000031
CREATED:20190712T205719Z
LAST-MODIFIED:20190712T205719Z
UID:12033-1563908400-1563922800@lepetitvarois.fr
SUMMARY:Grande sardinade au Brusc
DESCRIPTION:Grande sardinade au Brusc à partir de 19h. \nQuai de la prud’homie\, port du Brusc. SIX FOURS\nLa manifestation sera annulée en cas de mauvais temps et reportée à une date ultérieure si possible. \n> 10 € avec 1 boisson. Pas de réservation.\nComité de Liaison des Associations Bruscaines lebrusc.info@gmail.com – www.lebrusc.info
URL:https://lepetitvarois.fr/event/grande-sardinade-au-brusc-2/
CATEGORIES:Six-Fours
ATTACH;FMTTYPE=image/jpeg:https://lepetitvarois.fr/wp-content/uploads/2019/07/sardines-3732727_960_720.jpg
END:VEVENT
BEGIN:VEVENT
DTSTART;TZID=Europe/Paris:20190723T210000
DTEND;TZID=Europe/Paris:20190723T233000
DTSTAMP:20260421T000031
CREATED:20190712T205929Z
LAST-MODIFIED:20190712T205929Z
UID:12036-1563915600-1563924600@lepetitvarois.fr
SUMMARY:Cinéma "La Grand-Messe" en présence du réalisateur Valéry Rosier
DESCRIPTION: Cinéma « La Grand-Messe » en présence du réalisateur Valéry Rosier à 21h. \nCinéma Six n’Etoiles\, 48 rue de la République. SIX FOURS\nSynopsis du film : Des Ardennes au col d’Izoard\, le long des départementales et sur les sentiers escarpés\, une nuée de camping-cars s’élance pour célébrer le Tour de France. Le soleil réchauffe\, les transats sont sortis\, les copains arrivent : c’est l’été\, la Grand-Messe commence !  \nUn regard drôle\, attendrissant et poignant sur ces passionnés de la plus grande course cycliste du monde. Un bijou documentaire\, quelque part entre Jacques Tati et « Strip-Tease ».\n> Tarifs habituels du cinéma / 6\,20 € prix préférentiel en vente dans les accueils de l’office de tourisme.\nRéservation 04 94 26 58 48 www.sixnetoiles.fr 
URL:https://lepetitvarois.fr/event/cinema-la-grand-messe-en-presence-du-realisateur-valery-rosier/
CATEGORIES:Six-Fours
ATTACH;FMTTYPE=image/jpeg:https://lepetitvarois.fr/wp-content/uploads/2019/07/popcorn-1085072_960_720.jpg
END:VEVENT
BEGIN:VEVENT
DTSTART;TZID=Europe/Paris:20190724T110000
DTEND;TZID=Europe/Paris:20190724T130000
DTSTAMP:20260421T000031
CREATED:20190712T210625Z
LAST-MODIFIED:20190712T210625Z
UID:12046-1563966000-1563973200@lepetitvarois.fr
SUMMARY:Tournée des plages : Lidl
DESCRIPTION:Tournée des plages : Lidl de 11h à 13h. \nPlage de Bonnegrâce. SIX FOURS\nLidl proposera des animations musicales et sportives en s’appuyant sur son « Car Podium »\, une camionnette avec une estrade modulable. \nService communication 04 94 34 93 50 www.ville-six-fours.fr 
URL:https://lepetitvarois.fr/event/tournee-des-plages-lidl/
CATEGORIES:Six-Fours
ATTACH;FMTTYPE=image/jpeg:https://lepetitvarois.fr/wp-content/uploads/2018/09/beach-1853230_960_720.jpg
END:VEVENT
BEGIN:VEVENT
DTSTART;TZID=Europe/Paris:20190724T160000
DTEND;TZID=Europe/Paris:20190724T190000
DTSTAMP:20260421T000031
CREATED:20190712T210934Z
LAST-MODIFIED:20190712T210934Z
UID:12048-1563984000-1563994800@lepetitvarois.fr
SUMMARY:Les mercredis de la mer : conférence "Aquaculture durable"
DESCRIPTION:Les mercredis de la mer : conférence « Aquaculture durable » par le Dr Rémy Simide de l’Institut océanographique Paul Ricard à 16h. \nInstitut océanographique Paul Ricard\, Ile des Embiez\, Fort Saint Pierre. SIX FOURS\nVisite du musée aquarium comprise\, prévoir d’arriver 30 minutes avant la conférence. \n> 5 € adultes / 2\,50 € enfants jusqu’à 11 ans.\nInstitut océanographique Paul Ricard 04 94 34 02 49 embiez@institut-paul-ricard.org – www.institut-paul-ricard.org 
URL:https://lepetitvarois.fr/event/les-mercredis-de-la-mer-conference-aquaculture-durable/
CATEGORIES:Six-Fours
ATTACH;FMTTYPE=image/jpeg:https://lepetitvarois.fr/wp-content/uploads/2018/06/sea-2052650_960_720.jpg
END:VEVENT
BEGIN:VEVENT
DTSTART;TZID=Europe/Paris:20190724T213000
DTEND;TZID=Europe/Paris:20190724T233000
DTSTAMP:20260421T000031
CREATED:20190712T211341Z
LAST-MODIFIED:20190712T211341Z
UID:12055-1564003800-1564011000@lepetitvarois.fr
SUMMARY:Spectacle : cabaret en folie
DESCRIPTION:Place des Poilus. SIX FOURS\nUn show attractif de grande classe\, regroupant 3 spectacles aussi contrastés que complémentaires : une revue cabaret\, le magicien Arlequin et son assistante Val et le ventriloque Guy Bertrand. Cabaret en folie entremêle les disciplines dans un rythme impeccable\, renouvelant constamment l’intérêt du public grâce à des tableaux surprenants et variés\, entre tradition et modernité.\n> Gratuit.\nComité officiel des fêtes 06 62 03 11 96 www.comitedesfetesdesixfours.org
URL:https://lepetitvarois.fr/event/spectacle-cabaret-en-folie/
CATEGORIES:Six-Fours
ATTACH;FMTTYPE=image/jpeg:https://lepetitvarois.fr/wp-content/uploads/2019/07/dancers-2934216_960_720.jpg
END:VEVENT
BEGIN:VEVENT
DTSTART;TZID=Europe/Paris:20190725T190000
DTEND;TZID=Europe/Paris:20190725T220000
DTSTAMP:20260421T000031
CREATED:20190712T211520Z
LAST-MODIFIED:20190712T211520Z
UID:12060-1564081200-1564092000@lepetitvarois.fr
SUMMARY:Soupe au pistou et soirée dansante avec l'orchestre Bleu Azur
DESCRIPTION:Soupe au pistou et soirée dansante avec l’orchestre Bleu Azur à 19h. \nPlace des Poilus. SIX FOURS\nRepas dansant avec apéritif\,  soupe au pistou\, vin\, dessert. Il vous est recommandé d’apporter votre couvert complet. \n> 24 €. Réservation obligatoire.\nAmicale Six Fournaise des Rapatriés d’Afrique du Nord 06 61 70 68 32 / 06 65 75 19 85 amicaleafn@free.fr
URL:https://lepetitvarois.fr/event/soupe-au-pistou-et-soiree-dansante-avec-lorchestre-bleu-azur-2/
CATEGORIES:Six-Fours
ATTACH;FMTTYPE=image/jpeg:https://lepetitvarois.fr/wp-content/uploads/2019/07/olive-oil-1412361_960_720.jpg
END:VEVENT
END:VCALENDAR