BEGIN:VCALENDAR
VERSION:2.0
PRODID:-//Le Petit Varois.Fr - ECPv6.0.10//NONSGML v1.0//EN
CALSCALE:GREGORIAN
METHOD:PUBLISH
X-WR-CALNAME:Le Petit Varois.Fr
X-ORIGINAL-URL:https://lepetitvarois.fr
X-WR-CALDESC:évènements pour Le Petit Varois.Fr
REFRESH-INTERVAL;VALUE=DURATION:PT1H
X-Robots-Tag:noindex
X-PUBLISHED-TTL:PT1H
BEGIN:VTIMEZONE
TZID:Europe/Paris
BEGIN:DAYLIGHT
TZOFFSETFROM:+0100
TZOFFSETTO:+0200
TZNAME:CEST
DTSTART:20190331T010000
END:DAYLIGHT
BEGIN:STANDARD
TZOFFSETFROM:+0200
TZOFFSETTO:+0100
TZNAME:CET
DTSTART:20191027T010000
END:STANDARD
END:VTIMEZONE
BEGIN:VEVENT
DTSTART;TZID=Europe/Paris:20190802T180000
DTEND;TZID=Europe/Paris:20190802T233000
DTSTAMP:20260420T221310
CREATED:20190728T200342Z
LAST-MODIFIED:20190728T200342Z
UID:12208-1564768800-1564788600@lepetitvarois.fr
SUMMARY:Marché des artisans et créateurs de Provence
DESCRIPTION: Marché des artisans et créateurs de Provence de 18h à minuit. \nQuai de la prud’homie\, port du Brusc. SIX FOURS\nComité de Liaison des Associations Bruscaines lebrusc.info@gmail.com – www.lebrusc.info
URL:https://lepetitvarois.fr/event/marche-des-artisans-et-createurs-de-provence-3/
CATEGORIES:Six-Fours
ATTACH;FMTTYPE=image/jpeg:https://lepetitvarois.fr/wp-content/uploads/2019/04/hands-731265_960_720.jpg
END:VEVENT
BEGIN:VEVENT
DTSTART;TZID=Europe/Paris:20190802T213000
DTEND;TZID=Europe/Paris:20190802T233000
DTSTAMP:20260420T221310
CREATED:20190728T200543Z
LAST-MODIFIED:20190728T200543Z
UID:12210-1564781400-1564788600@lepetitvarois.fr
SUMMARY:Soirée jeunes : Ibiza Party Tour
DESCRIPTION:Soirée jeunes : Ibiza Party Tour à 21h30. \nParc de la Méditerranée\, corniche de la Coudoulière. SIX FOURS\nAmbiance électro\, sécurité maxi\, effet garanti. \nUn ouragan de sensations avec tempête de neige\, laser et CO2. Distribution de cadeaux. \n> Gratuit. Sans réservation.\nComité officiel des fêtes 06 62 03 11 96 www.comitedesfetesdesixfours.org
URL:https://lepetitvarois.fr/event/soiree-jeunes-ibiza-party-tour/
CATEGORIES:Six-Fours
ATTACH;FMTTYPE=image/jpeg:https://lepetitvarois.fr/wp-content/uploads/2018/08/concert-1209323_960_720.jpg
END:VEVENT
BEGIN:VEVENT
DTSTART;TZID=Europe/Paris:20190803T080000
DTEND;TZID=Europe/Paris:20190803T113000
DTSTAMP:20260420T221310
CREATED:20190728T200939Z
LAST-MODIFIED:20190728T200939Z
UID:12212-1564819200-1564831800@lepetitvarois.fr
SUMMARY:Brocante
DESCRIPTION:Brocante de 8h à 11h30. \nSecours Catholique\, 40 boucle du Stade. SIX FOURS\nRenseignement 04 94 34 26 32 
URL:https://lepetitvarois.fr/event/brocante-8/
CATEGORIES:Six-Fours
ATTACH;FMTTYPE=image/jpeg:https://lepetitvarois.fr/wp-content/uploads/2019/07/pottery-589284_960_720.jpg
END:VEVENT
BEGIN:VEVENT
DTSTART;TZID=Europe/Paris:20190803T080000
DTEND;TZID=Europe/Paris:20190803T120000
DTSTAMP:20260420T221310
CREATED:20190728T201128Z
LAST-MODIFIED:20190728T201128Z
UID:12215-1564819200-1564833600@lepetitvarois.fr
SUMMARY:Dégustation gratuite d'anchoïade
DESCRIPTION:Dégustation gratuite d’anchoïade de 8h à 12h. \nMarché du centre-ville\, place des Poilus. SIX FOURS\nService communication 04 94 34 93 50 www.ville-six-fours.fr
URL:https://lepetitvarois.fr/event/degustation-gratuite-danchoiade-2/
CATEGORIES:Six-Fours
ATTACH;FMTTYPE=image/jpeg:https://lepetitvarois.fr/wp-content/uploads/2019/07/background-2068211_960_720.jpg
END:VEVENT
BEGIN:VEVENT
DTSTART;TZID=Europe/Paris:20190803T150000
DTEND;TZID=Europe/Paris:20190803T213000
DTSTAMP:20260420T221310
CREATED:20190728T201413Z
LAST-MODIFIED:20190728T201413Z
UID:12220-1564844400-1564867800@lepetitvarois.fr
SUMMARY:Festival de musique "Les Notes Bleues"
DESCRIPTION:Festival de musique « Les Notes Bleues » à partir de 15h. \nPlace centrale\, île des Embiez. SIX FOURS\n> Gratuit hors traversée bateau.\nSociété Paul Ricard www.lesilespaulricard.com
URL:https://lepetitvarois.fr/event/festival-de-musique-les-notes-bleues/
CATEGORIES:Six-Fours
ATTACH;FMTTYPE=image/jpeg:https://lepetitvarois.fr/wp-content/uploads/2019/07/bora-bora-685303_960_720.jpg
END:VEVENT
BEGIN:VEVENT
DTSTART;TZID=Europe/Paris:20190803T193000
DTEND;TZID=Europe/Paris:20190803T213000
DTSTAMP:20260420T221310
CREATED:20190728T202348Z
LAST-MODIFIED:20190728T202348Z
UID:12227-1564860600-1564867800@lepetitvarois.fr
SUMMARY:Paella géante et soirée dansante
DESCRIPTION: Paella géante et soirée dansante animée par l’orchestre Love Accord à 19h30. \nParc de la Méditerranée\, corniche de la Coudoulière. SIX FOURS\n> 20 € adulte / 10 € pour les enfants jusqu’à 12 ans. Réservation sur place à partir de 10h ou au 06 37 74 98 06.\nRotary club de Six Fours 06 37 74 98 06
URL:https://lepetitvarois.fr/event/paella-geante-et-soiree-dansante/
CATEGORIES:Six-Fours
ATTACH;FMTTYPE=image/jpeg:https://lepetitvarois.fr/wp-content/uploads/2019/07/paella-710326_960_720.jpg
END:VEVENT
BEGIN:VEVENT
DTSTART;TZID=Europe/Paris:20190804T083000
DTEND;TZID=Europe/Paris:20190804T170000
DTSTAMP:20260420T221310
CREATED:20190728T202605Z
LAST-MODIFIED:20190728T202605Z
UID:12232-1564907400-1564938000@lepetitvarois.fr
SUMMARY:Journée des collectionneurs des objets publicitaires Ricard
DESCRIPTION:Journée des collectionneurs des objets publicitaires Ricard à partir de 9h. \nPlace centrale\, île des Embiez. SIX FOURS\nPlusieurs stands seront présents sur la place pour faire découvrir les objets publicitaires de la marque Ricard\, parfois mythiques. Possibilité d’acheter des objets de collection. \n> Gratuit hors traversée bateau.\nSociété Paul Ricard www.lesilespaulricard.com 
URL:https://lepetitvarois.fr/event/journee-des-collectionneurs-des-objets-publicitaires-ricard-2/
CATEGORIES:Six-Fours
ATTACH;FMTTYPE=image/jpeg:https://lepetitvarois.fr/wp-content/uploads/2018/08/table-3536491_960_720.jpg
END:VEVENT
BEGIN:VEVENT
DTSTART;TZID=Europe/Paris:20190804T190000
DTEND;TZID=Europe/Paris:20190804T210000
DTSTAMP:20260420T221310
CREATED:20190728T202727Z
LAST-MODIFIED:20190728T202727Z
UID:12234-1564945200-1564952400@lepetitvarois.fr
SUMMARY:Repas dansant “La zarzuela“ avec l'orchestre Blues Tropic
DESCRIPTION:Repas dansant “La zarzuela“ avec l’orchestre Blues Tropic à 19h. \nParc de la Méditerranée\, corniche de la Coudoulière. SIX FOURS\nAu programme : apéritif\, tapas\, zarzuela\, fromage\, dessert\, glace\, vin rouge et rosé\, café. Il est recommandé d’apporter votre couvert complet. \n> 27 €. Réservation obligatoire.\nAmicale Six Fournaise des Rapatriés d’Afrique du Nord  06 65 75 19 85 / 06 61 70 68 32 amicaleafn@free.fr  
URL:https://lepetitvarois.fr/event/repas-dansant-la-zarzuela-avec-lorchestre-blues-tropic/
CATEGORIES:Six-Fours
ATTACH;FMTTYPE=image/jpeg:https://lepetitvarois.fr/wp-content/uploads/2018/02/person-2248567_960_720.jpg
END:VEVENT
BEGIN:VEVENT
DTSTART;TZID=Europe/Paris:20190804T190000
DTEND;TZID=Europe/Paris:20190804T233000
DTSTAMP:20260420T221310
CREATED:20190728T202842Z
LAST-MODIFIED:20190728T202842Z
UID:12236-1564945200-1564961400@lepetitvarois.fr
SUMMARY:Soirée guinguette
DESCRIPTION:Soirée guinguette à 19h. \nPlace du Docteur Adrien Cader\, Le Brusc. SIX FOURS\nSoirée dansante avec un animateur organisée par le Comité local des associations bruscaines. \nComité de Liaison des Associations Bruscaines lebrusc.info@gmail.com – www.lebrusc.info
URL:https://lepetitvarois.fr/event/soiree-guinguette/
CATEGORIES:Six-Fours
ATTACH;FMTTYPE=image/jpeg:https://lepetitvarois.fr/wp-content/uploads/2019/07/actress-2868705_960_720.jpg
END:VEVENT
BEGIN:VEVENT
DTSTART;VALUE=DATE:20190807
DTEND;VALUE=DATE:20190809
DTSTAMP:20260420T221310
CREATED:20190728T204942Z
LAST-MODIFIED:20190728T204942Z
UID:12256-1565136000-1565308799@lepetitvarois.fr
SUMMARY:Rencontre et démonstration de modélisme naval
DESCRIPTION:Rencontre et démonstration de modélisme naval de 9h à 12h et de 14h à 18h. \nParc de la Méditerranée\, corniche de la Coudoulière. SIX FOURS\n> Gratuit.\nLes Argonautes 06 31 66 52 00 www.clubdesargonautes.fr
URL:https://lepetitvarois.fr/event/rencontre-et-demonstration-de-modelisme-naval/
CATEGORIES:Six-Fours
ATTACH;FMTTYPE=image/jpeg:https://lepetitvarois.fr/wp-content/uploads/2019/07/ship-model-2358101_960_720.jpg
END:VEVENT
BEGIN:VEVENT
DTSTART;TZID=Europe/Paris:20190807T140000
DTEND;TZID=Europe/Paris:20190807T173000
DTSTAMP:20260420T221310
CREATED:20190728T203453Z
LAST-MODIFIED:20190728T203453Z
UID:12247-1565186400-1565199000@lepetitvarois.fr
SUMMARY:Concours primé de châteaux et sculptures de sables
DESCRIPTION:Concours primé de châteaux et sculptures de sables de 14h à 17h30. \nEsplanade plage de Bonnegrâce. SIX FOURS\nConcours gratuit et primé de châteaux et sculptures de sable ouvert aux enfants et aux adultes. \n> Gratuit.\nComité officiel des fêtes 06 62 03 11 96 www.comitedesfetesdesixfours.org \n 
URL:https://lepetitvarois.fr/event/concours-prime-de-chateaux-et-sculptures-de-sables-2/
CATEGORIES:Six-Fours
ATTACH;FMTTYPE=image/jpeg:https://lepetitvarois.fr/wp-content/uploads/2019/07/sandburg-1639994_960_720.jpg
END:VEVENT
BEGIN:VEVENT
DTSTART;TZID=Europe/Paris:20190807T160000
DTEND;TZID=Europe/Paris:20190807T200000
DTSTAMP:20260420T221310
CREATED:20190728T204625Z
LAST-MODIFIED:20190728T204625Z
UID:12252-1565193600-1565208000@lepetitvarois.fr
SUMMARY:Les mercredis de la mer : conférence "Quand la science s'inspire de la nature"
DESCRIPTION:Les mercredis de la mer : conférence « Quand la science s’inspire de la nature » animée par le Dr Robert Bunet de l’Institut océanographique Paul Ricard à 16h. \nInstitut océanographique Paul Ricard\, Ile des Embiez\, Fort Saint Pierre. SIX FOURS\nVisite du musée aquarium comprise\, prévoir d’arriver 30 minutes avant la conférence. \n> 5 € adultes / 2\,50 € enfants jusqu’à 11 ans.\nInstitut océanographique Paul Ricard 04 94 34 02 49 embiez@institut-paul-ricard.org – www.institut-paul-ricard.org 
URL:https://lepetitvarois.fr/event/les-mercredis-de-la-mer-conference-quand-la-science-sinspire-de-la-nature-2/
CATEGORIES:Six-Fours
ATTACH;FMTTYPE=image/jpeg:https://lepetitvarois.fr/wp-content/uploads/2018/06/sea-2052650_960_720.jpg
END:VEVENT
BEGIN:VEVENT
DTSTART;TZID=Europe/Paris:20190809T180000
DTEND;TZID=Europe/Paris:20190809T233000
DTSTAMP:20260420T221310
CREATED:20190728T210152Z
LAST-MODIFIED:20190728T210152Z
UID:12271-1565373600-1565393400@lepetitvarois.fr
SUMMARY:Marché des artisans et créateurs de Provence
DESCRIPTION: Marché des artisans et créateurs de Provence de 18h à minuit. \nQuai de la prud’homie\, port du Brusc. SIX FOURS\nComité de Liaison des Associations Bruscaines lebrusc.info@gmail.com – www.lebrusc.info
URL:https://lepetitvarois.fr/event/marche-des-artisans-et-createurs-de-provence-4/
CATEGORIES:Six-Fours
ATTACH;FMTTYPE=image/jpeg:https://lepetitvarois.fr/wp-content/uploads/2019/03/hands-1139098_960_720.jpg
END:VEVENT
BEGIN:VEVENT
DTSTART;TZID=Europe/Paris:20190809T210000
DTEND;TZID=Europe/Paris:20190809T230000
DTSTAMP:20260420T221310
CREATED:20190728T211627Z
LAST-MODIFIED:20190728T211627Z
UID:12280-1565384400-1565391600@lepetitvarois.fr
SUMMARY:Récital de chants médiévaux occitans
DESCRIPTION:Récital de chants médiévaux occitans à 21h. \nChapelle Notre Dame de Pépiole\, ch. de Pépiole. SIX FOURS\nLe duo Cylsée vient vous proposer un récital de chants médiévaux occitans avec accompagnement de guitare et bouzouki. Un vin d’honneur sera offert et servi dans les jardins de la chapelle à l’issue du récital.\n> Participation libre. \nRenseignement et réservation 06 81 39 33 67 \n 
URL:https://lepetitvarois.fr/event/recital-de-chants-medievaux-occitans/
CATEGORIES:Six-Fours
ATTACH;FMTTYPE=image/jpeg:https://lepetitvarois.fr/wp-content/uploads/2019/07/parchment-1527650_960_720.jpg
END:VEVENT
BEGIN:VEVENT
DTSTART;TZID=Europe/Paris:20190809T213000
DTEND;TZID=Europe/Paris:20190809T233000
DTSTAMP:20260420T221310
CREATED:20190728T212204Z
LAST-MODIFIED:20190728T212204Z
UID:12283-1565386200-1565393400@lepetitvarois.fr
SUMMARY:Spectacle : Troïka ballet russe
DESCRIPTION:Spectacle : Troïka ballet russe à 21h30. \nParc de la Méditerranée\, corniche de la Coudoulière. SIX FOURS\nUn des plus prestigieux spectacles en matière de danses\, chants et musiques slaves. L’ensemble Troïka emporte son public sur les plus belles mélodies traditionnelles du pays de l’Est.\n> Gratuit.\nComité officiel des fêtes 06 62 03 11 96 www.comitedesfetesdesixfours.org
URL:https://lepetitvarois.fr/event/spectacle-troika-ballet-russe/
CATEGORIES:Six-Fours
ATTACH;FMTTYPE=image/jpeg:https://lepetitvarois.fr/wp-content/uploads/2019/05/nice-1046188_960_720.jpg
END:VEVENT
BEGIN:VEVENT
DTSTART;TZID=Europe/Paris:20190811T190000
DTEND;TZID=Europe/Paris:20190811T213000
DTSTAMP:20260420T221310
CREATED:20190728T213252Z
LAST-MODIFIED:20190728T213252Z
UID:12299-1565550000-1565559000@lepetitvarois.fr
SUMMARY:Soirée guinguette
DESCRIPTION: Soirée guinguette à 19h. \nPlace du Docteur Adrien Cader\, Le Brusc. SIX FOURS\nSoirée dansante avec un animateur organisée par le Comité local des associations bruscaines. \nComité de Liaison des Associations Bruscaines lebrusc.info@gmail.com – www.lebrusc.info \n 
URL:https://lepetitvarois.fr/event/soiree-guinguette-2/
CATEGORIES:Six-Fours
ATTACH;FMTTYPE=image/jpeg:https://lepetitvarois.fr/wp-content/uploads/2019/04/waffle-heart-2697904_960_720.jpg
END:VEVENT
BEGIN:VEVENT
DTSTART;TZID=Europe/Paris:20190815T200000
DTEND;TZID=Europe/Paris:20190815T233000
DTSTAMP:20260420T221310
CREATED:20190814T215157Z
LAST-MODIFIED:20190814T215157Z
UID:12436-1565899200-1565911800@lepetitvarois.fr
SUMMARY:Dîner concert jazz avec Cathy en quartet
DESCRIPTION:Dîner concert jazz avec Cathy en quartet à 20h. \nRestaurant Le Mont Salva\, ch. du Mont Salva\, Le Brusc. SIX FOURS\n> 41 € (Concert\, dîner\, vin et apéritif). \nRéservation 04 94 34 03 93 / 06 28 46 18 41  le-mont-salvat.restaurant@wanadoo.fr – www.restaurant-reception.com
URL:https://lepetitvarois.fr/event/diner-concert-jazz-avec-cathy-en-quartet/
CATEGORIES:Six-Fours
ATTACH;FMTTYPE=image/jpeg:https://lepetitvarois.fr/wp-content/uploads/2019/05/restaurant-mont-salva.jpg
END:VEVENT
BEGIN:VEVENT
DTSTART;TZID=Europe/Paris:20190815T210000
DTEND;TZID=Europe/Paris:20190815T230000
DTSTAMP:20260420T221310
CREATED:20190814T220119Z
LAST-MODIFIED:20190814T220119Z
UID:12440-1565902800-1565910000@lepetitvarois.fr
SUMMARY:Bal avec l'orchestre Fa Si La Danser
DESCRIPTION:Bal avec l’orchestre Fa Si La Danser à 21h30. \nPlace des Poilus. SIX FOURS\nUn répertoire de variété très éclectique des années 70 à nos jours avec des parties musette\, typique\, zouk\, merengue\, spanish\, rock et jazz. \n> Gratuit.\nComité officiel des fêtes 06 62 03 11 96 www.comitedesfetesdesixfours.org
URL:https://lepetitvarois.fr/event/bal-avec-lorchestre-fa-si-la-danser/
CATEGORIES:Six-Fours
ATTACH;FMTTYPE=image/jpeg:https://lepetitvarois.fr/wp-content/uploads/2019/07/actress-2868705_960_720.jpg
END:VEVENT
BEGIN:VEVENT
DTSTART;TZID=Europe/Paris:20190816T100000
DTEND;TZID=Europe/Paris:20190816T180000
DTSTAMP:20260420T221310
CREATED:20190814T220303Z
LAST-MODIFIED:20190814T220303Z
UID:12442-1565949600-1565978400@lepetitvarois.fr
SUMMARY:Tournée des plages : Prince de Lu
DESCRIPTION:Tournée des plages : Prince de Lu de 10h à 18h. \nPlage de Bonnegrâce. SIX FOURS\nDégustation gratuite de biscuits Prince de Lu et de nombreuses animations : château gonflable\, activités dessin pour les enfants\, puzzle géant\, labyrinthe à élastiques… \nService communication 04 94 34 93 50 www.ville-six-fours.fr
URL:https://lepetitvarois.fr/event/tournee-des-plages-prince-de-lu/
CATEGORIES:Six-Fours
ATTACH;FMTTYPE=image/jpeg:https://lepetitvarois.fr/wp-content/uploads/2018/07/beach-455752_960_720.jpg
END:VEVENT
BEGIN:VEVENT
DTSTART;TZID=Europe/Paris:20190816T180000
DTEND;TZID=Europe/Paris:20190816T233000
DTSTAMP:20260420T221310
CREATED:20190814T220521Z
LAST-MODIFIED:20190814T220521Z
UID:12444-1565978400-1565998200@lepetitvarois.fr
SUMMARY:Marché artisanal nocturne
DESCRIPTION:Marché artisanal nocturne de 18h à minuit. \nQuai de la prud’homie\, port du Brusc. SIX FOURS\nAssociation des artistes créateurs 06 16 11 41 40 www.asso-adac.fr
URL:https://lepetitvarois.fr/event/marche-artisanal-nocturne-5/
CATEGORIES:Six-Fours
ATTACH;FMTTYPE=image/jpeg:https://lepetitvarois.fr/wp-content/uploads/2019/07/background-2068211_960_720.jpg
END:VEVENT
BEGIN:VEVENT
DTSTART;TZID=Europe/Paris:20190817T190000
DTEND;TZID=Europe/Paris:20190817T210000
DTSTAMP:20260420T221310
CREATED:20190814T221311Z
LAST-MODIFIED:20190814T221311Z
UID:12450-1566068400-1566075600@lepetitvarois.fr
SUMMARY:Sardinade
DESCRIPTION:Sardinade à 19h. \nBase nautique Loïs Couderc\, corniche des Iles Paul Ricard\, Le Brusc. SIX FOURS\n> 15 €. Réservation obligatoire.\nLes rameurs du Brusc 06 08 53 20 85
URL:https://lepetitvarois.fr/event/sardinade-2/
CATEGORIES:Six-Fours
ATTACH;FMTTYPE=image/jpeg:https://lepetitvarois.fr/wp-content/uploads/2018/07/sardines-1489630_960_720.jpg
END:VEVENT
BEGIN:VEVENT
DTSTART;TZID=Europe/Paris:20190817T200000
DTEND;TZID=Europe/Paris:20190817T230000
DTSTAMP:20260420T221310
CREATED:20190814T221454Z
LAST-MODIFIED:20190814T221454Z
UID:12452-1566072000-1566082800@lepetitvarois.fr
SUMMARY:Fête des pêcheurs
DESCRIPTION:Fête des pêcheurs à 20h. \nQuai de la prud’homie\, port du Brusc. SIX FOURS\nVenez déguster les produits de la pêche locale préparés par les Pescadous du Brusc : poissons grillés\, pâtes à la sétoise\, daube de poulpe\, anchoïade… dans une ambiance festive et conviviale. Des tables et des chaises seront installées pour l’occasion\, pas de réservation à l’avance.\nOT Six Fours 04 94 07 02 21
URL:https://lepetitvarois.fr/event/fete-des-pecheurs-3/
CATEGORIES:Six-Fours
ATTACH;FMTTYPE=image/jpeg:https://lepetitvarois.fr/wp-content/uploads/2018/06/sea-2052650_960_720.jpg
END:VEVENT
END:VCALENDAR