BEGIN:VCALENDAR
VERSION:2.0
PRODID:-//Le Petit Varois.Fr - ECPv6.0.10//NONSGML v1.0//EN
CALSCALE:GREGORIAN
METHOD:PUBLISH
X-ORIGINAL-URL:https://lepetitvarois.fr
X-WR-CALDESC:évènements pour Le Petit Varois.Fr
REFRESH-INTERVAL;VALUE=DURATION:PT1H
X-Robots-Tag:noindex
X-PUBLISHED-TTL:PT1H
BEGIN:VTIMEZONE
TZID:Europe/Paris
BEGIN:DAYLIGHT
TZOFFSETFROM:+0100
TZOFFSETTO:+0200
TZNAME:CEST
DTSTART:20190331T010000
END:DAYLIGHT
BEGIN:STANDARD
TZOFFSETFROM:+0200
TZOFFSETTO:+0100
TZNAME:CET
DTSTART:20191027T010000
END:STANDARD
END:VTIMEZONE
BEGIN:VEVENT
DTSTART;TZID=Europe/Paris:20190905T193000
DTEND;TZID=Europe/Paris:20190905T233000
DTSTAMP:20260420T203554
CREATED:20190825T200958Z
LAST-MODIFIED:20190825T200958Z
UID:12479-1567711800-1567726200@lepetitvarois.fr
SUMMARY:Café philo "La mémoire : aide ou obstacle ?"
DESCRIPTION:Café philo « La mémoire : aide ou obstacle ? » animé par Michel Ferrandi à 19h30 \nLe Mont Salva\, ch. du Mont Salva\, Le Brusc. SIX FOURS\n> Entrée sans réservation. 2 formules au choix 15 € la cotisation pour 1 an (7\,50 € pour les -25 ans) / 5 € la séance (2\,50 € pour les -25 ans) + consommation obligatoire 2\,50 €. Possibilité de dîner sur place ensuite avec le conférencier 24 €\, vin compris.\nLe Rendez-vous des Idées 06 38 40 07 70  jeanmichelberenguier@gmail.com 
URL:https://lepetitvarois.fr/event/cafe-philo-la-memoire-aide-ou-obstacle/
CATEGORIES:Six-Fours
ATTACH;FMTTYPE=image/jpeg:https://lepetitvarois.fr/wp-content/uploads/2018/10/startup-594091_960_720.jpg
END:VEVENT
BEGIN:VEVENT
DTSTART;TZID=Europe/Paris:20190907T080000
DTEND;TZID=Europe/Paris:20190907T110000
DTSTAMP:20260420T203554
CREATED:20190825T201657Z
LAST-MODIFIED:20190825T201657Z
UID:12485-1567843200-1567854000@lepetitvarois.fr
SUMMARY:Brocante
DESCRIPTION: Brocante de 8h à 11h30. \nSecours Catholique\, 40 boucle du Stade. SIX FOURS\nRenseignement 04 94 34 26 32
URL:https://lepetitvarois.fr/event/brocante-9/
CATEGORIES:Six-Fours
ATTACH;FMTTYPE=image/jpeg:https://lepetitvarois.fr/wp-content/uploads/2019/03/dish-shelf-1290428_960_720.jpg
END:VEVENT
BEGIN:VEVENT
DTSTART;VALUE=DATE:20190908
DTEND;VALUE=DATE:20190909
DTSTAMP:20260420T203554
CREATED:20190908T130805Z
LAST-MODIFIED:20190908T130805Z
UID:12614-1567900800-1567987199@lepetitvarois.fr
SUMMARY:Forum des associations
DESCRIPTION:Forum des associations de 9h30 à 17h30. \nEsplanade plage de Bonnegrâce\, promenade général Charles de Gaulle. SIX FOURS\nVenez à la rencontre de nombreuses associations sportives et culturelles de la commune ! Sur place\, renseignements\, inscriptions\, animations diverses… \nRendez-vous au Gymnase du Verger en cas de pluies. \n> Accès libre.\nOffice des Clubs Sportifs 04 94 34 36 11
URL:https://lepetitvarois.fr/event/forum-des-associations-6/
CATEGORIES:Six-Fours
ATTACH;FMTTYPE=image/jpeg:https://lepetitvarois.fr/wp-content/uploads/2019/09/hands-1283917_960_720-1.jpg
END:VEVENT
BEGIN:VEVENT
DTSTART;TZID=Europe/Paris:20190908T080000
DTEND;TZID=Europe/Paris:20190908T160000
DTSTAMP:20260420T203554
CREATED:20190825T204022Z
LAST-MODIFIED:20190825T204022Z
UID:12504-1567929600-1567958400@lepetitvarois.fr
SUMMARY:Vide grenier
DESCRIPTION:Vide grenier de 8h à 16h. \nContre-allée de Lattre de Tassigny. SIX FOURS\n> 20 € l’emplacement sur réservation.\nRéveil Six Fournais 06 51 75 36 84 www.reveilsixfournais.com
URL:https://lepetitvarois.fr/event/vide-grenier-9/
CATEGORIES:Six-Fours
ATTACH;FMTTYPE=image/jpeg:https://lepetitvarois.fr/wp-content/uploads/2019/05/wine-3678884_960_720.jpg
END:VEVENT
BEGIN:VEVENT
DTSTART;TZID=Europe/Paris:20190908T083000
DTEND;TZID=Europe/Paris:20190908T170000
DTSTAMP:20260420T203554
CREATED:20190825T204158Z
LAST-MODIFIED:20190825T204158Z
UID:12506-1567931400-1567962000@lepetitvarois.fr
SUMMARY:Six Fours Swim Cup
DESCRIPTION:Six Fours Swim Cup à 8h30. \nPlage du Cros. SIX FOURS\n4 courses d’eau libre. Ouverture du village à 6h45.  \nSwim 5 open à 8h30\, swim 5 palmes à 8h45\, win 1\,5 open à 11h15\, swim 500 open à 13h15 et swim 3 open et palmes à 14h. Un parcours inédit de 5000 m jusqu’au magnifique archipel des Embiez \n> Gratuit. Inscription obligatoire jusqu’au 1er septembre sur www.ffneaulibre.fr et www.kms.fr \nAS Cachalots 06 26 94 27 70
URL:https://lepetitvarois.fr/event/six-fours-swim-cup/
CATEGORIES:Six-Fours
ATTACH;FMTTYPE=image/jpeg:https://lepetitvarois.fr/wp-content/uploads/2018/08/underwater-1150045_960_720.jpg
END:VEVENT
BEGIN:VEVENT
DTSTART;TZID=Europe/Paris:20190910T203000
DTEND;TZID=Europe/Paris:20190910T233000
DTSTAMP:20260420T203554
CREATED:20190825T205719Z
LAST-MODIFIED:20190825T205719Z
UID:12512-1568147400-1568158200@lepetitvarois.fr
SUMMARY:Avant première exceptionnelle "Donne-moi des ailes"
DESCRIPTION:Avant première exceptionnelle « Donne-moi des ailes » à 20h45. \nCinéma Six n’Etoiles\, 48 rue de la République. SIX FOURS\nNouveau film de Nicolas Vanier\, en sa présence et celle (sous réserve) de Jean-Paul Rouve. \n> Tarif habituel du cinéma / 6\,20 € prix préférentiel en vente dans les accueils de l’office de tourisme.  \nRéservation 04 94 26 58 48 contact.sixnetoiles@gmail.com – www.sixnetoiles.fr  \n 
URL:https://lepetitvarois.fr/event/avant-premiere-exceptionnelle-donne-moi-des-ailes/
CATEGORIES:Six-Fours
ATTACH;FMTTYPE=image/jpeg:https://lepetitvarois.fr/wp-content/uploads/2019/08/images.jpeg
END:VEVENT
BEGIN:VEVENT
DTSTART;TZID=Europe/Paris:20190911T183000
DTEND;TZID=Europe/Paris:20190911T203000
DTSTAMP:20260420T203554
CREATED:20190825T213300Z
LAST-MODIFIED:20190825T213300Z
UID:12515-1568226600-1568233800@lepetitvarois.fr
SUMMARY:Conversation anglaise tous niveaux
DESCRIPTION:■ Conversation anglaise tous niveaux de 18h30 à 20h. \nLe Mont Salva\, ch. du Mont Salva\, Le Brusc. SIX FOURS\nL’objectif étant de pratiquer la langue anglaise dans une ambiance et un cadre sympathique. \n> Gratuit + consommation obligatoire 3 €.\nSix-Fours English 06 98 46 27 65 masstguir@orange.fr 
URL:https://lepetitvarois.fr/event/conversation-anglaise-tous-niveaux/
CATEGORIES:Six-Fours
ATTACH;FMTTYPE=image/jpeg:https://lepetitvarois.fr/wp-content/uploads/2019/08/telephone-1055044_960_720.jpg
END:VEVENT
BEGIN:VEVENT
DTSTART;TZID=Europe/Paris:20190913T120000
DTEND;TZID=Europe/Paris:20190913T160000
DTSTAMP:20260420T203554
CREATED:20190908T143740Z
LAST-MODIFIED:20190908T143800Z
UID:12711-1568376000-1568390400@lepetitvarois.fr
SUMMARY:Fête des musiques légères et de la bière
DESCRIPTION:La philharmonie La Six-Fournaise organise le dimanche 13 octobre à 12H00 sa traditionnelle fête des musiques légères et de la bière.
URL:https://lepetitvarois.fr/event/fete-des-musiques-legeres-et-de-la-biere/
CATEGORIES:Six-Fours
ATTACH;FMTTYPE=image/png:https://lepetitvarois.fr/wp-content/uploads/2019/09/Capture-d’écran-2019-09-08-à-16.36.10.png
END:VEVENT
BEGIN:VEVENT
DTSTART;TZID=Europe/Paris:20190913T200000
DTEND;TZID=Europe/Paris:20190913T233000
DTSTAMP:20260420T203554
CREATED:20190825T213739Z
LAST-MODIFIED:20190825T213739Z
UID:12524-1568404800-1568417400@lepetitvarois.fr
SUMMARY:Dîner concert jazz
DESCRIPTION: Dîner concert jazz à 20h. \nLe Mont Salva\, ch. du Mont Salva\, Le Brusc. SIX FOURS\n> 41 €.\nRéservation 04 94 34 03 93 / 06 28 46 18 41 www.restaurant-reception.com
URL:https://lepetitvarois.fr/event/diner-concert-jazz-2/
CATEGORIES:Six-Fours
ATTACH;FMTTYPE=image/jpeg:https://lepetitvarois.fr/wp-content/uploads/2019/05/restaurant-mont-salva.jpg
END:VEVENT
BEGIN:VEVENT
DTSTART;VALUE=DATE:20190914
DTEND;VALUE=DATE:20190915
DTSTAMP:20260420T203554
CREATED:20190902T205012Z
LAST-MODIFIED:20190902T205012Z
UID:12578-1568419200-1568505599@lepetitvarois.fr
SUMMARY:Journée porte ouverte de l'association philatelique des Baies du Soleil
DESCRIPTION: Journée porte ouverte de l’association philatelique des Baies du Soleil de 9h à 16h. \nSalle de l’économie familiale\, (à côté de l’Espace Malraux)\, av. Maréchal de Lattre de Tassigny. SIX FOURS\nL’association vous donne rendez-vous pour sa journée porte ouverte. Toute l’équipe sera à votre disposition pour vous informez sur son fonctionnement et nos prestations. Quelques panneaux d’expositions vous seront présentés. \n> Gratuit.\nAssociation Philatélique des Baies du Soleil 04 94 34 68 67 / 06 21 36 18 93 
URL:https://lepetitvarois.fr/event/journee-porte-ouverte-de-lassociation-philatelique-des-baies-du-soleil/
CATEGORIES:Six-Fours
ATTACH;FMTTYPE=image/png:https://lepetitvarois.fr/wp-content/uploads/2019/09/bluenose-1293452_960_720.png
END:VEVENT
BEGIN:VEVENT
DTSTART;VALUE=DATE:20190915
DTEND;VALUE=DATE:20190916
DTSTAMP:20260420T203554
CREATED:20190908T131632Z
LAST-MODIFIED:20190908T131632Z
UID:12629-1568505600-1568591999@lepetitvarois.fr
SUMMARY:Journée africaine
DESCRIPTION: Journée africaine de 10h à 18h. \nPlage de Bonnegrâce (en face de l’Office du Tourisme). SIX FOURS\n3è journée africaine sur la promenade de Bonnegrâce avec la présence de plusieurs artistiques\, artisans\, ateliers\, danse\, karaté\, organisée par l’association Un dojo pour Réo. \n> Accès libre.\nAssociation Un Dojo pour Réo 06 03 48 07 88
URL:https://lepetitvarois.fr/event/journee-africaine/
CATEGORIES:Six-Fours
ATTACH;FMTTYPE=image/jpeg:https://lepetitvarois.fr/wp-content/uploads/2018/07/800x600_31355-journee_africaine_mum_africa_v2.jpg
END:VEVENT
BEGIN:VEVENT
DTSTART;VALUE=DATE:20190918
DTEND;VALUE=DATE:20190925
DTSTAMP:20260420T203554
CREATED:20190908T132425Z
LAST-MODIFIED:20190908T132425Z
UID:12635-1568764800-1569369599@lepetitvarois.fr
SUMMARY:Opération "Le Cinéma a du cœur"
DESCRIPTION: Opération « Le Cinéma a du cœur »  \nCinéma Six n’Etoiles\, 48 rue de la République. SIX FOURS\nOpération en partenariat avec les Restos du Cœur : pour chaque place achetée\, 1 € sera reversé aux Restos du Cœur. \nDemandez le programme dans nos accueils ! \n> Tarifs habituels du cinéma / 6\,20 € tarif préférentiel en vente dans les accueils de l’office de tourisme.\nRenseignement 04 94 26 58 48 contact.sixnetoiles@gmail.com – www.sixnetoiles.fr
URL:https://lepetitvarois.fr/event/operation-le-cinema-a-du-coeur/
CATEGORIES:Six-Fours
ATTACH;FMTTYPE=image/jpeg:https://lepetitvarois.fr/wp-content/uploads/2019/07/popcorn-1433327_960_720.jpg
END:VEVENT
BEGIN:VEVENT
DTSTART;TZID=Europe/Paris:20190919T203000
DTEND;TZID=Europe/Paris:20190919T223000
DTSTAMP:20260420T203554
CREATED:20190908T132536Z
LAST-MODIFIED:20190908T132536Z
UID:12637-1568925000-1568932200@lepetitvarois.fr
SUMMARY:Ciné-paroisse "Interview avec Dieu"
DESCRIPTION:Ciné-paroisse « Interview avec Dieu » en partenariat avec la paroisse Ste Anne de Six Fours à 20h30. \nCinéma Six n’Etoiles\, 48 rue de la République. SIX FOURS\nSynopsis : Rentré d’un reportage en Afghanistan\, Paul Asher a du mal à surmonter les séquelles de cette expérience. Son mariage est en perdition et sa foi est mise à l’épreuve\, lorsqu’il se voit proposer une interview avec un homme qui prétend être Dieu. Si vous pouviez interroger Dieu\, quelles questions lui poseriez-vous ?\n> Tarifs habituels du cinéma / 6\,20 € prix privilège office de tourisme en vente dans nos accueils. \nRéservation 04 94 26 58 48 contact.sixnetoiles@gmail.com – www.sixnetoiles.fr
URL:https://lepetitvarois.fr/event/cine-paroisse-interview-avec-dieu/
CATEGORIES:Six-Fours
ATTACH;FMTTYPE=image/jpeg:https://lepetitvarois.fr/wp-content/uploads/2018/09/analogue-2974647_960_720.jpg
END:VEVENT
BEGIN:VEVENT
DTSTART;TZID=Europe/Paris:20190920T200000
DTEND;TZID=Europe/Paris:20190920T233000
DTSTAMP:20260420T203554
CREATED:20190908T132809Z
LAST-MODIFIED:20190908T132809Z
UID:12641-1569009600-1569022200@lepetitvarois.fr
SUMMARY:Soirée années 80 avec Dj
DESCRIPTION:Soirée années 80 avec Dj à 20h. \nLe Mont Salva\, ch. du Mont Salva\, Le Brusc. SIX FOURS\n> Tous les menus du restaurant sont accessibles à partir de 24 €.\nRéservation 04 94 34 03 93 / 06 28 46 18 41 www.restaurant-reception.com
URL:https://lepetitvarois.fr/event/soiree-annees-80-avec-dj-2/
CATEGORIES:Six-Fours
ATTACH;FMTTYPE=image/jpeg:https://lepetitvarois.fr/wp-content/uploads/2019/05/restaurant-mont-salva.jpg
END:VEVENT
BEGIN:VEVENT
DTSTART;VALUE=DATE:20190921
DTEND;VALUE=DATE:20190923
DTSTAMP:20260420T203554
CREATED:20190908T133504Z
LAST-MODIFIED:20190908T133504Z
UID:12651-1569024000-1569196799@lepetitvarois.fr
SUMMARY:Journées Européennes du Patrimoine  Six-Fours
DESCRIPTION:Dans toute la ville. SIX FOURS\nSamedi 21 :  \nL’après-midi\, visite de la collégiale Saint Pierre par Monsieur Antoine Péretti. Visite de l’ancienne usine de tuiles Romain Boyer par Monsieur Claude Majastre. \n> Pour les 2 visites\, inscription auprès de la mairie de Six Fours 04 94 34 93 00. \nDimanche 22 :  \nL’après-midi\, visite de la collégiale Saint Pierre par Monsieur Antoine Péretti. \n> Inscription auprès de la mairie de Six Fours 04 94 34 93 00. \nOT Six Fours 04 94 07 02 21 www.tourisme-ouestvar.com
URL:https://lepetitvarois.fr/event/journees-europeennes-du-patrimoine-six-fours-2/
CATEGORIES:Six-Fours
ATTACH;FMTTYPE=image/jpeg:https://lepetitvarois.fr/wp-content/uploads/2019/09/roof-tile-2159273_960_720.jpg
END:VEVENT
BEGIN:VEVENT
DTSTART;TZID=Europe/Paris:20190922T080000
DTEND;TZID=Europe/Paris:20190922T170000
DTSTAMP:20260420T203554
CREATED:20190908T134104Z
LAST-MODIFIED:20190908T134104Z
UID:12660-1569139200-1569171600@lepetitvarois.fr
SUMMARY:Vide-grenier du Kiwanis
DESCRIPTION:Vide-grenier du Kiwanis de 8h à 17h. \nPort du Brusc. SIX FOURS\n> 20 € l’emplacement.\nKiwanis La Seyne Six Fours Saint Mandrier 04 94 34 07 58 / 06 70 45 59 32  kiwanis.sss@gmail.com
URL:https://lepetitvarois.fr/event/vide-grenier-du-kiwanis/
CATEGORIES:Six-Fours
ATTACH;FMTTYPE=image/jpeg:https://lepetitvarois.fr/wp-content/uploads/2018/02/art-21542_960_720.jpg
END:VEVENT
BEGIN:VEVENT
DTSTART;TZID=Europe/Paris:20190922T090000
DTEND;TZID=Europe/Paris:20190922T170000
DTSTAMP:20260420T203554
CREATED:20190908T134320Z
LAST-MODIFIED:20190908T134320Z
UID:12662-1569142800-1569171600@lepetitvarois.fr
SUMMARY:Fête patronale de la Saint Pierre es Liens
DESCRIPTION:Fête patronale de la Saint Pierre es Liens à 9h. \nCollégiale Saint Pierre\, montée du Fort. SIX FOURS\nDans le cadre de la journée du patrimoine\, messe chantée en provençal à 9h30\, chants et danses sur l’esplanade suivi d’un apéritif offert à tous. \nLou Raioulet de Sieis Four (association) 07 51 67 33 04  louraioulet@wanadoo.fr  
URL:https://lepetitvarois.fr/event/fete-patronale-de-la-saint-pierre-es-liens-2/
CATEGORIES:Six-Fours
ATTACH;FMTTYPE=image/jpeg:https://lepetitvarois.fr/wp-content/uploads/2019/09/church-pews-2401405_960_720.jpg
END:VEVENT
BEGIN:VEVENT
DTSTART;TZID=Europe/Paris:20190923T150000
DTEND;TZID=Europe/Paris:20190923T170000
DTSTAMP:20260420T203554
CREATED:20190908T134809Z
LAST-MODIFIED:20190908T134809Z
UID:12670-1569250800-1569258000@lepetitvarois.fr
SUMMARY:Conférence sur l’histoire de l’usine de tuiles Romain Boyer et du quartier de la Coudoulière par Claude Majastre
DESCRIPTION:Conférence sur l’histoire de l’usine de tuiles Romain Boyer et du quartier de la Coudoulière par Claude Majastre à 15h. \nSalle Daudet\, 100 av. du Maréchal de Lattre de Tassigny. SIX FOURS\n> Gratuit. \nVoyages et Loisirs Culturels 04 94 88 64 45 www.vlcsixfours.fr 
URL:https://lepetitvarois.fr/event/conference-sur-lhistoire-de-lusine-de-tuiles-romain-boyer-et-du-quartier-de-la-coudouliere-par-claude-majastre/
CATEGORIES:Six-Fours
ATTACH;FMTTYPE=image/jpeg:https://lepetitvarois.fr/wp-content/uploads/2019/09/roof-tile-2159273_960_720.jpg
END:VEVENT
BEGIN:VEVENT
DTSTART;TZID=Europe/Paris:20190923T203000
DTEND;TZID=Europe/Paris:20190923T230000
DTSTAMP:20260420T203554
CREATED:20190908T135045Z
LAST-MODIFIED:20190908T135045Z
UID:12674-1569270600-1569279600@lepetitvarois.fr
SUMMARY:Projection du film en avant première "Alice et le Maire" suivi d'un débat
DESCRIPTION: Projection du film en avant première « Alice et le Maire » suivi d’un débat à 20h30. \nCinéma Six n’Etoiles\, 48 rue de la République. SIX FOURS\n> Tarifs habituels du Six N’étoiles et tarifs abonnée pour les membres de l’association Lumières du Sud.\nLumière(s) du Sud 06 13 30 62 40  lumieresdusud83@gmail.com – http://lumieresdusud83.blogspot.fr
URL:https://lepetitvarois.fr/event/projection-du-film-en-avant-premiere-alice-et-le-maire-suivi-dun-debat/
CATEGORIES:Six-Fours
ATTACH;FMTTYPE=image/jpeg:https://lepetitvarois.fr/wp-content/uploads/2019/09/4985388.jpg
END:VEVENT
BEGIN:VEVENT
DTSTART;TZID=Europe/Paris:20190925T183000
DTEND;TZID=Europe/Paris:20190925T200000
DTSTAMP:20260420T203554
CREATED:20190908T135146Z
LAST-MODIFIED:20190908T135146Z
UID:12677-1569436200-1569441600@lepetitvarois.fr
SUMMARY:Conversation anglaise tous niveaux
DESCRIPTION:Conversation anglaise tous niveaux de 18h30 à 20h. \nLe Mont Salva\, ch. du Mont Salva\, Le Brusc. SIX FOURS\nL’objectif étant de pratiquer la langue anglaise dans une ambiance et un cadre sympathique. \n> Gratuit + consommation obligatoire 3 €.\nSix-Fours English 06 98 46 27 65 masstguir@orange.fr
URL:https://lepetitvarois.fr/event/conversation-anglaise-tous-niveaux-2/
CATEGORIES:Six-Fours
ATTACH;FMTTYPE=image/jpeg:https://lepetitvarois.fr/wp-content/uploads/2018/04/american-1209605_960_720.jpg
END:VEVENT
BEGIN:VEVENT
DTSTART;TZID=Europe/Paris:20190928T120000
DTEND;TZID=Europe/Paris:20190928T170000
DTSTAMP:20260420T203554
CREATED:20190908T141129Z
LAST-MODIFIED:20190908T141129Z
UID:12686-1569672000-1569690000@lepetitvarois.fr
SUMMARY:Repas moules frites
DESCRIPTION: Repas moules frites à 12h. \nSquare Marcel Pagnol\, bd des Ecoles\, Les Lônes. SIX FOURS\nRepas avec animation pour profiter de la fin de l’été. Pensez à apporter vos couverts. \n> 21 € (Apéritif\, moules frites\, fromage\, dessert\, vins et café). Inscription obligatoire avec envoi du règlement par chèque à Les Lônes Mon Village\, 50 av. de Platanes\, 83140 Six Fours les Plages.\nLes Lônes mon village 07 86 13 44 31 leslonesmonvillage83@gmail.com – https://leslonesmonvillage.wordpress.com
URL:https://lepetitvarois.fr/event/repas-moules-frites/
CATEGORIES:Six-Fours
ATTACH;FMTTYPE=image/jpeg:https://lepetitvarois.fr/wp-content/uploads/2019/09/bowl-1842294_960_720.jpg
END:VEVENT
BEGIN:VEVENT
DTSTART;TZID=Europe/Paris:20190929T080000
DTEND;TZID=Europe/Paris:20190929T160000
DTSTAMP:20260420T203554
CREATED:20190908T142043Z
LAST-MODIFIED:20190908T142043Z
UID:12694-1569744000-1569772800@lepetitvarois.fr
SUMMARY:Vide-greniers
DESCRIPTION:Vide-greniers de 8h à 16h.\nContre allée de Lattre de Tassigny. SIX FOURS\n> 20 € l’emplacement. Réservation obligatoire pour les emplacements.\nAssociation Attrap’rêves 06 62 70 01 39 / 06 62 13 66 70 
URL:https://lepetitvarois.fr/event/vide-greniers-19/
CATEGORIES:Six-Fours
ATTACH;FMTTYPE=image/jpeg:https://lepetitvarois.fr/wp-content/uploads/2018/02/marbles-1659398_960_720.jpg
END:VEVENT
BEGIN:VEVENT
DTSTART;TZID=Europe/Paris:20190929T093000
DTEND;TZID=Europe/Paris:20190929T180000
DTSTAMP:20260420T203554
CREATED:20190908T142355Z
LAST-MODIFIED:20190908T142355Z
UID:12698-1569749400-1569780000@lepetitvarois.fr
SUMMARY: Journée handisport 10è édition
DESCRIPTION: Journée handisport 10è édition de 9h30 à 18h. \nIle des Embiez. SIX FOURS\nBateau Le Brusc-Les Embiez à 8h30\, 9h et 9h40 pour les participants (retour toutes les heures à partir de 14h). \nLes activités prévues : initiations et démonstrations de handibasket\, handitennis\, handbike\, handistep\, FTT\, balade boussole découverte\, tandem pour handicapés visuels\, découverte des Embiez en Joëlette\, tour des Embiez en petit train (payant). Activités nautiques (kayak et voilier) toute la journée et plongée le matin. \nA 14h\, concours de pétanque open en triplettes.\n> Gratuit. Inscription obligatoire pour pouvoir prendre le bateau gratuitement en renvoyant la fiche à  pham.handisport83@hotmail.fr\nSix Fours Handisport 04 94 74 29 49 / 06 33 61 95 80 sfhandisport@gmail.com
URL:https://lepetitvarois.fr/event/journee-handisport-10e-edition/
CATEGORIES:Six-Fours
ATTACH;FMTTYPE=image/jpeg:https://lepetitvarois.fr/wp-content/uploads/2019/09/wheelchair-749985_960_720.jpg
END:VEVENT
BEGIN:VEVENT
DTSTART;VALUE=DATE:20190930
DTEND;VALUE=DATE:20191001
DTSTAMP:20260420T203554
CREATED:20190908T142545Z
LAST-MODIFIED:20190908T142545Z
UID:12703-1569801600-1569887999@lepetitvarois.fr
SUMMARY:Collecte de sang
DESCRIPTION: Collecte de sang de 8h à 12h30 et de 15h à 19h30. \nHalle des sports du Verger\, 6 av. Maréchal de Lattre de Tassigny. SIX FOURS\nEtablissement français du sang 04 98 08 08 56 https://dondesang.efs.sante.fr 
URL:https://lepetitvarois.fr/event/collecte-de-sang-39/
CATEGORIES:Six-Fours
ATTACH;FMTTYPE=image/jpeg:https://lepetitvarois.fr/wp-content/uploads/2018/09/balloon-1046693_960_720.jpg
END:VEVENT
END:VCALENDAR