BEGIN:VCALENDAR
VERSION:2.0
PRODID:-//Le Petit Varois.Fr - ECPv6.0.10//NONSGML v1.0//EN
CALSCALE:GREGORIAN
METHOD:PUBLISH
X-WR-CALNAME:Le Petit Varois.Fr
X-ORIGINAL-URL:https://lepetitvarois.fr
X-WR-CALDESC:évènements pour Le Petit Varois.Fr
REFRESH-INTERVAL;VALUE=DURATION:PT1H
X-Robots-Tag:noindex
X-PUBLISHED-TTL:PT1H
BEGIN:VTIMEZONE
TZID:Europe/Paris
BEGIN:DAYLIGHT
TZOFFSETFROM:+0100
TZOFFSETTO:+0200
TZNAME:CEST
DTSTART:20200329T010000
END:DAYLIGHT
BEGIN:STANDARD
TZOFFSETFROM:+0200
TZOFFSETTO:+0100
TZNAME:CET
DTSTART:20201025T010000
END:STANDARD
END:VTIMEZONE
BEGIN:VEVENT
DTSTART;TZID=Europe/Paris:20200201T080000
DTEND;TZID=Europe/Paris:20200201T120000
DTSTAMP:20260420T123456
CREATED:20200129T213138Z
LAST-MODIFIED:20200129T213138Z
UID:14257-1580544000-1580558400@lepetitvarois.fr
SUMMARY:Brocante
DESCRIPTION: Brocante de 8h à 11h30. \nSecours Catholique\, 40 Boucle du Stade. SIX FOURS\nVenez faire des affaires : vêtements hommes\, femmes\, enfants à partir de 0\,50 €\, chaussures\, jouets\, petits appareils ménagers… \n> Accès libre. \nRenseignement 04 94 34 26 32  
URL:https://lepetitvarois.fr/event/brocante-10/
CATEGORIES:Six-Fours
ATTACH;FMTTYPE=image/jpeg:https://lepetitvarois.fr/wp-content/uploads/2019/03/dish-shelf-1290428_960_720.jpg
END:VEVENT
BEGIN:VEVENT
DTSTART;TZID=Europe/Paris:20200202T150000
DTEND;TZID=Europe/Paris:20200202T170000
DTSTAMP:20260420T123456
CREATED:20200129T213713Z
LAST-MODIFIED:20200129T213713Z
UID:14266-1580655600-1580662800@lepetitvarois.fr
SUMMARY:Loto
DESCRIPTION:Loto à 15h. \nEspace culturel André Malraux\, 100 av. de Lattre de Tassigny. SIX FOURS\nDe nombreux lots à gagner : 1 téléviseur – 1 aspirateur sans fil – 1 robot cuisine – 1 friteuse – 1 plancha – Paniers garnis – Bons d’achat\, et bien d’autres lots… \n> 6 € le carton  / 15 € les 3 cartons / 20 € 4 cartons / 25 € 6 carton  / Plaque de 4 Non Détachables : 15 € / Plaque de 6 Non Détachables : 20 €. Réservation à la villa Nuraghes les mardis et mercredis après-midi ou par téléphone.  \nLes Lônes mon village (Association) 07 86 13 44 31   \n 
URL:https://lepetitvarois.fr/event/loto-17/
CATEGORIES:Six-Fours
ATTACH;FMTTYPE=image/jpeg:https://lepetitvarois.fr/wp-content/uploads/2018/12/47146727_2408017149425928_791952447093342208_n.jpg
END:VEVENT
BEGIN:VEVENT
DTSTART;TZID=Europe/Paris:20200203T150000
DTEND;TZID=Europe/Paris:20200203T170000
DTSTAMP:20260420T123456
CREATED:20200129T213954Z
LAST-MODIFIED:20200129T213954Z
UID:14272-1580742000-1580749200@lepetitvarois.fr
SUMMARY:Conférence "Pour que vive la Méditerranée" animée par Nardo Vicente
DESCRIPTION:Conférence « Pour que vive la Méditerranée » animée par Nardo Vicente à 15h. \nThéâtre Daudet\, 100 av. du Maréchal de Lattre de Tassigny. SIX FOURS\n> Entrée libre. \nVoyages et Loisirs Culturels 06 70 37 05 55 www.vlcsixfours.fr \n 
URL:https://lepetitvarois.fr/event/conference-pour-que-vive-la-mediterranee-animee-par-nardo-vicente/
CATEGORIES:Six-Fours
ATTACH;FMTTYPE=image/jpeg:https://lepetitvarois.fr/wp-content/uploads/2019/03/blue-1840457_960_720.jpg
END:VEVENT
BEGIN:VEVENT
DTSTART;TZID=Europe/Paris:20200204T150000
DTEND;TZID=Europe/Paris:20200204T180000
DTSTAMP:20260420T123456
CREATED:20200129T214253Z
LAST-MODIFIED:20200129T214253Z
UID:14276-1580828400-1580839200@lepetitvarois.fr
SUMMARY:Après-midis dansants animés par Marcel Musette
DESCRIPTION:Après-midis dansants animés par Marcel Musette animateur\, chanteur et Dj de 15h à 18h. \nSalle Scarantino\, 45 rue du Stade. SIX FOURS\nToutes danses : rétro\, musette\, disco\, danses en ligne (madison\, kuduro\, tarentelle…). \n> 7 € adhérent / 9 € non-adhérent (12 € l’adhésion annuelle). Réservation obligatoire.\nAssociation Starmelody 06 14 33 17 76 83starmelody@gmail.com
URL:https://lepetitvarois.fr/event/apres-midis-dansants-animes-par-marcel-musette/
CATEGORIES:Six-Fours
ATTACH;FMTTYPE=image/jpeg:https://lepetitvarois.fr/wp-content/uploads/2018/06/dance-238263_960_720.jpg
END:VEVENT
BEGIN:VEVENT
DTSTART;TZID=Europe/Paris:20200205T183000
DTEND;TZID=Europe/Paris:20200205T200000
DTSTAMP:20260420T123456
CREATED:20200129T214443Z
LAST-MODIFIED:20200129T214443Z
UID:14280-1580927400-1580932800@lepetitvarois.fr
SUMMARY:Conversation anglaise tous niveaux
DESCRIPTION:Conversation anglaise tous niveaux de 18h30 à 20h. \nRestaurant Le Mont Salva\, ch. du Mont Salva\, Le Brusc. SIX FOURS\nConversation en présence d’une enseignante d’anglais. Ouvert à tous\, débutants ou confirmés de 7 à 77 ans et plus. \nL’objectif étant de pratiquer la langue anglaise dans une ambiance et un cadre sympathique. \n> Gratuit + consommation obligatoire 3 €. \nSix-Fours English 06 98 46 27 65 masstguir@orange.fr 
URL:https://lepetitvarois.fr/event/conversation-anglaise-tous-niveaux-6/
CATEGORIES:Six-Fours
ATTACH;FMTTYPE=image/jpeg:https://lepetitvarois.fr/wp-content/uploads/2018/04/american-1209605_960_720.jpg
END:VEVENT
BEGIN:VEVENT
DTSTART;TZID=Europe/Paris:20200206T143000
DTEND;TZID=Europe/Paris:20200206T170000
DTSTAMP:20260420T123456
CREATED:20200129T214548Z
LAST-MODIFIED:20200129T214548Z
UID:14282-1580999400-1581008400@lepetitvarois.fr
SUMMARY:Conférence d'histoire de l'art "Traduire en peinture des sensations fugitives : Paul Cézanne"
DESCRIPTION:Conférence d’histoire de l’art « Traduire en peinture des sensations fugitives : Paul Cézanne » à 14h30. \nMaison du Cygne\, Bois de la Coudoulière. SIX FOURS\n> Inscription obligatoire.\nAssociation Cultures Ecritures Peintures 04 94 91 52 95 biancris@orange.fr 
URL:https://lepetitvarois.fr/event/conference-dhistoire-de-lart-traduire-en-peinture-des-sensations-fugitives-paul-cezanne/
CATEGORIES:Six-Fours
ATTACH;FMTTYPE=image/jpeg:https://lepetitvarois.fr/wp-content/uploads/2018/02/brush-2892324_960_720.jpg
END:VEVENT
BEGIN:VEVENT
DTSTART;TZID=Europe/Paris:20200206T190000
DTEND;TZID=Europe/Paris:20200206T210000
DTSTAMP:20260420T123456
CREATED:20200129T214656Z
LAST-MODIFIED:20200129T214656Z
UID:14284-1581015600-1581022800@lepetitvarois.fr
SUMMARY:L'Opéra de Paris en direct : ballet "Giselle"
DESCRIPTION: L’Opéra de Paris en direct : ballet « Giselle » à 19h15. \nCinéma Six n’Etoiles\, 48 rue de la République. SIX FOURS\nBallet romantique par excellence\, Giselle marque l’apogée d’une nouvelle esthétique. Tutus vaporeux\, gaze blanche\, tulle et tarlatane envahissent la scène. Dans la transfiguration fantastique d’une tragédie\, les Wilis participent à l’illusion de l’immatérialité. Créé à l’Académie royale de Musique le 28 juin 1841\, le ballet voyage en Russie et disparaît du répertoire avant son retour en France en 1910. C’est aujourd’hui dans la version de Patrice Bart et d’Eugène Polyakov\, fidèle à la chorégraphie originelle de Jean Coralli et Jules Perrot\, que le ballet continue de confirmer ses premiers succès. Scènes lumineuses et terrestres\, visions nocturnes et spectrales : la danse devient langage de l’âme et la ballerine par sa présence aérienne semble triompher de la pesanteur.\n> 19\,90 € / 15 € pour les – de 16 ans. \nRéservation 04 94 26 58 48 contact.sixnetoiles@gmail.com – www.sixnetoiles.fr
URL:https://lepetitvarois.fr/event/lopera-de-paris-en-direct-ballet-giselle/
CATEGORIES:Six-Fours
ATTACH;FMTTYPE=image/jpeg:https://lepetitvarois.fr/wp-content/uploads/2019/05/opera-594592_960_720.jpg
END:VEVENT
BEGIN:VEVENT
DTSTART;TZID=Europe/Paris:20200206T193000
DTEND;TZID=Europe/Paris:20200206T210000
DTSTAMP:20260420T123456
CREATED:20200129T214831Z
LAST-MODIFIED:20200129T214831Z
UID:14286-1581017400-1581022800@lepetitvarois.fr
SUMMARY:Café philo "La créativité artificielle"
DESCRIPTION:Café philo « La créativité artificielle » par Jacques Beaudrey à 19h30. \nRestaurant Le Mont Salva\, ch. du Mont Salva\, Le Brusc. SIX FOURS \nDe Turing en 1950 jusqu’à nos jours\, l’intelligence artificielle a beaucoup évolué\, et nous surprend chaque jour\, principalement depuis 2010. En parallèle avec la montée en puissance des ordinateurs\, ainsi que de nouvelles techniques comme les réseaux de neurones et les Big Data\, on voit déferler des nouveautés étonnantes en matière de créativité : on assiste en effet à l’avènement d’une nouvelle mutation : la révolution Cognitive.  \nNul doute que cette soirée nous éclairera sur les nouvelles perspectives qui s’offrent à nous perspectives qui peuvent nous enthousiasmer\, mais aussi nous inquiéter parfois.\n> 5 € la séance (2\,50 € pour les -25 ans) + consommation obligatoire 2\,50 €. Possibilité de dîner sur place ensuite avec le conférencier 24 €\, vin compris. \nLe Rendez-vous des Idées 06 38 40 07 70  
URL:https://lepetitvarois.fr/event/cafe-philo-la-creativite-artificielle/
CATEGORIES:Six-Fours
ATTACH;FMTTYPE=image/jpeg:https://lepetitvarois.fr/wp-content/uploads/2019/10/coffee-4205091_960_720.jpg
END:VEVENT
BEGIN:VEVENT
DTSTART;TZID=Europe/Paris:20200207T190000
DTEND;TZID=Europe/Paris:20200207T210000
DTSTAMP:20260420T123456
CREATED:20200129T215043Z
LAST-MODIFIED:20200129T215043Z
UID:14291-1581102000-1581109200@lepetitvarois.fr
SUMMARY:Avant première "Le Prince oublié" au profit du Rotary de Six Fours
DESCRIPTION:Avant première « Le Prince oublié » au profit du Rotary de Six Fours à 19h. \nCinéma Six n’Etoiles\, 48 rue de la République . SIX FOURS\nRésumé : Djibi vit seul avec Sofia\, sa fille de 8 ans. Tous les soirs\, il invente une histoire pour l’endormir. Lorsque Sofia s’endort\, ces récits extraordinaires prennent vie quelque part dans un monde imaginaire peuplé. Trois ans plus tard\, l’entrée de Sofia au collège va marquer la fin de son enfance. Au grand désespoir de son père\, elle n’a plus besoin de ses histoires le soir. Djibi va alors devoir accepter que sa fille grandisse et le prince du monde imaginaire va devoir trouver sa place.\n> 15 € tarif unique (dont la moitié est reversée à la recherche des maladies du cerveau).  \nRéservation 04 94 26 58 48 contact.sixnetoiles@gmail.com – www.sixnetoiles.fr
URL:https://lepetitvarois.fr/event/avant-premiere-le-prince-oublie-au-profit-du-rotary-de-six-fours/
CATEGORIES:Six-Fours
ATTACH;FMTTYPE=image/png:https://lepetitvarois.fr/wp-content/uploads/2020/01/Capture-d’écran-2020-01-10-à-00.39.08.png
END:VEVENT
BEGIN:VEVENT
DTSTART;TZID=Europe/Paris:20200208T203000
DTEND;TZID=Europe/Paris:20200208T233000
DTSTAMP:20260420T123456
CREATED:20200202T193055Z
LAST-MODIFIED:20200202T193055Z
UID:14322-1581193800-1581204600@lepetitvarois.fr
SUMMARY:Soirée dansante animée par Dj Chris 83
DESCRIPTION: Soirée dansante animée par Dj Chris 83 à 20h30. \nEspace culturel André Malraux\, 100 av. de Lattre de Tassigny. SIX FOURS\nDevant le succès des précédentes soirées dansantes\, plébiscitées par un public toujours nombreux\, Six Fours Handisport organise une nouvelle soirée dansante animée par Dj Chris. Belle ambiance très conviviale pour les amoureux de la danse et ceux qui aiment d’éclater au son de la musique (tango\, pasos\, valses\, disco\, salsa\, bachatas\, rock\, madison…). \nBuffet gourmand et boissons pour maintenir le rythme.\n> 15 € avec une boisson et une pâtisserie. Réservation fortement conseillée. \nSix Fours Handisport 04 94 74 29 49 / 06 09 84 53 33 
URL:https://lepetitvarois.fr/event/soiree-dansante-animee-par-dj-chris-83/
CATEGORIES:Six-Fours
ATTACH;FMTTYPE=image/jpeg:https://lepetitvarois.fr/wp-content/uploads/2018/06/dance-238263_960_720.jpg
END:VEVENT
BEGIN:VEVENT
DTSTART;TZID=Europe/Paris:20200209T153000
DTEND;TZID=Europe/Paris:20200209T170000
DTSTAMP:20260420T123456
CREATED:20200202T193250Z
LAST-MODIFIED:20200202T193250Z
UID:14326-1581262200-1581267600@lepetitvarois.fr
SUMMARY:Contes et histoires pour enfants
DESCRIPTION: Contes et histoires pour enfants à 15h30. \nMaison du Patrimoine\, corniche des Iles Paul Ricard\, Le Brusc. SIX FOURS\nContes et histoires par les conteuses du Jardin des Contes et Stéphane au piano. \nLa représentation dure une heure environ et sera suivie d’un goûter offert par Le Jardin des Contes. \n> 5 € / Gratuit pour les moins de 6 ans. \nLe Jardin des Contes (Association) 06 87  87 77 30 / 04 94 74 95 11 jardindescontes@wanadoo.fr – http://lejardindescontes.blogspot.com
URL:https://lepetitvarois.fr/event/contes-et-histoires-pour-enfants-2/
CATEGORIES:Six-Fours
ATTACH;FMTTYPE=image/jpeg:https://lepetitvarois.fr/wp-content/uploads/2018/01/books-2863724_960_720.jpg
END:VEVENT
BEGIN:VEVENT
DTSTART;TZID=Europe/Paris:20200210T203000
DTEND;TZID=Europe/Paris:20200210T233000
DTSTAMP:20260420T123456
CREATED:20200202T193459Z
LAST-MODIFIED:20200202T193459Z
UID:14330-1581366600-1581377400@lepetitvarois.fr
SUMMARY:Projection du film "Les Siffleurs" en VOST suivi d’un débat
DESCRIPTION:Projection du film « Les Siffleurs » en VOST suivi d’un débat à 20h30. \nCinéma Six n’Etoiles\, 48 rue de la République. SIX FOURS\nAvertissement : des scènes\, des propos ou des images peuvent heurter la sensibilité des spectateurs. \nRésumé : Cristi\, un inspecteur de police de Bucarest corrompu par des trafiquants de drogue\, est soupçonné par ses supérieurs et mis sur écoute. Embarqué malgré lui par la sulfureuse Gilda sur l’île de la Gomera\, il doit apprendre vite le Silbo\, une langue sifflée ancestrale. Grâce à ce langage secret\, il pourra libérer en Roumanie un mafieux de prison et récupérer les millions cachés. Mais l’amour va s’en mêler et rien ne se passera comme prévu…\n> Tarifs habituels du Six N’étoiles et tarifs abonnés pour les membres de l’association Lumières du Sud.  \nRéservation 04 94 26 58 48 www.sixnetoiles.fr – http://lumieresdusud83.blogspot.fr
URL:https://lepetitvarois.fr/event/projection-du-film-les-siffleurs-en-vost-suivi-dun-debat/
CATEGORIES:Six-Fours
ATTACH;FMTTYPE=image/png:https://lepetitvarois.fr/wp-content/uploads/2020/01/Capture-d’écran-2020-01-10-à-00.39.08.png
END:VEVENT
BEGIN:VEVENT
DTSTART;TZID=Europe/Paris:20200211T150000
DTEND;TZID=Europe/Paris:20200211T170000
DTSTAMP:20260420T123456
CREATED:20200202T193557Z
LAST-MODIFIED:20200202T193557Z
UID:14332-1581433200-1581440400@lepetitvarois.fr
SUMMARY:Après-midis dansants animés par Marcel Musette
DESCRIPTION:Après-midis dansants animés par Marcel Musette animateur\, chanteur et Dj de 15h à 18h. \nSalle Scarantino\, 45 rue du Stade. SIX FOURS\nToutes danses : rétro\, musette\, disco\, danses en ligne (madison\, kuduro\, tarentelle…). \n> 7 € adhérent / 9 € non-adhérent (12 € l’adhésion annuelle). Réservation obligatoire.\nAssociation Starmelody 06 14 33 17 76 83starmelody@gmail.com 
URL:https://lepetitvarois.fr/event/apres-midis-dansants-animes-par-marcel-musette-2/
CATEGORIES:Six-Fours
ATTACH;FMTTYPE=image/jpeg:https://lepetitvarois.fr/wp-content/uploads/2018/06/dance-238263_960_720.jpg
END:VEVENT
BEGIN:VEVENT
DTSTART;TZID=Europe/Paris:20200212T203000
DTEND;TZID=Europe/Paris:20200212T223000
DTSTAMP:20260420T123456
CREATED:20200202T193816Z
LAST-MODIFIED:20200202T193816Z
UID:14336-1581539400-1581546600@lepetitvarois.fr
SUMMARY:Ciné-rencontre "Déplacer les Montagnes"
DESCRIPTION: Ciné-rencontre « Déplacer les Montagnes » en présence de la réalisatrice Laetitia Cuvelier à 20h30. \nCinéma Six n’Etoiles\, 48 rue de la République. SIX FOURS. \nRésumé: Dans nos montagnes\, là où nous avons choisi de vivre\, nous voyions des espaces de liberté\, des cols\, des passages et des invitations au voyage. Nous avons vu une frontière se dessiner\, de la violence contre les personnes exilées\, des drames et des élans de solidarité. Nous avons vu des portes s’ouvrir\, des liens se nouer à la croisée de ces chemins d’exil et d’hospitalité. Nous avons eu envie de faire raconter cette aventure par ceux qui arrivent et celles et ceux qui accueillent. Parce que cette histoire de rencontres dit quelque chose de nous et du monde dans lequel nous vivons. Anne\, Yves\, Fanfan\, Max et Alia habitent les vallées du Briançonnais. Les chemins de l’exil ont conduit Ossoul\, Abdallah\, Ali et Boubacar dans ces montagnes frontière et refuge. Comment se rencontrent-ils ? Quels sont leurs rêves\, leurs colères et leurs espoirs ? Comment tentent-ils de déplacer des montagnes ? Dans leurs récits et dans les moments de fraternité qu’ils partagent\, s’esquissent des réponses et d’autres interrogations…\n> Tarifs habituels du cinéma. \nRéservation 04 94 26 58 48 www.sixnetoiles.fr
URL:https://lepetitvarois.fr/event/cine-rencontre-deplacer-les-montagnes/
CATEGORIES:Six-Fours
ATTACH;FMTTYPE=image/jpeg:https://lepetitvarois.fr/wp-content/uploads/2018/09/analogue-2974647_960_720.jpg
END:VEVENT
BEGIN:VEVENT
DTSTART;VALUE=DATE:20200214
DTEND;VALUE=DATE:20200216
DTSTAMP:20260420T123456
CREATED:20200202T194009Z
LAST-MODIFIED:20200202T194009Z
UID:14340-1581638400-1581811199@lepetitvarois.fr
SUMMARY:3è salon de la Femme
DESCRIPTION:3è salon de la Femme  \nSamedi 14 février de 14h à 20h et dimanche 15 février de 9h30 à 19h. Espace culturel André Malraux\, 100 av. de Lattre de Tassigny. SIX FOURS\nDécouvrez notre 3è salon 100% Féminin\, 100% Détente : mode\, beauté\, bien-être\, santé\, sport\, bijoux\, défilé\, déco…\n> Entrée libre. \nAssociation Provence Méditerranée Evènements 07 62 80 90 08  
URL:https://lepetitvarois.fr/event/3e-salon-de-la-femme/
CATEGORIES:Six-Fours
ATTACH;FMTTYPE=image/jpeg:https://lepetitvarois.fr/wp-content/uploads/2019/02/joan-collins-hollywood-1260860_960_720.jpg
END:VEVENT
BEGIN:VEVENT
DTSTART;VALUE=DATE:20200215
DTEND;VALUE=DATE:20200216
DTSTAMP:20260420T123456
CREATED:20200202T194239Z
LAST-MODIFIED:20200202T194239Z
UID:14342-1581724800-1581811199@lepetitvarois.fr
SUMMARY:43è exposition philatélique et cartophile
DESCRIPTION:43è exposition philatélique et cartophile ouvert de 9h à 12h et de 14h à 18h. Vernissage vendredi 14 février à 18h. \nBourse du Travail\, 42 av. Gambetta. LA SEYNE\n> Entrée libre. \nEntente Philatélique Seynoise 06 84 38 64 94
URL:https://lepetitvarois.fr/event/43e-exposition-philatelique-et-cartophile/
CATEGORIES:Six-Fours
ATTACH;FMTTYPE=image/png:https://lepetitvarois.fr/wp-content/uploads/2018/09/Capture-d’écran-2018-09-26-à-21.51.09.png
END:VEVENT
BEGIN:VEVENT
DTSTART;VALUE=DATE:20200218
DTEND;VALUE=DATE:20200302
DTSTAMP:20260420T123456
CREATED:20200202T195630Z
LAST-MODIFIED:20200202T195630Z
UID:14363-1581984000-1583107199@lepetitvarois.fr
SUMMARY:Cirque Warren Zavatta
DESCRIPTION: Cirque Warren Zavatta  \nReprésentation tous les jours à 16h (Durée 1h30). Parking du port de la Coudoulière\, corniche de la Coudoulière. SIX FOURS\nLe cirque Warren Zavatta vous propose son nouveau spectacle « Les 1000 couleurs » avec des numéros internationaux\, la Reine des Neiges\, la malle des Indes\, la grande illusion. Retour des Super Héros\, de nos multiples T-REX\, nos dinosaures robotisés\, tous les amis de la Pat’Patrouille\, les clowns musicaux et un final époustouflant. \nChapiteau chauffé.\n> Gradins : 12 € enfants / 16 € adultes. Chaises : 17 € enfants / 19 € adultes. Billetterie en vente sur place toute la journée (Demander la caissière). \nRenseignement 06 64 25 05 48   \n 
URL:https://lepetitvarois.fr/event/cirque-warren-zavatta/
CATEGORIES:Six-Fours
ATTACH;FMTTYPE=image/jpeg:https://lepetitvarois.fr/wp-content/uploads/2018/06/circus-828680_960_720.jpg
END:VEVENT
BEGIN:VEVENT
DTSTART;TZID=Europe/Paris:20200218T150000
DTEND;TZID=Europe/Paris:20200218T170000
DTSTAMP:20260420T123456
CREATED:20200202T195522Z
LAST-MODIFIED:20200202T195522Z
UID:14361-1582038000-1582045200@lepetitvarois.fr
SUMMARY:Après-midis dansants animés par Marcel Musette
DESCRIPTION:Après-midis dansants animés par Marcel Musette animateur\, chanteur et Dj de 15h à 18h. \nSalle Scarantino\, 45 rue du Stade. SIX FOURS\nToutes danses : rétro\, musette\, disco\, danses en ligne (madison\, kuduro\, tarentelle…). \n> 7 € adhérent / 9 € non-adhérent (12 € l’adhésion annuelle). Réservation obligatoire.\nAssociation Starmelody 06 14 33 17 76 83starmelody@gmail.com 
URL:https://lepetitvarois.fr/event/apres-midis-dansants-animes-par-marcel-musette-3/
CATEGORIES:Six-Fours
ATTACH;FMTTYPE=image/jpeg:https://lepetitvarois.fr/wp-content/uploads/2018/06/dance-238263_960_720.jpg
END:VEVENT
BEGIN:VEVENT
DTSTART;TZID=Europe/Paris:20200219T090000
DTEND;TZID=Europe/Paris:20200219T130000
DTSTAMP:20260420T123456
CREATED:20200202T195811Z
LAST-MODIFIED:20200202T195811Z
UID:14365-1582102800-1582117200@lepetitvarois.fr
SUMMARY:Forum de l'emploi
DESCRIPTION:Forum de l’emploi de 9h à 13h. \nHalle des sports du Verger\, 6 av. Maréchal de Lattre de Tassigny. SIX FOURS\nOrganisé par le CCAS en partenariat avec le Pôle emploi de Six Fours\, plus d’une cinquantaine d’entreprise réparties sur le secteur littoral sud sainte baume seront présentes proposant des postes dans divers secteurs d’activités : armée\, sécurité\, automobile\, casino de jeux\, mécanique navale\, commerce et grande distribution\, EPHAD\, hôtellerie/restauration\, immobilier\, industrie cosmétique\,  mutuelle\, nettoyage\, notaire\, services à la personne\, viticulture…  \nLes demandeurs d’emplois pourront échanger avec les recruteurs qui proposeront des postes en CDD ou CDI. A noter\, entre autre\, la présence de la société hôtelière Ricard Les Embiez\, Monaco Marine\, les enseignes Castorama\, Metro\, Carrefour Market\, Gemy Peugeot\, le Casino Viking et le domaine viticole OTT.  \nAfin de mieux se préparer aux entretiens\, mise en place d’ateliers coaching réalisés tout au long de la matinée par les agents de Pôle Emploi.  \nNB : des mesures de sécurité seront en place pour l’accès à la salle. Ainsi\, veillez à venir avec le strict minimum sur vous (CV\, lettre de motivation\, papier identité\, …) et éviter les sacs trop volumineux pour un gain de temps à l’entrée et pour la sécurité de tous.  \nEmplois saisonniers :  \nLes recrutements pour les postes saisonniers de juin à septembre seront proposés sur les stands de la Mairie pour les postes ville et sur les stands TPM pour les emplois relevant de la Métropole Toulon Provence Méditerranée. Dossier d’inscriptions “emploi saisonnier” à retirer dans les différents points d’accueil de la mairie.\n> Entrée libre. \nCentre Communal d’Actions Sociales 04 94 34 94 50 evenementiels-ccas@mairie-six-fours.fr  \n 
URL:https://lepetitvarois.fr/event/forum-de-lemploi/
CATEGORIES:Six-Fours
ATTACH;FMTTYPE=image/jpeg:https://lepetitvarois.fr/wp-content/uploads/2018/06/adult-1868049_960_720.jpg
END:VEVENT
BEGIN:VEVENT
DTSTART;TZID=Europe/Paris:20200219T183000
DTEND;TZID=Europe/Paris:20200219T200000
DTSTAMP:20260420T123456
CREATED:20200202T200049Z
LAST-MODIFIED:20200202T200049Z
UID:14371-1582137000-1582142400@lepetitvarois.fr
SUMMARY:Conversation anglaise tous niveaux
DESCRIPTION:Conversation anglaise tous niveaux de 18h30 à 20h. \nRestaurant Le Mont Salva\, ch. du Mont Salva\, Le Brusc. SIX FOURS\nConversation en présence d’une enseignante d’anglais. Ouvert à tous\, débutants ou confirmés de 7 à 77 ans et plus. \nL’objectif étant de pratiquer la langue anglaise dans une ambiance et un cadre sympathique. \n> Gratuit + consommation obligatoire 3 €. \nSix-Fours English 06 98 46 27 65 masstguir@orange.fr  \n 
URL:https://lepetitvarois.fr/event/conversation-anglaise-tous-niveaux-7/
CATEGORIES:Six-Fours
ATTACH;FMTTYPE=image/jpeg:https://lepetitvarois.fr/wp-content/uploads/2018/04/american-1209605_960_720.jpg
END:VEVENT
BEGIN:VEVENT
DTSTART;TZID=Europe/Paris:20200223T093000
DTEND;TZID=Europe/Paris:20200223T113000
DTSTAMP:20260420T123456
CREATED:20200202T201119Z
LAST-MODIFIED:20200202T201119Z
UID:14385-1582450200-1582457400@lepetitvarois.fr
SUMMARY:Sophro-balade
DESCRIPTION:■ Sophro-balade de 9h30 à 11h30. \nLieu donné lors de la réservation. SIX FOURS\nvivez une expérience de connexions à soi et à la nature ! un moment tout en douceur et sérénité pour vous libérer de vos tensions\, retrouver une harmonie\, votre bien-être et votre énergie ! Nous alternons un temps de marche douce et consciente\, avec des pauses sophrologie. \nParcours de 2 km – niveau facile\n> 15 € la sophro-balade / 39 € les 3 sophro-balades / 60 € les 5 sophro-balades. Inscription obligatoire car nombre de participants limités. \nStéphane Plessis (Sophrologue) 06 52 11 56 00
URL:https://lepetitvarois.fr/event/sophro-balade-2/
CATEGORIES:Six-Fours
ATTACH;FMTTYPE=image/jpeg:https://lepetitvarois.fr/wp-content/uploads/2019/09/woman-3990769_960_720.jpg
END:VEVENT
BEGIN:VEVENT
DTSTART;TZID=Europe/Paris:20200223T120000
DTEND;TZID=Europe/Paris:20200223T180000
DTSTAMP:20260420T123456
CREATED:20200202T201220Z
LAST-MODIFIED:20200202T201220Z
UID:14387-1582459200-1582480800@lepetitvarois.fr
SUMMARY:Repas dansant avec Marcel Musette
DESCRIPTION: Repas dansant avec Marcel Musette\, animateur Dj et chanteur de 12h à 18h. \nSalle Scarantino\, 45 rue du Stade. SIX FOURS\n> 28 € adhérents / 30 € non-adhérents. Réservation obligatoire. \nAssociation Starmelody 06 14 33 17 76 83starmelody@gmail.com 
URL:https://lepetitvarois.fr/event/repas-dansant-avec-marcel-musette/
CATEGORIES:Six-Fours
ATTACH;FMTTYPE=image/jpeg:https://lepetitvarois.fr/wp-content/uploads/2018/06/dance-238263_960_720.jpg
END:VEVENT
BEGIN:VEVENT
DTSTART;TZID=Europe/Paris:20200223T150000
DTEND;TZID=Europe/Paris:20200223T170000
DTSTAMP:20260420T123456
CREATED:20200202T201539Z
LAST-MODIFIED:20200202T201539Z
UID:14393-1582470000-1582477200@lepetitvarois.fr
SUMMARY:Concert au profit de la SNSM
DESCRIPTION:Concert au profit de la SNSM à 15h. \nEspace culturel André Malraux\, 100 av. de Lattre de Tassigny. SIX FOURS\nPremière partie: Ensemble Les Cuivres de la Garde. \nSeconde partie: Orchestre d’harmonie de La Six-Fournaise sous la direction de Gisèle Ghigo. \nPrésentations et animations orchestrées par les bénévoles de la SNSM. \n> Participation libre. Les recettes feront l’objet d’un don au profit de la SNSM. \nSociété philharmonique la Six Fournaise 06 87 63 32 16 sixfoursphilharmonie@gmail.com 
URL:https://lepetitvarois.fr/event/concert-au-profit-de-la-snsm/
CATEGORIES:Six-Fours
ATTACH;FMTTYPE=image/jpeg:https://lepetitvarois.fr/wp-content/uploads/2019/09/snsm-bandol-inter-20190913_4.jpg
END:VEVENT
BEGIN:VEVENT
DTSTART;TZID=Europe/Paris:20200224T080000
DTEND;TZID=Europe/Paris:20200224T123000
DTSTAMP:20260420T123456
CREATED:20200202T201645Z
LAST-MODIFIED:20200202T201645Z
UID:14395-1582531200-1582547400@lepetitvarois.fr
SUMMARY:Collecte de sang
DESCRIPTION:Collecte de sang de 8h à 12h30. \nHalle des sports du Verger\, 6 av. Maréchal de Lattre de Tassigny. SIX FOURS\nEtablissement français du sang 04 98 08 08 56 
URL:https://lepetitvarois.fr/event/collecte-de-sang-49/
CATEGORIES:Six-Fours
ATTACH;FMTTYPE=image/jpeg:https://lepetitvarois.fr/wp-content/uploads/2018/09/balloon-1046693_960_720.jpg
END:VEVENT
BEGIN:VEVENT
DTSTART;TZID=Europe/Paris:20200229T203000
DTEND;TZID=Europe/Paris:20200229T223000
DTSTAMP:20260420T123456
CREATED:20200202T202226Z
LAST-MODIFIED:20200202T202226Z
UID:14407-1583008200-1583015400@lepetitvarois.fr
SUMMARY:Soirée dansante au profit des enfants démunis de Madagascar
DESCRIPTION:Soirée dansante au profit des enfants démunis de Madagascar à 20h30. \nEspace culturel André Malraux\, 100 av. de Lattre de Tassigny. SIX FOURS\nSoirée dansante animée bénévolement par « Janimations ».  Buvette et petite restauration sur place. \n> 15 €. Réservation obligatoire. \nAssociation Sekolin’ Ny Masoandro 04 94 34 00 74 / 06 70 77 04 88
URL:https://lepetitvarois.fr/event/soiree-dansante-au-profit-des-enfants-demunis-de-madagascar/
CATEGORIES:Six-Fours
ATTACH;FMTTYPE=image/jpeg:https://lepetitvarois.fr/wp-content/uploads/2018/08/38600758_1642067905922295_5570388311635132416_n.jpg
END:VEVENT
END:VCALENDAR