BEGIN:VCALENDAR
VERSION:2.0
PRODID:-//Le Petit Varois.Fr - ECPv6.0.10//NONSGML v1.0//EN
CALSCALE:GREGORIAN
METHOD:PUBLISH
X-WR-CALNAME:Le Petit Varois.Fr
X-ORIGINAL-URL:https://lepetitvarois.fr
X-WR-CALDESC:évènements pour Le Petit Varois.Fr
REFRESH-INTERVAL;VALUE=DURATION:PT1H
X-Robots-Tag:noindex
X-PUBLISHED-TTL:PT1H
BEGIN:VTIMEZONE
TZID:Europe/Paris
BEGIN:DAYLIGHT
TZOFFSETFROM:+0100
TZOFFSETTO:+0200
TZNAME:CEST
DTSTART:20200329T010000
END:DAYLIGHT
BEGIN:STANDARD
TZOFFSETFROM:+0200
TZOFFSETTO:+0100
TZNAME:CET
DTSTART:20201025T010000
END:STANDARD
END:VTIMEZONE
BEGIN:VEVENT
DTSTART;VALUE=DATE:20200218
DTEND;VALUE=DATE:20200302
DTSTAMP:20260420T110530
CREATED:20200202T195630Z
LAST-MODIFIED:20200202T195630Z
UID:14363-1581984000-1583107199@lepetitvarois.fr
SUMMARY:Cirque Warren Zavatta
DESCRIPTION: Cirque Warren Zavatta  \nReprésentation tous les jours à 16h (Durée 1h30). Parking du port de la Coudoulière\, corniche de la Coudoulière. SIX FOURS\nLe cirque Warren Zavatta vous propose son nouveau spectacle « Les 1000 couleurs » avec des numéros internationaux\, la Reine des Neiges\, la malle des Indes\, la grande illusion. Retour des Super Héros\, de nos multiples T-REX\, nos dinosaures robotisés\, tous les amis de la Pat’Patrouille\, les clowns musicaux et un final époustouflant. \nChapiteau chauffé.\n> Gradins : 12 € enfants / 16 € adultes. Chaises : 17 € enfants / 19 € adultes. Billetterie en vente sur place toute la journée (Demander la caissière). \nRenseignement 06 64 25 05 48   \n 
URL:https://lepetitvarois.fr/event/cirque-warren-zavatta/
CATEGORIES:Six-Fours
ATTACH;FMTTYPE=image/jpeg:https://lepetitvarois.fr/wp-content/uploads/2018/06/circus-828680_960_720.jpg
END:VEVENT
BEGIN:VEVENT
DTSTART;TZID=Europe/Paris:20200309T150000
DTEND;TZID=Europe/Paris:20200309T170000
DTSTAMP:20260420T110530
CREATED:20200307T202502Z
LAST-MODIFIED:20200307T202502Z
UID:14661-1583766000-1583773200@lepetitvarois.fr
SUMMARY:Conférence "L'homme amoureux : symphonie magique ou simple orage chimique ?"
DESCRIPTION: Conférence « L’homme amoureux : symphonie magique ou simple orage chimique ? » par le Docteur André Bernardini-Soleillet à 15h. \nThéâtre Daudet\, 208 av. du Maréchal de Lattre de Tassigny. SIX FOURS\nDepuis toujours\, poètes\, écrivains\, chanteurs\, peintres\, cinéastes se penchent sur le mystère de l’état amoureux. Grâce aux progrès de l’imagerie médicale (IRM en particulier)\, l’homme de science apporte un éclairage nouveau sur le fonctionnement d’un cerveau amoureux inondé d’émotions. Outre cet orage biochimique\, quelques autres aspects plus classiques de l’homme amoureux seront abordés : amour-passion\, amour-attachement\, l’évolution de la conduite amoureuse au fil du temps et bien sûr\, la magie du « coup de foudre »\, immuable dans son déroulement… Finalement\, à quoi ça sert l’amour ? A perpétuer l’espèce ou à enjoliver le quotidien ? Vaste question ! A chacun d’essayer d’y répondre !…\n> Entrée libre. \nVoyages et Loisirs Culturels (association) 06 70 37 05 55 
URL:https://lepetitvarois.fr/event/conference-lhomme-amoureux-symphonie-magique-ou-simple-orage-chimique/
CATEGORIES:Six-Fours
ATTACH;FMTTYPE=image/jpeg:https://lepetitvarois.fr/wp-content/uploads/2018/09/balloon-1046693_960_720.jpg
END:VEVENT
BEGIN:VEVENT
DTSTART;TZID=Europe/Paris:20200309T180000
DTEND;TZID=Europe/Paris:20200309T210000
DTSTAMP:20260420T110530
CREATED:20200307T202611Z
LAST-MODIFIED:20200307T202611Z
UID:14663-1583776800-1583787600@lepetitvarois.fr
SUMMARY:Projection du film "Les Invisibles" pour la Journée Internationale de la femme
DESCRIPTION:Projection du film « Les Invisibles » pour la Journée Internationale de la femme à 18h. \nCinéma Six n’Etoiles\, 48 rue de la République. SIX FOURS\nRésumé : Suite à une décision municipale\, l’Envol\, centre d’accueil pour femmes SDF\, va fermer. Il ne reste plus que trois mois aux travailleuses sociales pour réinsérer coûte que coûte les femmes dont elles s’occupent : falsifications\, pistons\, mensonges… Désormais\, tout est permis !\n> Séance offerte par la ville de Six Fours. Réservation dans la limite des places disponibles à retirer directement à l’accueil du cinéma. \nRenseignement 04 94 26 58 48 contact.sixnetoiles@gmail.com – www.sixnetoiles.fr
URL:https://lepetitvarois.fr/event/projection-du-film-les-invisibles-pour-la-journee-internationale-de-la-femme/
CATEGORIES:Six-Fours
ATTACH;FMTTYPE=image/png:https://lepetitvarois.fr/wp-content/uploads/2020/01/Capture-d’écran-2020-01-10-à-00.39.08.png
END:VEVENT
BEGIN:VEVENT
DTSTART;TZID=Europe/Paris:20200310T150000
DTEND;TZID=Europe/Paris:20200310T180000
DTSTAMP:20260420T110530
CREATED:20200307T202724Z
LAST-MODIFIED:20200307T202724Z
UID:14665-1583852400-1583863200@lepetitvarois.fr
SUMMARY:Thé dansant
DESCRIPTION: Thé dansant animé par Marcel Musette animateur\, chanteur et Dj de 15h à 18h. \nSalle Scarantino\, 45 rue du Stade. SIX FOURS\nToutes danses : rétro\, musette\, disco\, danses en ligne (madison\, kuduro\, tarentelle…). \n> 7 € adhérent / 9 € non-adhérent. Réservation obligatoire.\nAssociation Starmelody 06 14 33 17 76 83starmelody@gmail.com 
URL:https://lepetitvarois.fr/event/the-dansant/
CATEGORIES:Six-Fours
ATTACH;FMTTYPE=image/jpeg:https://lepetitvarois.fr/wp-content/uploads/2019/05/brotherhood-2173097_960_720.jpg
END:VEVENT
BEGIN:VEVENT
DTSTART;VALUE=DATE:20200313
DTEND;VALUE=DATE:20200315
DTSTAMP:20260420T110530
CREATED:20200310T090740Z
LAST-MODIFIED:20200310T090740Z
UID:14704-1584057600-1584230399@lepetitvarois.fr
SUMMARY:Festival "Le Polar"
DESCRIPTION:Festival « Le Polar »  \nCinéma Six n’Etoiles\, 48 rue de la République. SIX FOURS\nLe Polar : 3 regards\, 3 réalisateurs\, 3 continents.  \nVendredi 13 à 21h : projection du film en VOST « Amare Amaro » en présence du réalisateur Julien Paolini. \nSamedi 14 :  \nA 18h\, projection du film en VOST « The Chaser » de Na Hong-Jin (interdit au moins de 12 ans). Séance suivie d’un débat. \n21h\, projection du film en VOST « Wind River » de Taylor Sheridan (interdit au moins de 12 ans). Séance suivie d’un débat.\n> 5 € adhérent / 6 € non adhérents. Réservation conseillée. \nLumière(s) du Sud 06 10 87 97 02 / Cinéma Six n’étoiles 04 94 26 58 48   \n 
URL:https://lepetitvarois.fr/event/festival-le-polar/
CATEGORIES:Six-Fours
ATTACH;FMTTYPE=image/png:https://lepetitvarois.fr/wp-content/uploads/2020/01/Capture-d’écran-2020-01-10-à-00.39.08.png
END:VEVENT
END:VCALENDAR