BEGIN:VCALENDAR
VERSION:2.0
PRODID:-//Le Petit Varois.Fr - ECPv6.0.10//NONSGML v1.0//EN
CALSCALE:GREGORIAN
METHOD:PUBLISH
X-ORIGINAL-URL:https://lepetitvarois.fr
X-WR-CALDESC:évènements pour Le Petit Varois.Fr
REFRESH-INTERVAL;VALUE=DURATION:PT1H
X-Robots-Tag:noindex
X-PUBLISHED-TTL:PT1H
BEGIN:VTIMEZONE
TZID:Europe/Paris
BEGIN:DAYLIGHT
TZOFFSETFROM:+0100
TZOFFSETTO:+0200
TZNAME:CEST
DTSTART:20180325T010000
END:DAYLIGHT
BEGIN:STANDARD
TZOFFSETFROM:+0200
TZOFFSETTO:+0100
TZNAME:CET
DTSTART:20181028T010000
END:STANDARD
END:VTIMEZONE
BEGIN:VEVENT
DTSTART;TZID=Europe/Paris:20180605T150000
DTEND;TZID=Europe/Paris:20180605T180000
DTSTAMP:20260421T220506
CREATED:20180601T133802Z
LAST-MODIFIED:20180601T133802Z
UID:5033-1528210800-1528221600@lepetitvarois.fr
SUMMARY:Après-midi dansant
DESCRIPTION:Toutes danses : rétro\, musette\, disco\, danses en ligne (madison kuduru\, tarentelle…) Une boisson\, café et thé à volonté. \n7 € adhérent / 9 € non-adhérent (12 € l’adhésion annuelle). \nMardi ; de 15:00 à 18:00\, Lieu : Salle Scarantino \nAssociation Starmelody\nPort : 06 14 33 17 76
URL:https://lepetitvarois.fr/event/apres-midi-dansant/2018-06-05/
CATEGORIES:Six-Fours
ATTACH;FMTTYPE=image/jpeg:https://lepetitvarois.fr/wp-content/uploads/2018/02/28125214_10214540808610703_2054004481_o.jpg
END:VEVENT
BEGIN:VEVENT
DTSTART;TZID=Europe/Paris:20180605T180000
DTEND;TZID=Europe/Paris:20180605T200000
DTSTAMP:20260421T220506
CREATED:20180601T141112Z
LAST-MODIFIED:20180601T141112Z
UID:5063-1528221600-1528228800@lepetitvarois.fr
SUMMARY:Instant Café  « La place des Grands-Parents »
DESCRIPTION:De 18h à 20h à la Maison des Familles. « La place des Grands-Parents ». Groupe de parole et d’échanges entre parents\, grands-parents\, animé par un professionnel de l’association Vivre en Famille. \n Inscriptions auprès de la Maison des Familles : 04.94.34.93.70
URL:https://lepetitvarois.fr/event/instant-cafe-la-place-des-grands-parents/
CATEGORIES:Six-Fours
ATTACH;FMTTYPE=image/jpeg:https://lepetitvarois.fr/wp-content/uploads/2018/06/affection-1866868_960_720.jpg
END:VEVENT
BEGIN:VEVENT
DTSTART;TZID=Europe/Paris:20180605T190000
DTEND;TZID=Europe/Paris:20180605T220000
DTSTAMP:20260421T220506
CREATED:20180601T134658Z
LAST-MODIFIED:20180601T134658Z
UID:5040-1528225200-1528236000@lepetitvarois.fr
SUMMARY:Soirée Conviviale autour d'un repas Italien
DESCRIPTION:Rendez-vous pour l’apéritif aux sons de la guitare de notre ami Roberto Martin. Le but c’est d’apprendre à mieux se connaître à présent puisque l’association compte plus de 180 adhérents.\nSuivi d’un repas italien avec une entrée\, un plat au choix et un dessert et vin. \nMardi 05 juin 2018\nÀ 19:00\nLieu : Ristorante Spiaggia Caffè
URL:https://lepetitvarois.fr/event/soiree-conviviale-autour-dun-repas-italien/
CATEGORIES:Six-Fours
ATTACH;FMTTYPE=image/jpeg:https://lepetitvarois.fr/wp-content/uploads/2018/02/person-2248567_960_720.jpg
END:VEVENT
END:VCALENDAR