BEGIN:VCALENDAR
VERSION:2.0
PRODID:-//Le Petit Varois.Fr - ECPv6.0.10//NONSGML v1.0//EN
CALSCALE:GREGORIAN
METHOD:PUBLISH
X-WR-CALNAME:Le Petit Varois.Fr
X-ORIGINAL-URL:https://lepetitvarois.fr
X-WR-CALDESC:évènements pour Le Petit Varois.Fr
REFRESH-INTERVAL;VALUE=DURATION:PT1H
X-Robots-Tag:noindex
X-PUBLISHED-TTL:PT1H
BEGIN:VTIMEZONE
TZID:Europe/Paris
BEGIN:DAYLIGHT
TZOFFSETFROM:+0100
TZOFFSETTO:+0200
TZNAME:CEST
DTSTART:20180325T010000
END:DAYLIGHT
BEGIN:STANDARD
TZOFFSETFROM:+0200
TZOFFSETTO:+0100
TZNAME:CET
DTSTART:20181028T010000
END:STANDARD
END:VTIMEZONE
BEGIN:VEVENT
DTSTART;VALUE=DATE:20180613
DTEND;VALUE=DATE:20180625
DTSTAMP:20260421T220146
CREATED:20180610T145108Z
LAST-MODIFIED:20180610T145108Z
UID:5442-1528848000-1529884799@lepetitvarois.fr
SUMMARY:"Six-Fours Médiéval" ou "Six-Fours le Grand"
DESCRIPTION:Dans le cadre des journées de l’archéologie\, l’association en partenariat avec la Mairie\, organise une expo qui aura lieu à l’espace de Greling. \nSix Fours au Moyen Âge ou Sex Fors le Grand qui englobait Sanary jusqu’au XIIe et la Seyne / Saint Mandrier jusqu’au XVIIe s.\nIl ne reste que 2 bâtiments emblématiques pour notre commune de cette époque : Notre dame de Pépiole et la partie Romane de la Collégiale.\nOn parlera aussi des parties méconnues du Prieuré de Saint Mandrier\, les Embiez (les Salines et Saint Victor)\, les Conques et les calades autour de la colline de Six-Fours\, ainsi que des vieilles familles six-Fournaises qui ont donné leurs noms aux hameaux et quartiers de notre commune. \nDes tessons de céramique provenant des fouilles à Pépiole et autour de la collégiale seront exposés. \nD’autre part\, une conférence est programmée en partenariat avec VLC le lundi 25 juin à 15h à Daudet.\nL’inauguration a lieu le mercredi 13 Juin.
URL:https://lepetitvarois.fr/event/six-fours-medieval-ou-six-fours-le-grand/
CATEGORIES:Six-Fours
ATTACH;FMTTYPE=image/jpeg:https://lepetitvarois.fr/wp-content/uploads/2018/06/column-2001077_960_720.jpg
END:VEVENT
BEGIN:VEVENT
DTSTART;TZID=Europe/Paris:20180616T080000
DTEND;TZID=Europe/Paris:20180617T170000
DTSTAMP:20260421T220146
CREATED:20180607T181053Z
LAST-MODIFIED:20180607T181053Z
UID:5335-1529136000-1529254800@lepetitvarois.fr
SUMMARY:La Brusc Windsurf Cup
DESCRIPTION:La Brusc Windsurf Cup\nPlage des Charmettes\, corniche du Cros\, Le Brusc. SIX FOURS \nSix Fours Windsurf Organisation
URL:https://lepetitvarois.fr/event/la-brusc-windsurf-cup/
CATEGORIES:Six-Fours
ATTACH;FMTTYPE=image/jpeg:https://lepetitvarois.fr/wp-content/uploads/2018/06/surfing-2185086_960_720.jpg
END:VEVENT
BEGIN:VEVENT
DTSTART;TZID=Europe/Paris:20180616T093000
DTEND;TZID=Europe/Paris:20180616T120000
DTSTAMP:20260421T220146
CREATED:20180607T180209Z
LAST-MODIFIED:20180607T180209Z
UID:5330-1529141400-1529150400@lepetitvarois.fr
SUMMARY:Visite spécial enfants : Les mini-explorateurs au Gaou
DESCRIPTION:Visite spécial enfants : Les mini-explorateurs au Gaou à 9h30.\nRdv devant la passerelle à l’entrée de la presqu’île du Gaou 1/4 d’heure avant. SIX FOURS \nJumelles\, loupes et imagier de l’explorateur en main\, les atouts de ce site exceptionnel n’auront plus de secrets pour eux. Une manière unique et surtout ludique de découvrir la faune\, la flore\, la lagune\, la roche et pleins d’autres spécificités. La visite est entièrement inspirée par les enfants\, et créée pour les enfants. \nAfin que cette visite devienne inoubliable\, chaque enfant ayant participé à l’aventure repartira avec sa carte de guide-explorateur du Gaou !. \nCette visite est dédiée aux enfants accompagnés impérativement d’un adulte (ils seront sous la responsabilité de leur accompagnant). Seuls les enfants payants bénéficieront du matériel de l’aventurier.\n> 4 € adultes / 8 € enfants de 4 à 12 ans / Gratuit pour les -4 ans. Inscription obligatoire à l’avance dans nos accueils.\nRenseignement OT Six Fours 04 94 07 02 21
URL:https://lepetitvarois.fr/event/visite-special-enfants-les-mini-explorateurs-au-gaou/
CATEGORIES:Six-Fours
ATTACH;FMTTYPE=image/jpeg:https://lepetitvarois.fr/wp-content/uploads/2018/06/affection-1866868_960_720.jpg
END:VEVENT
END:VCALENDAR