BEGIN:VCALENDAR
VERSION:2.0
PRODID:-//Le Petit Varois.Fr - ECPv6.0.10//NONSGML v1.0//EN
CALSCALE:GREGORIAN
METHOD:PUBLISH
X-ORIGINAL-URL:https://lepetitvarois.fr
X-WR-CALDESC:évènements pour Le Petit Varois.Fr
REFRESH-INTERVAL;VALUE=DURATION:PT1H
X-Robots-Tag:noindex
X-PUBLISHED-TTL:PT1H
BEGIN:VTIMEZONE
TZID:Europe/Paris
BEGIN:DAYLIGHT
TZOFFSETFROM:+0100
TZOFFSETTO:+0200
TZNAME:CEST
DTSTART:20180325T010000
END:DAYLIGHT
BEGIN:STANDARD
TZOFFSETFROM:+0200
TZOFFSETTO:+0100
TZNAME:CET
DTSTART:20181028T010000
END:STANDARD
END:VTIMEZONE
BEGIN:VEVENT
DTSTART;VALUE=DATE:20180613
DTEND;VALUE=DATE:20180625
DTSTAMP:20260421T221107
CREATED:20180610T145108Z
LAST-MODIFIED:20180610T145108Z
UID:5442-1528848000-1529884799@lepetitvarois.fr
SUMMARY:"Six-Fours Médiéval" ou "Six-Fours le Grand"
DESCRIPTION:Dans le cadre des journées de l’archéologie\, l’association en partenariat avec la Mairie\, organise une expo qui aura lieu à l’espace de Greling. \nSix Fours au Moyen Âge ou Sex Fors le Grand qui englobait Sanary jusqu’au XIIe et la Seyne / Saint Mandrier jusqu’au XVIIe s.\nIl ne reste que 2 bâtiments emblématiques pour notre commune de cette époque : Notre dame de Pépiole et la partie Romane de la Collégiale.\nOn parlera aussi des parties méconnues du Prieuré de Saint Mandrier\, les Embiez (les Salines et Saint Victor)\, les Conques et les calades autour de la colline de Six-Fours\, ainsi que des vieilles familles six-Fournaises qui ont donné leurs noms aux hameaux et quartiers de notre commune. \nDes tessons de céramique provenant des fouilles à Pépiole et autour de la collégiale seront exposés. \nD’autre part\, une conférence est programmée en partenariat avec VLC le lundi 25 juin à 15h à Daudet.\nL’inauguration a lieu le mercredi 13 Juin.
URL:https://lepetitvarois.fr/event/six-fours-medieval-ou-six-fours-le-grand/
CATEGORIES:Six-Fours
ATTACH;FMTTYPE=image/jpeg:https://lepetitvarois.fr/wp-content/uploads/2018/06/column-2001077_960_720.jpg
END:VEVENT
BEGIN:VEVENT
DTSTART;TZID=Europe/Paris:20180621T090000
DTEND;TZID=Europe/Paris:20180621T190000
DTSTAMP:20260421T221107
CREATED:20180608T184609Z
LAST-MODIFIED:20180608T184609Z
UID:5388-1529571600-1529607600@lepetitvarois.fr
SUMMARY:Bazardage !
DESCRIPTION:2e barzardage (Braderie) de 9h à 19h.\nDans les rues du centre-ville. SIX FOURS\nAssociation des commerçants et artisans « Hello Six Fours » 04 94 25 60 05
URL:https://lepetitvarois.fr/event/bazardage/
CATEGORIES:Six-Fours
ATTACH;FMTTYPE=image/jpeg:https://lepetitvarois.fr/wp-content/uploads/2018/03/easter-3263657_960_720.jpg
END:VEVENT
BEGIN:VEVENT
DTSTART;TZID=Europe/Paris:20180621T210000
DTEND;TZID=Europe/Paris:20180621T230000
DTSTAMP:20260421T221107
CREATED:20180608T190533Z
LAST-MODIFIED:20180608T190533Z
UID:5393-1529614800-1529622000@lepetitvarois.fr
SUMMARY:2e édition du pique-nique "Six Fours fête l'été"
DESCRIPTION:2e édition du pique-nique « Six Fours fête l’été » à 21h.\nParc Jean Robert\, rue de Bouillibaye. SIX FOURS \nÀ l’occasion de « Six Fours fête l’été »\, présentation du « Festival de la Collégiale » suivie d’un concert des musiciens de l’Ensemble Matheus et de Jean-Christophe Spinosi (direction). Pensez à apporter votre pique-nique et votre coussin pour vous asseoir dans l’herbe !\n> Gratuit.\nFestival de Musique de Toulon 04 94 93 55 45
URL:https://lepetitvarois.fr/event/2e-edition-du-pique-nique-six-fours-fete-lete/
CATEGORIES:Six-Fours
ATTACH;FMTTYPE=image/jpeg:https://lepetitvarois.fr/wp-content/uploads/2018/06/girls-739071_960_720.jpg
END:VEVENT
END:VCALENDAR