BEGIN:VCALENDAR
VERSION:2.0
PRODID:-//Le Petit Varois.Fr - ECPv6.0.10//NONSGML v1.0//EN
CALSCALE:GREGORIAN
METHOD:PUBLISH
X-WR-CALNAME:Le Petit Varois.Fr
X-ORIGINAL-URL:https://lepetitvarois.fr
X-WR-CALDESC:évènements pour Le Petit Varois.Fr
REFRESH-INTERVAL;VALUE=DURATION:PT1H
X-Robots-Tag:noindex
X-PUBLISHED-TTL:PT1H
BEGIN:VTIMEZONE
TZID:Europe/Paris
BEGIN:DAYLIGHT
TZOFFSETFROM:+0100
TZOFFSETTO:+0200
TZNAME:CEST
DTSTART:20180325T010000
END:DAYLIGHT
BEGIN:STANDARD
TZOFFSETFROM:+0200
TZOFFSETTO:+0100
TZNAME:CET
DTSTART:20181028T010000
END:STANDARD
END:VTIMEZONE
BEGIN:VEVENT
DTSTART;TZID=Europe/Paris:20180627T160000
DTEND;TZID=Europe/Paris:20180627T193000
DTSTAMP:20260421T203055
CREATED:20180625T193203Z
LAST-MODIFIED:20180625T193203Z
UID:5678-1530115200-1530127800@lepetitvarois.fr
SUMMARY:Gala d'été de twirling du Réveil Six Fournais
DESCRIPTION:Gala d’été de twirling du Réveil Six Fournais à 19h30.\nPalais des Sports de la Coudoulière\, 25-265 av. du Lycée de la Coudoulière. SIX FOURS \n> Entrée gratuite.\nRéveil Six Fournais  06 03 46 15 38
URL:https://lepetitvarois.fr/event/gala-dete-de-twirling-du-reveil-six-fournais/
CATEGORIES:Six-Fours
ATTACH;FMTTYPE=image/jpeg:https://lepetitvarois.fr/wp-content/uploads/2018/03/29663572_10214933008735461_1426255299_n.jpg
END:VEVENT
END:VCALENDAR