BEGIN:VCALENDAR
VERSION:2.0
PRODID:-//Le Petit Varois.Fr - ECPv6.0.10//NONSGML v1.0//EN
CALSCALE:GREGORIAN
METHOD:PUBLISH
X-ORIGINAL-URL:https://lepetitvarois.fr
X-WR-CALDESC:évènements pour Le Petit Varois.Fr
REFRESH-INTERVAL;VALUE=DURATION:PT1H
X-Robots-Tag:noindex
X-PUBLISHED-TTL:PT1H
BEGIN:VTIMEZONE
TZID:Europe/Paris
BEGIN:DAYLIGHT
TZOFFSETFROM:+0100
TZOFFSETTO:+0200
TZNAME:CEST
DTSTART:20180325T010000
END:DAYLIGHT
BEGIN:STANDARD
TZOFFSETFROM:+0200
TZOFFSETTO:+0100
TZNAME:CET
DTSTART:20181028T010000
END:STANDARD
END:VTIMEZONE
BEGIN:VEVENT
DTSTART;TZID=Europe/Paris:20180629T080000
DTEND;TZID=Europe/Paris:20180701T170000
DTSTAMP:20260421T203257
CREATED:20180625T194044Z
LAST-MODIFIED:20180625T194044Z
UID:5686-1530259200-1530464400@lepetitvarois.fr
SUMMARY:Festival Isla des Embiez
DESCRIPTION:Festival Isla des Embiez\nIle des Embiez. SIX FOURS \nVendredi 29 de 20h – 4h\, arènes Philippe Thiers : musique live et DJ. \nSamedi 30 au matin : cours de yoga dans la pinède; paddle ; méditation. \n14h – 18h\, plage des Allemands : après midi détente au bord de l’eau avec fond musical et buvette sur l’esplanade. 20h – 4h\, arènes Philippe Thiers : musique live et DJ. \nDimanche 1er juillet au matin :  cours de yoga dans la pinède; paddle ; méditation. 14h – 18h : après midi détente au bord de l’eau avec fond musical plage des Allemands  et buvette sur l’esplanade. 20h – 4h\, arènes Philippe Thiers : musique live et DJ.\nPoint Info Tourisme Six Fours 04 94 07 02 21
URL:https://lepetitvarois.fr/event/festival-isla-des-embiez/
CATEGORIES:Six-Fours
ATTACH;FMTTYPE=image/jpeg:https://lepetitvarois.fr/wp-content/uploads/2015/04/21015467_10213072737789850_595112671_n-e1517352253636.jpg
END:VEVENT
BEGIN:VEVENT
DTSTART;TZID=Europe/Paris:20180630T093000
DTEND;TZID=Europe/Paris:20180630T200000
DTSTAMP:20260421T203257
CREATED:20180625T194550Z
LAST-MODIFIED:20180625T194550Z
UID:5688-1530351000-1530388800@lepetitvarois.fr
SUMMARY:Fête des pointus de 9h30 à 20h
DESCRIPTION:Fête des pointus de 9h30 à 20h.\nPort du Brusc\, quai Saint Pierre. SIX FOURS\nAu programme : balades en mer autour du patrimoine bruscain\, courses de rames animées par l’APPB\, repas du pêcheur\, animation musicale\, diverses activités pour les grands et les petits. Repas midi et soir\, buvette toute la journée. Les repas servis par Toto le pêcheur au Brusc sont payants sur réservation à loucapian@gmail.com \nLou Capian\, association des Pointus du Brusc 06 98 07 98 74
URL:https://lepetitvarois.fr/event/fete-des-pointus-de-9h30-a-20h/
CATEGORIES:Six-Fours
ATTACH;FMTTYPE=image/jpeg:https://lepetitvarois.fr/wp-content/uploads/2015/04/21039510_10213072737549844_237770712_n.jpg
END:VEVENT
BEGIN:VEVENT
DTSTART;TZID=Europe/Paris:20180630T203000
DTEND;TZID=Europe/Paris:20180630T230000
DTSTAMP:20260421T203257
CREATED:20180625T195335Z
LAST-MODIFIED:20180625T195335Z
UID:5696-1530390600-1530399600@lepetitvarois.fr
SUMMARY:17e Nuit du Conte par les conteuses du Jardin des Contes et leur pianiste à 20h30
DESCRIPTION:17e Nuit du Conte par les conteuses du Jardin des Contes et leur pianiste à 20h30.\nParc de la Méditerranée\, corniche de la Coudoulière. SIX FOURS\nContes pour enfants en 1ère partie\, puis pause boisson suivi de contes pour adultes en 2e partie. \n> Gratuit pour les moins de 6 ans / 5 €.\nLe Jardin des Contes (Association) 06 87  87 77 30
URL:https://lepetitvarois.fr/event/17e-nuit-du-conte-par-les-conteuses-du-jardin-des-contes-et-leur-pianiste-a-20h30/
CATEGORIES:Six-Fours
ATTACH;FMTTYPE=image/jpeg:https://lepetitvarois.fr/wp-content/uploads/2018/04/notebook-3297317_960_720.jpg
END:VEVENT
END:VCALENDAR