BEGIN:VCALENDAR
VERSION:2.0
PRODID:-//Le Petit Varois.Fr - ECPv6.0.10//NONSGML v1.0//EN
CALSCALE:GREGORIAN
METHOD:PUBLISH
X-WR-CALNAME:Le Petit Varois.Fr
X-ORIGINAL-URL:https://lepetitvarois.fr
X-WR-CALDESC:évènements pour Le Petit Varois.Fr
REFRESH-INTERVAL;VALUE=DURATION:PT1H
X-Robots-Tag:noindex
X-PUBLISHED-TTL:PT1H
BEGIN:VTIMEZONE
TZID:Europe/Paris
BEGIN:DAYLIGHT
TZOFFSETFROM:+0100
TZOFFSETTO:+0200
TZNAME:CEST
DTSTART:20180325T010000
END:DAYLIGHT
BEGIN:STANDARD
TZOFFSETFROM:+0200
TZOFFSETTO:+0100
TZNAME:CET
DTSTART:20181028T010000
END:STANDARD
END:VTIMEZONE
BEGIN:VEVENT
DTSTART;TZID=Europe/Paris:20180629T080000
DTEND;TZID=Europe/Paris:20180701T170000
DTSTAMP:20260421T203046
CREATED:20180625T194044Z
LAST-MODIFIED:20180625T194044Z
UID:5686-1530259200-1530464400@lepetitvarois.fr
SUMMARY:Festival Isla des Embiez
DESCRIPTION:Festival Isla des Embiez\nIle des Embiez. SIX FOURS \nVendredi 29 de 20h – 4h\, arènes Philippe Thiers : musique live et DJ. \nSamedi 30 au matin : cours de yoga dans la pinède; paddle ; méditation. \n14h – 18h\, plage des Allemands : après midi détente au bord de l’eau avec fond musical et buvette sur l’esplanade. 20h – 4h\, arènes Philippe Thiers : musique live et DJ. \nDimanche 1er juillet au matin :  cours de yoga dans la pinède; paddle ; méditation. 14h – 18h : après midi détente au bord de l’eau avec fond musical plage des Allemands  et buvette sur l’esplanade. 20h – 4h\, arènes Philippe Thiers : musique live et DJ.\nPoint Info Tourisme Six Fours 04 94 07 02 21
URL:https://lepetitvarois.fr/event/festival-isla-des-embiez/
CATEGORIES:Six-Fours
ATTACH;FMTTYPE=image/jpeg:https://lepetitvarois.fr/wp-content/uploads/2015/04/21015467_10213072737789850_595112671_n-e1517352253636.jpg
END:VEVENT
BEGIN:VEVENT
DTSTART;TZID=Europe/Paris:20180701T090000
DTEND;TZID=Europe/Paris:20180701T120000
DTSTAMP:20260421T203046
CREATED:20180625T200123Z
LAST-MODIFIED:20180625T200123Z
UID:5702-1530435600-1530446400@lepetitvarois.fr
SUMMARY:Fête de la Saint Pierre au Brusc
DESCRIPTION:Fête de la Saint Pierre au Brusc de 9h à 12h.\nPort du Brusc\, quai Saint Pierre. SIX FOURS \nDépart du cortège vers le quai de la Prud’homie. Bénédiction en mer\,  puis retour à l’église Saint Pierre du Brusc pour la messe à 11h et danses folkloriques avec Lou Raioulet. \nLou Peilou\, les Amis du Brusc (Association) 06 15 92 89 98
URL:https://lepetitvarois.fr/event/fete-de-la-saint-pierre-au-brusc/
CATEGORIES:Six-Fours
ATTACH;FMTTYPE=image/jpeg:https://lepetitvarois.fr/wp-content/uploads/2018/06/35476759_10215548893132186_7941438158581792768_n.jpg
END:VEVENT
BEGIN:VEVENT
DTSTART;TZID=Europe/Paris:20180701T150000
DTEND;TZID=Europe/Paris:20180701T170000
DTSTAMP:20260421T203047
CREATED:20180625T200854Z
LAST-MODIFIED:20180625T200854Z
UID:5710-1530457200-1530464400@lepetitvarois.fr
SUMMARY:Spectacle de cirque "Lâché de clowns" par l'école de cirque Regarde en Haut à 15h
DESCRIPTION:Spectacle de cirque « Lâché de clowns » par l’école de cirque Regarde en Haut à 15h.\nEspace culturel André Malraux\, 100 av. de Lattre de Tassigny. SIX FOURS \nLes jeunes artistes présentent un spectacle mettant en valeur tous leurs acquis. Une légende annonce que le jour où il y aura 500 clowns d’une même pays une gigantesque vague de joie déferlera sur la Terre. Nous avons fait le compte il y a 499 clowns pas un de plus\, alors une idée a surgit\, nous allons essayer de former un apprenti clown le temps du spectacle pour qu’il devienne un véritable clown. \n> 4 € pour les -10 ans / 8 € pour les +10 ans. Billetterie en vente sur place.\nÉcole de cirque Regarde en haut 04 94 28 07 18
URL:https://lepetitvarois.fr/event/spectacle-de-cirque-lache-de-clowns-par-lecole-de-cirque-regarde-en-haut-a-15h/
CATEGORIES:Six-Fours
ATTACH;FMTTYPE=image/jpeg:https://lepetitvarois.fr/wp-content/uploads/2018/06/circus-828680_960_720.jpg
END:VEVENT
END:VCALENDAR