BEGIN:VCALENDAR
VERSION:2.0
PRODID:-//Le Petit Varois.Fr - ECPv6.0.10//NONSGML v1.0//EN
CALSCALE:GREGORIAN
METHOD:PUBLISH
X-ORIGINAL-URL:https://lepetitvarois.fr
X-WR-CALDESC:évènements pour Le Petit Varois.Fr
REFRESH-INTERVAL;VALUE=DURATION:PT1H
X-Robots-Tag:noindex
X-PUBLISHED-TTL:PT1H
BEGIN:VTIMEZONE
TZID:Europe/Paris
BEGIN:DAYLIGHT
TZOFFSETFROM:+0100
TZOFFSETTO:+0200
TZNAME:CEST
DTSTART:20180325T010000
END:DAYLIGHT
BEGIN:STANDARD
TZOFFSETFROM:+0200
TZOFFSETTO:+0100
TZNAME:CET
DTSTART:20181028T010000
END:STANDARD
END:VTIMEZONE
BEGIN:VEVENT
DTSTART;TZID=Europe/Paris:20180703T093000
DTEND;TZID=Europe/Paris:20180703T120000
DTSTAMP:20260421T203435
CREATED:20180626T214636Z
LAST-MODIFIED:20180626T214636Z
UID:5725-1530610200-1530619200@lepetitvarois.fr
SUMMARY:Visite spécial enfants : Les mini-explorateurs au Gaou
DESCRIPTION:Visite spécial enfants : Les mini-explorateurs au Gaou à 9h30.\nRdv devant la passerelle à l’entrée de la presqu’île du Gaou 1/4 d’heure avant. SIX FOURS \nJumelles\, loupes et imagier de l’explorateur en main\, les atouts de ce site exceptionnel n’auront plus de secrets pour eux. Une manière unique et surtout ludique de découvrir la faune\, la flore\, la lagune\, la roche et pleins d’autres spécificités. La visite est entièrement inspirée par les enfants\, et créée pour les enfants. \nAfin que cette visite devienne inoubliable\, chaque enfant ayant participé à l’aventure repartira avec sa carte de guide-explorateur du Gaou !. \nCette visite est dédiée aux enfants accompagnés impérativement d’un adulte (ils seront sous la responsabilité de leur accompagnant). Seuls les enfants payants bénéficieront du matériel de l’aventurier.\n> 4 € adultes / 8 € enfants de 4 à 12 ans / Gratuit pour les -4 ans. Inscription obligatoire à l’avance dans nos accueils.\nRenseignement OT Six Fours 04 94 07 02 21
URL:https://lepetitvarois.fr/event/visite-special-enfants-les-mini-explorateurs-au-gaou-2/
CATEGORIES:Six-Fours
ATTACH;FMTTYPE=image/jpeg:https://lepetitvarois.fr/wp-content/uploads/2018/06/affection-1866868_960_720.jpg
END:VEVENT
END:VCALENDAR