BEGIN:VCALENDAR
VERSION:2.0
PRODID:-//Le Petit Varois.Fr - ECPv6.0.10//NONSGML v1.0//EN
CALSCALE:GREGORIAN
METHOD:PUBLISH
X-WR-CALNAME:Le Petit Varois.Fr
X-ORIGINAL-URL:https://lepetitvarois.fr
X-WR-CALDESC:évènements pour Le Petit Varois.Fr
REFRESH-INTERVAL;VALUE=DURATION:PT1H
X-Robots-Tag:noindex
X-PUBLISHED-TTL:PT1H
BEGIN:VTIMEZONE
TZID:Europe/Paris
BEGIN:DAYLIGHT
TZOFFSETFROM:+0100
TZOFFSETTO:+0200
TZNAME:CEST
DTSTART:20180325T010000
END:DAYLIGHT
BEGIN:STANDARD
TZOFFSETFROM:+0200
TZOFFSETTO:+0100
TZNAME:CET
DTSTART:20181028T010000
END:STANDARD
END:VTIMEZONE
BEGIN:VEVENT
DTSTART;TZID=Europe/Paris:20180705T200000
DTEND;TZID=Europe/Paris:20180705T223000
DTSTAMP:20260421T203058
CREATED:20180628T203907Z
LAST-MODIFIED:20180628T203907Z
UID:5774-1530820800-1530829800@lepetitvarois.fr
SUMMARY:Le théâtre au cinéma "Britannicus"
DESCRIPTION:Le théâtre au cinéma « Britannicus » à 20h15.\nCinéma Six n’Etoiles\, 48 rue de la République. SIX FOURS \nPièce de Racine mise en scène Stéphane Braunschweig en direct de la Comédie Française. \n> 25 € / 10 € pour étudiants et les -18 ans. Réservation conseillée.\nCinéma Six n’étoiles 04 94 26 58 48
URL:https://lepetitvarois.fr/event/le-theatre-au-cinema-britannicus/
CATEGORIES:Six-Fours
ATTACH;FMTTYPE=image/jpeg:https://lepetitvarois.fr/wp-content/uploads/2018/06/theatre-83862_960_720.jpg
END:VEVENT
END:VCALENDAR