BEGIN:VCALENDAR
VERSION:2.0
PRODID:-//Le Petit Varois.Fr - ECPv6.0.10//NONSGML v1.0//EN
CALSCALE:GREGORIAN
METHOD:PUBLISH
X-ORIGINAL-URL:https://lepetitvarois.fr
X-WR-CALDESC:évènements pour Le Petit Varois.Fr
REFRESH-INTERVAL;VALUE=DURATION:PT1H
X-Robots-Tag:noindex
X-PUBLISHED-TTL:PT1H
BEGIN:VTIMEZONE
TZID:Europe/Paris
BEGIN:DAYLIGHT
TZOFFSETFROM:+0100
TZOFFSETTO:+0200
TZNAME:CEST
DTSTART:20180325T010000
END:DAYLIGHT
BEGIN:STANDARD
TZOFFSETFROM:+0200
TZOFFSETTO:+0100
TZNAME:CET
DTSTART:20181028T010000
END:STANDARD
END:VTIMEZONE
BEGIN:VEVENT
DTSTART;TZID=Europe/Paris:20180711T160000
DTEND;TZID=Europe/Paris:20180711T190000
DTSTAMP:20260421T203418
CREATED:20180629T142403Z
LAST-MODIFIED:20180629T142403Z
UID:5851-1531324800-1531335600@lepetitvarois.fr
SUMMARY:Les mercredis de la mer : conférence "Quand la science s'inspire de la nature"
DESCRIPTION:Les mercredis de la mer : conférence « Quand la science s’inspire de la nature » par Robert Bunet de l’Institut Océanographique Paul Ricard à 16h.\nInstitut océanographique Paul Ricard\, Ile des Embiez\, Fort Saint Pierre. SIX FOURS\nVisite du musée aquarium comprise\, prévoir d’arriver 30 minutes avant la conférence. \n> 5 € adultes / 2\,50 € enfants de 4 à 11 ans.\nInstitut océanographique Paul Ricard 04 94 34 02 49
URL:https://lepetitvarois.fr/event/les-mercredis-de-la-mer-conference-quand-la-science-sinspire-de-la-nature/
CATEGORIES:Six-Fours
ATTACH;FMTTYPE=image/jpeg:https://lepetitvarois.fr/wp-content/uploads/2018/06/surf-3450584_960_720.jpg
END:VEVENT
END:VCALENDAR