BEGIN:VCALENDAR
VERSION:2.0
PRODID:-//Le Petit Varois.Fr - ECPv6.0.10//NONSGML v1.0//EN
CALSCALE:GREGORIAN
METHOD:PUBLISH
X-ORIGINAL-URL:https://lepetitvarois.fr
X-WR-CALDESC:évènements pour Le Petit Varois.Fr
REFRESH-INTERVAL;VALUE=DURATION:PT1H
X-Robots-Tag:noindex
X-PUBLISHED-TTL:PT1H
BEGIN:VTIMEZONE
TZID:Europe/Paris
BEGIN:DAYLIGHT
TZOFFSETFROM:+0100
TZOFFSETTO:+0200
TZNAME:CEST
DTSTART:20180325T010000
END:DAYLIGHT
BEGIN:STANDARD
TZOFFSETFROM:+0200
TZOFFSETTO:+0100
TZNAME:CET
DTSTART:20181028T010000
END:STANDARD
END:VTIMEZONE
BEGIN:VEVENT
DTSTART;TZID=Europe/Paris:20180713T180000
DTEND;TZID=Europe/Paris:20180713T233000
DTSTAMP:20260421T203434
CREATED:20180629T144834Z
LAST-MODIFIED:20180629T144834Z
UID:5868-1531504800-1531524600@lepetitvarois.fr
SUMMARY:Marché artisanal nocturne
DESCRIPTION:Marché artisanal nocturne de 18h à minuit.\nQuai de la prud’homie\, port du Brusc. SIX FOURS\nAssociation des artistes créateurs (A.D.A.C.) 06 16 11 41 40
URL:https://lepetitvarois.fr/event/marche-artisanal-nocturne/
CATEGORIES:Six-Fours
ATTACH;FMTTYPE=image/jpeg:https://lepetitvarois.fr/wp-content/uploads/2018/06/bread-1242240_960_720.jpg
END:VEVENT
BEGIN:VEVENT
DTSTART;TZID=Europe/Paris:20180713T183000
DTEND;TZID=Europe/Paris:20180713T233000
DTSTAMP:20260421T203434
CREATED:20180629T145430Z
LAST-MODIFIED:20180629T145430Z
UID:5873-1531506600-1531524600@lepetitvarois.fr
SUMMARY:Grand loto en plein air
DESCRIPTION:Grand loto en plein air à 18h30.\nPlace des Poilus. SIX FOURS\nEn cas d’intempéries\, événement déplacé à l’Espace Malraux. \nComité officiel des fêtes 06 62 03 11 96
URL:https://lepetitvarois.fr/event/grand-loto-en-plein-air/
CATEGORIES:Six-Fours
ATTACH;FMTTYPE=image/jpeg:https://lepetitvarois.fr/wp-content/uploads/2018/06/toys-2561392_960_720.jpg
END:VEVENT
BEGIN:VEVENT
DTSTART;TZID=Europe/Paris:20180713T203000
DTEND;TZID=Europe/Paris:20180713T233000
DTSTAMP:20260421T203434
CREATED:20180629T150730Z
LAST-MODIFIED:20180629T150730Z
UID:5882-1531513800-1531524600@lepetitvarois.fr
SUMMARY:Concert live avec Angie & Jean-Jacques Garseault
DESCRIPTION:Concert live avec Angie & Jean-Jacques Garseault (Jazz\, Bossa Nova) à 20h30.\nCrêperie Le Saint Malo\, 42 rue de la République. SIX FOURS \nRéservation conseillée 04 94 25 42 38
URL:https://lepetitvarois.fr/event/concert-live-avec-angie-jean-jacques-garseault/
CATEGORIES:Six-Fours
END:VEVENT
BEGIN:VEVENT
DTSTART;TZID=Europe/Paris:20180713T213000
DTEND;TZID=Europe/Paris:20180713T230000
DTSTAMP:20260421T203435
CREATED:20180629T151042Z
LAST-MODIFIED:20180629T151042Z
UID:5886-1531517400-1531522800@lepetitvarois.fr
SUMMARY:Projection du film "Planete Bleue" en plein air
DESCRIPTION:Projection du film « Planete Bleue » en plein air à 21h30.\nIle des Embiez. SIX FOURS\n> Gratuit.\nPoint information touristique des Embiez 04 94 10 75 90
URL:https://lepetitvarois.fr/event/projection-du-film-planete-bleue-en-plein-air/
CATEGORIES:Six-Fours
ATTACH;FMTTYPE=image/jpeg:https://lepetitvarois.fr/wp-content/uploads/2018/06/sea-2052650_960_720.jpg
END:VEVENT
END:VCALENDAR