BEGIN:VCALENDAR
VERSION:2.0
PRODID:-//Le Petit Varois.Fr - ECPv6.0.10//NONSGML v1.0//EN
CALSCALE:GREGORIAN
METHOD:PUBLISH
X-WR-CALNAME:Le Petit Varois.Fr
X-ORIGINAL-URL:https://lepetitvarois.fr
X-WR-CALDESC:évènements pour Le Petit Varois.Fr
REFRESH-INTERVAL;VALUE=DURATION:PT1H
X-Robots-Tag:noindex
X-PUBLISHED-TTL:PT1H
BEGIN:VTIMEZONE
TZID:Europe/Paris
BEGIN:DAYLIGHT
TZOFFSETFROM:+0100
TZOFFSETTO:+0200
TZNAME:CEST
DTSTART:20180325T010000
END:DAYLIGHT
BEGIN:STANDARD
TZOFFSETFROM:+0200
TZOFFSETTO:+0100
TZNAME:CET
DTSTART:20181028T010000
END:STANDARD
END:VTIMEZONE
BEGIN:VEVENT
DTSTART;TZID=Europe/Paris:20180714T200000
DTEND;TZID=Europe/Paris:20180714T233000
DTSTAMP:20260421T203057
CREATED:20180629T152558Z
LAST-MODIFIED:20180629T152558Z
UID:5896-1531598400-1531611000@lepetitvarois.fr
SUMMARY:Fête des pêcheurs
DESCRIPTION:Fête des pêcheurs à 20h.\nQuai de la prud’homie\, port du Brusc. SIX FOURS\nVenez déguster les produits de la pêche locale préparés par les Pescadous du Gaou : poissons grillés\, pâtes à la sétoise\, daube de poulpe\, anchoïade… dans une ambiance festive et conviviale. Des tables et des chaises seront installées pour l’occasion\, pas de réservation à l’avance.\nRenseignement OT Six Fours 04 94 07 02 21
URL:https://lepetitvarois.fr/event/fete-des-pecheurs/
CATEGORIES:Six-Fours
ATTACH;FMTTYPE=image/jpeg:https://lepetitvarois.fr/wp-content/uploads/2018/06/95623e88dcb4874e9652b17fdd849434.jpg
END:VEVENT
BEGIN:VEVENT
DTSTART;TZID=Europe/Paris:20180714T213000
DTEND;TZID=Europe/Paris:20180714T233000
DTSTAMP:20260421T203057
CREATED:20180629T153253Z
LAST-MODIFIED:20180629T153253Z
UID:5901-1531603800-1531611000@lepetitvarois.fr
SUMMARY:Soirée dansante avec l'orchestre Fa Si La Danser
DESCRIPTION:Soirée dansante avec l’orchestre Fa Si La Danser à partir de 21h30 suivi du Feu d’artifice à 22h.\nPort du Brusc\, quai Saint Pierre. SIX FOURS\nUn répertoire de variété très éclectique des années 70 à nos jours avec des parties musette\, typique\, zouk\, merengue\, spanish\, rock et jazz.  \nComité officiel des fêtes  06 62 03 11 96
URL:https://lepetitvarois.fr/event/soiree-dansante-avec-lorchestre-fa-si-la-danser/
CATEGORIES:Six-Fours
ATTACH;FMTTYPE=image/jpeg:https://lepetitvarois.fr/wp-content/uploads/2018/06/dance-422699_960_720.jpg
END:VEVENT
END:VCALENDAR