BEGIN:VCALENDAR
VERSION:2.0
PRODID:-//Le Petit Varois.Fr - ECPv6.0.10//NONSGML v1.0//EN
CALSCALE:GREGORIAN
METHOD:PUBLISH
X-ORIGINAL-URL:https://lepetitvarois.fr
X-WR-CALDESC:évènements pour Le Petit Varois.Fr
REFRESH-INTERVAL;VALUE=DURATION:PT1H
X-Robots-Tag:noindex
X-PUBLISHED-TTL:PT1H
BEGIN:VTIMEZONE
TZID:Europe/Paris
BEGIN:DAYLIGHT
TZOFFSETFROM:+0100
TZOFFSETTO:+0200
TZNAME:CEST
DTSTART:20180325T010000
END:DAYLIGHT
BEGIN:STANDARD
TZOFFSETFROM:+0200
TZOFFSETTO:+0100
TZNAME:CET
DTSTART:20181028T010000
END:STANDARD
END:VTIMEZONE
BEGIN:VEVENT
DTSTART;TZID=Europe/Paris:20180716T213000
DTEND;TZID=Europe/Paris:20180716T233000
DTSTAMP:20260421T203426
CREATED:20180629T154440Z
LAST-MODIFIED:20180629T154440Z
UID:5908-1531776600-1531783800@lepetitvarois.fr
SUMMARY:Cinéma en plein air : La La Land
DESCRIPTION:Cinéma en plein air : La La Land à 21h30.\nPlace des Poilus. SIX FOURS\nLa La Land est un film réalisé par Damien Chazelle avec Ryan Gosling\, Emma Stone. Synopsis : Au cœur de Los Angeles\, une actrice en devenir prénommée Mia sert des cafés entre des auditions. De son côté\, Sebastian\, passionné de jazz\, joue du piano dans des clubs miteux pour assurer sa subsistance. Tous deux sont bien loin de la vie rêvée à laquelle ils aspirent\, mais ils développent des sentiments amoureux l’un pour l’autre.\n> Gratuit.\nService communication 04 94 34 93 50
URL:https://lepetitvarois.fr/event/cinema-en-plein-air-la-la-land/
CATEGORIES:Six-Fours
ATTACH;FMTTYPE=image/jpeg:https://lepetitvarois.fr/wp-content/uploads/2018/06/audience-828584_960_720.jpg
END:VEVENT
END:VCALENDAR