BEGIN:VCALENDAR
VERSION:2.0
PRODID:-//Le Petit Varois.Fr - ECPv6.0.10//NONSGML v1.0//EN
CALSCALE:GREGORIAN
METHOD:PUBLISH
X-WR-CALNAME:Le Petit Varois.Fr
X-ORIGINAL-URL:https://lepetitvarois.fr
X-WR-CALDESC:évènements pour Le Petit Varois.Fr
REFRESH-INTERVAL;VALUE=DURATION:PT1H
X-Robots-Tag:noindex
X-PUBLISHED-TTL:PT1H
BEGIN:VTIMEZONE
TZID:Europe/Paris
BEGIN:DAYLIGHT
TZOFFSETFROM:+0100
TZOFFSETTO:+0200
TZNAME:CEST
DTSTART:20180325T010000
END:DAYLIGHT
BEGIN:STANDARD
TZOFFSETFROM:+0200
TZOFFSETTO:+0100
TZNAME:CET
DTSTART:20181028T010000
END:STANDARD
END:VTIMEZONE
BEGIN:VEVENT
DTSTART;TZID=Europe/Paris:20180720T203000
DTEND;TZID=Europe/Paris:20180720T233000
DTSTAMP:20260421T203046
CREATED:20180629T205847Z
LAST-MODIFIED:20180629T205847Z
UID:5930-1532118600-1532129400@lepetitvarois.fr
SUMMARY:Festival de la Collégiale : Dixit Dominus / Gloria
DESCRIPTION:Festival de la Collégiale : Dixit Dominus / Gloria à 20h30.\nCollégiale Saint Pierre\, montée du Fort. SIX FOURS\n« Gloria » de Vivaldi et « Dixit Dominus » de Haendel par les solistes de l’Ensemble Matheus sous la direction de Jean-Christophe Spinosi.  \nAccès depuis le bas de la Collégiale interdit à tous les véhicules.  \nParking gratuit : Esplanade de la Halle du verger. Des navettes assureront les transferts avant et après le concert.\n> 21\,90 € tarif plein / 18\,90 € tarif réduit (Amis du Festival\, Association pour les musées de Toulon\, groupes minimum 10 personnes\, professeurs du Conservatoire TPM) / 11\,90 € tarif spécial jeunes six-fournais (13-25 ans) et demandeurs d’emploi. Billetterie en vente à l’accueil de l’office de tourisme de Six Fours. \nOT Six Fours 04 94 07 02 21
URL:https://lepetitvarois.fr/event/festival-de-la-collegiale-dixit-dominus-gloria/
CATEGORIES:Six-Fours
ATTACH;FMTTYPE=image/jpeg:https://lepetitvarois.fr/wp-content/uploads/2018/06/theatre-83862_960_720.jpg
END:VEVENT
BEGIN:VEVENT
DTSTART;TZID=Europe/Paris:20180720T210000
DTEND;TZID=Europe/Paris:20180720T233000
DTSTAMP:20260421T203046
CREATED:20180629T210242Z
LAST-MODIFIED:20180629T210242Z
UID:5932-1532120400-1532129400@lepetitvarois.fr
SUMMARY:Spectacle équestre par les Cavaliers de la Licorne
DESCRIPTION:Spectacle équestre par les Cavaliers de la Licorne à 21h.\nAux écuries de Caravaille\, 544 ch. des Conques. SIX FOURS\nAu programme : voltige cosaque\, dressage\, danse\, poste hongroise\, attelage\, voltige classique\, liberté comique… Un large panel de discipline\, de costumes et de musiques réunis en 1h30 de spectacle pour vous emerveiller petits comme grands\, passionnés ou non. \n> 15 € adultes / gratuit pour les -12 ans. Réservation conseillée. \nLes Cavaliers de la Licorne 06 04 67 52 11
URL:https://lepetitvarois.fr/event/spectacle-equestre-par-les-cavaliers-de-la-licorne/
CATEGORIES:Six-Fours
ATTACH;FMTTYPE=image/jpeg:https://lepetitvarois.fr/wp-content/uploads/2018/06/saddle-419745_960_720.jpg
END:VEVENT
END:VCALENDAR