BEGIN:VCALENDAR
VERSION:2.0
PRODID:-//Le Petit Varois.Fr - ECPv6.0.10//NONSGML v1.0//EN
CALSCALE:GREGORIAN
METHOD:PUBLISH
X-ORIGINAL-URL:https://lepetitvarois.fr
X-WR-CALDESC:évènements pour Le Petit Varois.Fr
REFRESH-INTERVAL;VALUE=DURATION:PT1H
X-Robots-Tag:noindex
X-PUBLISHED-TTL:PT1H
BEGIN:VTIMEZONE
TZID:Europe/Paris
BEGIN:DAYLIGHT
TZOFFSETFROM:+0100
TZOFFSETTO:+0200
TZNAME:CEST
DTSTART:20180325T010000
END:DAYLIGHT
BEGIN:STANDARD
TZOFFSETFROM:+0200
TZOFFSETTO:+0100
TZNAME:CET
DTSTART:20181028T010000
END:STANDARD
END:VTIMEZONE
BEGIN:VEVENT
DTSTART;VALUE=DATE:20180721
DTEND;VALUE=DATE:20180722
DTSTAMP:20260421T203256
CREATED:20180629T211102Z
LAST-MODIFIED:20180629T211102Z
UID:5938-1532131200-1532217599@lepetitvarois.fr
SUMMARY:Balade en mer en pointus
DESCRIPTION:Balade en mer en pointus de 9h à 12h et de 14h à 17h30 (Durée de la balade 40 minutes). \nPlage de Fabrégas\, sentier de la Sauvageonne.\n> Gratuit. Inscriptions sur place. Les enfants doivent être accompagnés. \nAssociation des pescadous de la Verne et Fabrégas 04 94 30 60 73
URL:https://lepetitvarois.fr/event/balade-en-mer-en-pointus/
CATEGORIES:Six-Fours
ATTACH;FMTTYPE=image/jpeg:https://lepetitvarois.fr/wp-content/uploads/2018/06/wave-1215449_960_720.jpg
END:VEVENT
BEGIN:VEVENT
DTSTART;TZID=Europe/Paris:20180721T143000
DTEND;TZID=Europe/Paris:20180721T170000
DTSTAMP:20260421T203256
CREATED:20180629T211223Z
LAST-MODIFIED:20180629T211223Z
UID:5940-1532183400-1532192400@lepetitvarois.fr
SUMMARY:Festival de la Collégiale : concert de jazz par l'Ensemble Matheus
DESCRIPTION:Festival de la Collégiale : concert de jazz par l’Ensemble Matheus sous la direction de Jean-Christophe Spinosi à 14h30.\nParc Jean Robert\, rue de Bouillibaye. SIX FOURS\n> Gratuit.\nFestival de Musique de Toulon 04 94 93 55 45
URL:https://lepetitvarois.fr/event/festival-de-la-collegiale-concert-de-jazz-par-lensemble-matheus/
CATEGORIES:Six-Fours
ATTACH;FMTTYPE=image/png:https://lepetitvarois.fr/wp-content/uploads/2018/06/Capture-d’écran-2018-06-23-à-12.03.47.png
END:VEVENT
BEGIN:VEVENT
DTSTART;TZID=Europe/Paris:20180721T210000
DTEND;TZID=Europe/Paris:20180721T233000
DTSTAMP:20260421T203256
CREATED:20180629T211351Z
LAST-MODIFIED:20180629T211405Z
UID:5942-1532206800-1532215800@lepetitvarois.fr
SUMMARY:Festival de la Collégiale : Barock'n'Roll à 21h suivi d’un feu d’artifice
DESCRIPTION:Festival de la Collégiale : Barock’n’Roll à 21h suivi d’un feu d’artifice à 22h30.\nParc de la Méditerranée\, corniche de la Coudoulière. SIX FOURS\nC’est aujourd’hui une évidence : l’Ensemble Matheus n’ pas froid aux yeux et n’a jamais peur de bousculer les codes de la musique classique afin de la rendre toujours plus vivante et plus accessible à tous. C’est cette audace et cette fougue hors normes qui ont poussé Jean-Christophe Spinosi et ses musiciens à concocter ce programme barock’n’roll\, avec lequel ils ont maintes fois triomphé sur des scènes mythiques. \nPensez à apporter votre pique-nique et votre coussin pour vous asseoir dans l’herbe ! Parkings et navettes gratuits.\n> Gratuit.\nFestival de Musique de Toulon 04 94 93 55 45
URL:https://lepetitvarois.fr/event/festival-de-la-collegiale-barocknroll-a-21h-suivi-dun-feu-dartifice/
CATEGORIES:Six-Fours
ATTACH;FMTTYPE=image/jpeg:https://lepetitvarois.fr/wp-content/uploads/2018/06/fireworks-1796385_960_720.jpg
END:VEVENT
END:VCALENDAR