BEGIN:VCALENDAR
VERSION:2.0
PRODID:-//Le Petit Varois.Fr - ECPv6.0.10//NONSGML v1.0//EN
CALSCALE:GREGORIAN
METHOD:PUBLISH
X-ORIGINAL-URL:https://lepetitvarois.fr
X-WR-CALDESC:évènements pour Le Petit Varois.Fr
REFRESH-INTERVAL;VALUE=DURATION:PT1H
X-Robots-Tag:noindex
X-PUBLISHED-TTL:PT1H
BEGIN:VTIMEZONE
TZID:Europe/Paris
BEGIN:DAYLIGHT
TZOFFSETFROM:+0100
TZOFFSETTO:+0200
TZNAME:CEST
DTSTART:20180325T010000
END:DAYLIGHT
BEGIN:STANDARD
TZOFFSETFROM:+0200
TZOFFSETTO:+0100
TZNAME:CET
DTSTART:20181028T010000
END:STANDARD
END:VTIMEZONE
BEGIN:VEVENT
DTSTART;TZID=Europe/Paris:20180724T210000
DTEND;TZID=Europe/Paris:20180724T233000
DTSTAMP:20260421T203745
CREATED:20180629T213009Z
LAST-MODIFIED:20180629T213009Z
UID:5965-1532466000-1532475000@lepetitvarois.fr
SUMMARY:Projection du film "Océan" en plein air
DESCRIPTION:Projection du film « Océan » en plein air de 21h à 23h.\nIle des Embiez. SIX FOURS \nDocumentaires et films autour du monde marin. Filer à dix nœuds au cœur d’un banc de thons en chasse\, accompagner les dauphins dans leurs folles cavalcades\, nager avec le grand requin blanc épaule contre nageoire… Le film Océans c’est être poisson parmi les poissons. Après Himalaya et Le peuple migrateur\, Jacques Perrin nous entraîne\, avec des moyens de tournage inédits\, des banquises polaires aux tropiques\, au cœur des océans et de ses tempêtes pour nous faire redécouvrir les créatures marines connues\, méconnues\, ignorées. Océans s’interroge sur l’empreinte que l’homme impose à la vie sauvage et répond par l’image et l’émotion à la question :  « L’Océan ? C’est quoi l’Océan ? »\n> Gratuit.\nPoint information touristique des Embiez 04 94 10 75 90
URL:https://lepetitvarois.fr/event/projection-du-film-ocean-en-plein-air/
CATEGORIES:Six-Fours
ATTACH;FMTTYPE=image/jpeg:https://lepetitvarois.fr/wp-content/uploads/2018/06/sea-2052650_960_720.jpg
END:VEVENT
END:VCALENDAR