BEGIN:VCALENDAR
VERSION:2.0
PRODID:-//Le Petit Varois.Fr - ECPv6.0.10//NONSGML v1.0//EN
CALSCALE:GREGORIAN
METHOD:PUBLISH
X-WR-CALNAME:Le Petit Varois.Fr
X-ORIGINAL-URL:https://lepetitvarois.fr
X-WR-CALDESC:évènements pour Le Petit Varois.Fr
REFRESH-INTERVAL;VALUE=DURATION:PT1H
X-Robots-Tag:noindex
X-PUBLISHED-TTL:PT1H
BEGIN:VTIMEZONE
TZID:Europe/Paris
BEGIN:DAYLIGHT
TZOFFSETFROM:+0100
TZOFFSETTO:+0200
TZNAME:CEST
DTSTART:20180325T010000
END:DAYLIGHT
BEGIN:STANDARD
TZOFFSETFROM:+0200
TZOFFSETTO:+0100
TZNAME:CET
DTSTART:20181028T010000
END:STANDARD
END:VTIMEZONE
BEGIN:VEVENT
DTSTART;TZID=Europe/Paris:20180725T160000
DTEND;TZID=Europe/Paris:20180725T170000
DTSTAMP:20260421T203144
CREATED:20180629T213108Z
LAST-MODIFIED:20180629T213108Z
UID:5967-1532534400-1532538000@lepetitvarois.fr
SUMMARY:Les mercredis de la mer : conférence "Présentation de l'Atlas de l'océan"
DESCRIPTION:Les mercredis de la mer : conférence « Présentation de l’Atlas de l’océan » par Jules Hébert\, Fondation Heinrich Böll avec projection du film « Océans\, le mystère plastique » (55′) à 16h.\nInstitut océanographique Paul Ricard\, île des Embiez\, fort Saint Pierre. SIX FOURS \nVisite du musée aquarium comprise\, prévoir d’arriver 30 minutes avant la conférence. \n> 5 € adultes / 2\,50 € enfants de 4 à 11 ans.\nInstitut océanographique Paul Ricard 04 94 34 02 49
URL:https://lepetitvarois.fr/event/les-mercredis-de-la-mer-conference-presentation-de-latlas-de-locean/
CATEGORIES:Six-Fours
ATTACH;FMTTYPE=image/jpeg:https://lepetitvarois.fr/wp-content/uploads/2018/06/surf-3450584_960_720.jpg
END:VEVENT
END:VCALENDAR