BEGIN:VCALENDAR
VERSION:2.0
PRODID:-//Le Petit Varois.Fr - ECPv6.0.10//NONSGML v1.0//EN
CALSCALE:GREGORIAN
METHOD:PUBLISH
X-ORIGINAL-URL:https://lepetitvarois.fr
X-WR-CALDESC:évènements pour Le Petit Varois.Fr
REFRESH-INTERVAL;VALUE=DURATION:PT1H
X-Robots-Tag:noindex
X-PUBLISHED-TTL:PT1H
BEGIN:VTIMEZONE
TZID:Europe/Paris
BEGIN:DAYLIGHT
TZOFFSETFROM:+0100
TZOFFSETTO:+0200
TZNAME:CEST
DTSTART:20180325T010000
END:DAYLIGHT
BEGIN:STANDARD
TZOFFSETFROM:+0200
TZOFFSETTO:+0100
TZNAME:CET
DTSTART:20181028T010000
END:STANDARD
END:VTIMEZONE
BEGIN:VEVENT
DTSTART;TZID=Europe/Paris:20180727T180000
DTEND;TZID=Europe/Paris:20180727T233000
DTSTAMP:20260421T203436
CREATED:20180629T213854Z
LAST-MODIFIED:20180629T213854Z
UID:5979-1532714400-1532734200@lepetitvarois.fr
SUMMARY:Marché artisanal nocturne
DESCRIPTION:Marché artisanal nocturne de 18h à minuit.\nQuai de la prud’homie\, port du Brusc. SIX FOURS \nMarché artistes créateurs provençaux et produits locaux organisé par le Comité Local des Associations Bruscaines. \nRenseignement OT Six Fours 04 94 07 02 21
URL:https://lepetitvarois.fr/event/marche-artisanal-nocturne-2/
CATEGORIES:Six-Fours
ATTACH;FMTTYPE=image/jpeg:https://lepetitvarois.fr/wp-content/uploads/2018/03/easter-3263657_960_720.jpg
END:VEVENT
END:VCALENDAR