BEGIN:VCALENDAR
VERSION:2.0
PRODID:-//Le Petit Varois.Fr - ECPv6.0.10//NONSGML v1.0//EN
CALSCALE:GREGORIAN
METHOD:PUBLISH
X-ORIGINAL-URL:https://lepetitvarois.fr
X-WR-CALDESC:évènements pour Le Petit Varois.Fr
REFRESH-INTERVAL;VALUE=DURATION:PT1H
X-Robots-Tag:noindex
X-PUBLISHED-TTL:PT1H
BEGIN:VTIMEZONE
TZID:Europe/Paris
BEGIN:DAYLIGHT
TZOFFSETFROM:+0100
TZOFFSETTO:+0200
TZNAME:CEST
DTSTART:20180325T010000
END:DAYLIGHT
BEGIN:STANDARD
TZOFFSETFROM:+0200
TZOFFSETTO:+0100
TZNAME:CET
DTSTART:20181028T010000
END:STANDARD
END:VTIMEZONE
BEGIN:VEVENT
DTSTART;TZID=Europe/Paris:20180729T180000
DTEND;TZID=Europe/Paris:20180729T230000
DTSTAMP:20260421T203255
CREATED:20180629T215101Z
LAST-MODIFIED:20180629T215101Z
UID:5993-1532887200-1532905200@lepetitvarois.fr
SUMMARY:Spectacle de cirque "Soit dix ans deux mains"
DESCRIPTION:Spectacle de cirque « Soit dix ans deux mains » à 18h.\nParc de la Méditerranée\, corniche de la Coudoulière. SIX FOURS \nSpectacle de cirque donné par les élèves du groupe de création du mois de juillet de l’association Tout Fou To Fly. \n> Gratuit. \nAssociation Tout Fou To Fly and Co 06 29 85 73 62
URL:https://lepetitvarois.fr/event/spectacle-de-cirque-soit-dix-ans-deux-mains/
CATEGORIES:Six-Fours
END:VEVENT
END:VCALENDAR