BEGIN:VCALENDAR
VERSION:2.0
PRODID:-//Le Petit Varois.Fr - ECPv6.0.10//NONSGML v1.0//EN
CALSCALE:GREGORIAN
METHOD:PUBLISH
X-WR-CALNAME:Le Petit Varois.Fr
X-ORIGINAL-URL:https://lepetitvarois.fr
X-WR-CALDESC:évènements pour Le Petit Varois.Fr
REFRESH-INTERVAL;VALUE=DURATION:PT1H
X-Robots-Tag:noindex
X-PUBLISHED-TTL:PT1H
BEGIN:VTIMEZONE
TZID:Europe/Paris
BEGIN:DAYLIGHT
TZOFFSETFROM:+0100
TZOFFSETTO:+0200
TZNAME:CEST
DTSTART:20180325T010000
END:DAYLIGHT
BEGIN:STANDARD
TZOFFSETFROM:+0200
TZOFFSETTO:+0100
TZNAME:CET
DTSTART:20181028T010000
END:STANDARD
END:VTIMEZONE
BEGIN:VEVENT
DTSTART;TZID=Europe/Paris:20180802T210000
DTEND;TZID=Europe/Paris:20180802T230000
DTSTAMP:20260421T190319
CREATED:20180731T193727Z
LAST-MODIFIED:20180731T193727Z
UID:6451-1533243600-1533250800@lepetitvarois.fr
SUMMARY:Musique "Slave et Tzigane" avec l'ensemble Teremslave
DESCRIPTION:Les auditeurs découvriront toute la richesse des traditions musicales de l’ Europe Centrale et celles de l’ Est\, à travers des airs traditionnels\, folkloriques et populaires.\nAu programme : danses \,mélodies romantiques et nostalgiques qui transportent des plaines d’Ukraine aux rives de La Volga. Ils apprécieront la voix puissante et suave de Natasha Koulich ainsi que celle de Diana Pryalkina\, faite de sensibilité et de grâce.\nElles seront accompagnées par Svletana Mikaï Louskaya au cymballum\, instrument d’origine hongroise\, possédant des cordes d’acier frappées par des maillets\, à l’accordéon par Sergueî Mogoutchev fondateur et leader du groupe et au violon tzigane par la jeune Elina Rodevic-Reale qui enthousiasmera le public par sa prodigieuse virtuosité \nJeudi 02 août 2018\nÀ 21:00\nLieu : Eglise Saint Pierre du Brusc
URL:https://lepetitvarois.fr/event/musique-slave-et-tzigane-avec-lensemble-teremslave/
CATEGORIES:Six-Fours
ATTACH;FMTTYPE=image/jpeg:https://lepetitvarois.fr/wp-content/uploads/2018/07/image-1822588_960_720.jpg
END:VEVENT
END:VCALENDAR