BEGIN:VCALENDAR
VERSION:2.0
PRODID:-//Le Petit Varois.Fr - ECPv6.0.10//NONSGML v1.0//EN
CALSCALE:GREGORIAN
METHOD:PUBLISH
X-WR-CALNAME:Le Petit Varois.Fr
X-ORIGINAL-URL:https://lepetitvarois.fr
X-WR-CALDESC:évènements pour Le Petit Varois.Fr
REFRESH-INTERVAL;VALUE=DURATION:PT1H
X-Robots-Tag:noindex
X-PUBLISHED-TTL:PT1H
BEGIN:VTIMEZONE
TZID:Europe/Paris
BEGIN:DAYLIGHT
TZOFFSETFROM:+0100
TZOFFSETTO:+0200
TZNAME:CEST
DTSTART:20180325T010000
END:DAYLIGHT
BEGIN:STANDARD
TZOFFSETFROM:+0200
TZOFFSETTO:+0100
TZNAME:CET
DTSTART:20181028T010000
END:STANDARD
END:VTIMEZONE
BEGIN:VEVENT
DTSTART;TZID=Europe/Paris:20180803T190000
DTEND;TZID=Europe/Paris:20180803T233000
DTSTAMP:20260421T190430
CREATED:20180731T200546Z
LAST-MODIFIED:20180731T200546Z
UID:6465-1533322800-1533339000@lepetitvarois.fr
SUMMARY:Les entretiens de l'été avec l'écrivain Bernard Weber
DESCRIPTION:Bernard Werber qui définit son écriture comme de la « philosophie-fiction » évoquera l’un de ses best-seller paru en 1991\, intitulé « Les fourmis ». Un roman animalier mêlant l’univers des hommes et celui des fourmis. \nIl sera question également de son dernier ouvrage qu’il viendra dédicacer et qui s’intitule « Depuis l’au-delà ».
URL:https://lepetitvarois.fr/event/les-entretiens-de-lete-avec-lecrivain-bernard-weber/
CATEGORIES:La Seyne,Six-Fours
ATTACH;FMTTYPE=image/jpeg:https://lepetitvarois.fr/wp-content/uploads/2018/07/woman-1839798_960_720-1.jpg
END:VEVENT
BEGIN:VEVENT
DTSTART;TZID=Europe/Paris:20180803T193000
DTEND;TZID=Europe/Paris:20180803T233000
DTSTAMP:20260421T190430
CREATED:20180802T165313Z
LAST-MODIFIED:20180802T165313Z
UID:6501-1533324600-1533339000@lepetitvarois.fr
SUMMARY:Paella géante et soirée dansante avec l’orchestre Love Accord
DESCRIPTION:Paella géante et soirée dansante avec l’orchestre Love Accord à 19h30.\nParc de la Méditerranée\, corniche de la Coudoulière. SIX FOURS\n> 20 € avec apéritif et dessert. Réservation par téléphone ou sur place à partir de 10h.\nRotary club de Six Fours  06 09 87 60 85
URL:https://lepetitvarois.fr/event/paella-geante-et-soiree-dansante-avec-lorchestre-love-accord/
CATEGORIES:Six-Fours
ATTACH;FMTTYPE=image/jpeg:https://lepetitvarois.fr/wp-content/uploads/2018/08/london-1010832_960_720.jpg
END:VEVENT
END:VCALENDAR