BEGIN:VCALENDAR
VERSION:2.0
PRODID:-//Le Petit Varois.Fr - ECPv6.0.10//NONSGML v1.0//EN
CALSCALE:GREGORIAN
METHOD:PUBLISH
X-ORIGINAL-URL:https://lepetitvarois.fr
X-WR-CALDESC:évènements pour Le Petit Varois.Fr
REFRESH-INTERVAL;VALUE=DURATION:PT1H
X-Robots-Tag:noindex
X-PUBLISHED-TTL:PT1H
BEGIN:VTIMEZONE
TZID:Europe/Paris
BEGIN:DAYLIGHT
TZOFFSETFROM:+0100
TZOFFSETTO:+0200
TZNAME:CEST
DTSTART:20180325T010000
END:DAYLIGHT
BEGIN:STANDARD
TZOFFSETFROM:+0200
TZOFFSETTO:+0100
TZNAME:CET
DTSTART:20181028T010000
END:STANDARD
END:VTIMEZONE
BEGIN:VEVENT
DTSTART;TZID=Europe/Paris:20180805T100000
DTEND;TZID=Europe/Paris:20180805T170000
DTSTAMP:20260421T190624
CREATED:20180802T165548Z
LAST-MODIFIED:20180802T165548Z
UID:6504-1533463200-1533488400@lepetitvarois.fr
SUMMARY:Journée des collectionneurs des objets publicitaires Ricard
DESCRIPTION:Journée des collectionneurs des objets publicitaires Ricard de 10h à 17h.\nPlace de la Fontaine\, île des Embiez. SIX FOURS\nLes collectionneurs des produits publicitaires Ricard se retrouvent sur place pour présenter leurs collections. Le paradis des passionnés de la marque Ricard ! \n> Gratuit. Hors traversée bateau.\nPoint information touristique des Embiez 04 94 10 75 90
URL:https://lepetitvarois.fr/event/journee-des-collectionneurs-des-objets-publicitaires-ricard/
CATEGORIES:Six-Fours
ATTACH;FMTTYPE=image/jpeg:https://lepetitvarois.fr/wp-content/uploads/2018/08/table-3536491_960_720.jpg
END:VEVENT
BEGIN:VEVENT
DTSTART;TZID=Europe/Paris:20180805T150000
DTEND;TZID=Europe/Paris:20180805T190000
DTSTAMP:20260421T190624
CREATED:20180802T165755Z
LAST-MODIFIED:20180802T165755Z
UID:6507-1533481200-1533495600@lepetitvarois.fr
SUMMARY:Fête patronale de la Saint Pierre es Liens
DESCRIPTION:Fête patronale de la Saint Pierre es Liens de 15h à 19h.\nCollégiale Saint Pierre\, montée du Fort. SIX FOURS\nMesse chantée en provençal procession avec la statue de Saint Pierre suivi par la bénédiction de la ville en haut du fort. Danses par le groupe Lou Raioulet\, suivi d’un apéritif offert à tous. \n> Gratuit.\nLou Raioulet (association) 07 51 67 33 04
URL:https://lepetitvarois.fr/event/fete-patronale-de-la-saint-pierre-es-liens/
CATEGORIES:Six-Fours
ATTACH;FMTTYPE=image/png:https://lepetitvarois.fr/wp-content/uploads/2018/07/Capture-d’écran-2018-07-29-à-19.10.50.png
END:VEVENT
BEGIN:VEVENT
DTSTART;TZID=Europe/Paris:20180805T220000
DTEND;TZID=Europe/Paris:20180805T233000
DTSTAMP:20260421T190624
CREATED:20180802T165930Z
LAST-MODIFIED:20180802T165930Z
UID:6509-1533506400-1533511800@lepetitvarois.fr
SUMMARY:Feu d’artifice à 22h
DESCRIPTION:Feu d’artifice à 22h.\nPort de la Coudoulière. SIX FOURS
URL:https://lepetitvarois.fr/event/feu-dartifice-a-22h/
CATEGORIES:Six-Fours
ATTACH;FMTTYPE=image/jpeg:https://lepetitvarois.fr/wp-content/uploads/2018/07/P7141331-e1531762968343-scaled.jpg
END:VEVENT
END:VCALENDAR