BEGIN:VCALENDAR
VERSION:2.0
PRODID:-//Le Petit Varois.Fr - ECPv6.0.10//NONSGML v1.0//EN
CALSCALE:GREGORIAN
METHOD:PUBLISH
X-ORIGINAL-URL:https://lepetitvarois.fr
X-WR-CALDESC:évènements pour Le Petit Varois.Fr
REFRESH-INTERVAL;VALUE=DURATION:PT1H
X-Robots-Tag:noindex
X-PUBLISHED-TTL:PT1H
BEGIN:VTIMEZONE
TZID:Europe/Paris
BEGIN:DAYLIGHT
TZOFFSETFROM:+0100
TZOFFSETTO:+0200
TZNAME:CEST
DTSTART:20180325T010000
END:DAYLIGHT
BEGIN:STANDARD
TZOFFSETFROM:+0200
TZOFFSETTO:+0100
TZNAME:CET
DTSTART:20181028T010000
END:STANDARD
END:VTIMEZONE
BEGIN:VEVENT
DTSTART;TZID=Europe/Paris:20180806T210000
DTEND;TZID=Europe/Paris:20180806T230000
DTSTAMP:20260421T190617
CREATED:20180802T170517Z
LAST-MODIFIED:20180802T170517Z
UID:6516-1533589200-1533596400@lepetitvarois.fr
SUMMARY:Concert du groupe Aïoli à 21h
DESCRIPTION:Concert du groupe Aïoli à 21h.\nPort du Brusc\, quai Saint Pierre. SIX FOURS\nLe groupe AIOLI est le groupe toulonnais le plus mondialement connu dans le Var. \nFondé en 1993 par Yves Pujol\, le groupe Aïoli a su très vite s’imposer et trouver son public ( de 7 à 77 ans…). Le groupe Aïoli est composé de 5 musiciens extraordinaires ( surtout le chanteur…en plus il a bien maigri…)\, issus de la culture funk\, pop\, jazz\, et de la chanson française … \nLeurs idoles :Les Beatles\, Stevie Wonder\, Herbert Léonard\, Lorie … \nAïoli c’est avant tout un univers déjanté où l’humour et la musique se mélangent en un cocktail détonnant qui ravit les sens et épanouit les âmes (waouh ! c’est beau ça\, je vais en faire une chanson…) \nPour comprendre le secret de la recette du Groupe Aïoli\, ce n’est pas très compliqué : mettez dans un mortier\, de la bonne musique\, de l’humour\, de la dérision\, de la fête rajoutez y une pointe d’accent du midi\, mélangez le tout avec le pilon\, faites bien monter la sauce et l’ambiance et voila ça y est !!!! \nLe groupe Aïoli\, est prêt à être dégusté avec plaisir et surtout… sans modération !!!!!\n> Gratuit.\nOT Six Fours 04 94 07 02 21
URL:https://lepetitvarois.fr/event/concert-du-groupe-aioli-a-21h/
CATEGORIES:Six-Fours
ATTACH;FMTTYPE=image/jpeg:https://lepetitvarois.fr/wp-content/uploads/2018/06/hand-977641_960_720.jpg
END:VEVENT
END:VCALENDAR