BEGIN:VCALENDAR
VERSION:2.0
PRODID:-//Le Petit Varois.Fr - ECPv6.0.10//NONSGML v1.0//EN
CALSCALE:GREGORIAN
METHOD:PUBLISH
X-WR-CALNAME:Le Petit Varois.Fr
X-ORIGINAL-URL:https://lepetitvarois.fr
X-WR-CALDESC:évènements pour Le Petit Varois.Fr
REFRESH-INTERVAL;VALUE=DURATION:PT1H
X-Robots-Tag:noindex
X-PUBLISHED-TTL:PT1H
BEGIN:VTIMEZONE
TZID:Europe/Paris
BEGIN:DAYLIGHT
TZOFFSETFROM:+0100
TZOFFSETTO:+0200
TZNAME:CEST
DTSTART:20180325T010000
END:DAYLIGHT
BEGIN:STANDARD
TZOFFSETFROM:+0200
TZOFFSETTO:+0100
TZNAME:CET
DTSTART:20181028T010000
END:STANDARD
END:VTIMEZONE
BEGIN:VEVENT
DTSTART;TZID=Europe/Paris:20180807T213000
DTEND;TZID=Europe/Paris:20180807T233000
DTSTAMP:20260421T190315
CREATED:20180803T175726Z
LAST-MODIFIED:20180803T175726Z
UID:6534-1533677400-1533684600@lepetitvarois.fr
SUMMARY:Spectacle Le Show Jackson
DESCRIPTION:Spectacle Le Show Jackson à 21h30.\nParc de la Méditerranée\, corniche de la Coudoulière. SIX FOURS\nLe Show Jackson !  \nDeep inside est un spectacle musical en hommage à Michael Jackson réunissant danseurs\, chanteurs et musiciens. Loin du cliché du sosie\, les différents tableaux ne travaillent pas uniquement sur la ressemblance et le mimétisme\, les artistes mettent aussi l’accent sur la qualité technique et interprétative\, fidèle aux convictions de chacun.\n> Gratuit.\nComité officiel des fêtes 06 62 03 11 96
URL:https://lepetitvarois.fr/event/spectacle-le-show-jackson/
CATEGORIES:Six-Fours
ATTACH;FMTTYPE=image/jpeg:https://lepetitvarois.fr/wp-content/uploads/2018/08/concert-1209323_960_720.jpg
END:VEVENT
END:VCALENDAR