BEGIN:VCALENDAR
VERSION:2.0
PRODID:-//Le Petit Varois.Fr - ECPv6.0.10//NONSGML v1.0//EN
CALSCALE:GREGORIAN
METHOD:PUBLISH
X-ORIGINAL-URL:https://lepetitvarois.fr
X-WR-CALDESC:évènements pour Le Petit Varois.Fr
REFRESH-INTERVAL;VALUE=DURATION:PT1H
X-Robots-Tag:noindex
X-PUBLISHED-TTL:PT1H
BEGIN:VTIMEZONE
TZID:Europe/Paris
BEGIN:DAYLIGHT
TZOFFSETFROM:+0100
TZOFFSETTO:+0200
TZNAME:CEST
DTSTART:20180325T010000
END:DAYLIGHT
BEGIN:STANDARD
TZOFFSETFROM:+0200
TZOFFSETTO:+0100
TZNAME:CET
DTSTART:20181028T010000
END:STANDARD
END:VTIMEZONE
BEGIN:VEVENT
DTSTART;TZID=Europe/Paris:20180808T133000
DTEND;TZID=Europe/Paris:20180808T173000
DTSTAMP:20260421T190618
CREATED:20180803T201239Z
LAST-MODIFIED:20180803T201239Z
UID:6537-1533735000-1533749400@lepetitvarois.fr
SUMMARY:Concours primé de châteaux et sculptures de sables
DESCRIPTION:Concours primé de châteaux et sculptures de sables de 13h30 à 17h30.\nEsplanade plage de Bonnegrâce\, promenade général Charles de Gaulle. SIX FOURS\nConcours gratuit et primé de châteaux et sculptures de sable ouvert aux enfants et aux adultes. \n> Gratuit.\nComité officiel des fêtes 06 62 03 11 96
URL:https://lepetitvarois.fr/event/concours-prime-de-chateaux-et-sculptures-de-sables/
CATEGORIES:Six-Fours
ATTACH;FMTTYPE=image/jpeg:https://lepetitvarois.fr/wp-content/uploads/2018/08/sand-2548132_960_720.jpg
END:VEVENT
BEGIN:VEVENT
DTSTART;TZID=Europe/Paris:20180808T160000
DTEND;TZID=Europe/Paris:20180808T170000
DTSTAMP:20260421T190618
CREATED:20180803T201722Z
LAST-MODIFIED:20180803T201722Z
UID:6545-1533744000-1533747600@lepetitvarois.fr
SUMMARY:Les mercredis de la mer : conférence "Plongée du bord"
DESCRIPTION:Les mercredis de la mer : conférence « Plongée du bord » animée par Rémy Simide de l’Institut Océanographique Paul Ricard à 16h.\nInstitut océanographique Paul Ricard\, Ile des Embiez\, Fort Saint Pierre. SIX FOURS\nVisite du musée aquarium comprise\, prévoir d’arriver 30 minutes avant la conférence. \n> 5 € adultes / 2\,50 € enfants de 4 à 11 ans.\nInstitut océanographique Paul Ricard 04 94 34 02 49
URL:https://lepetitvarois.fr/event/les-mercredis-de-la-mer-conference-plongee-du-bord/
CATEGORIES:Six-Fours
ATTACH;FMTTYPE=image/jpeg:https://lepetitvarois.fr/wp-content/uploads/2018/06/sea-2052650_960_720.jpg
END:VEVENT
END:VCALENDAR