BEGIN:VCALENDAR
VERSION:2.0
PRODID:-//Le Petit Varois.Fr - ECPv6.0.10//NONSGML v1.0//EN
CALSCALE:GREGORIAN
METHOD:PUBLISH
X-WR-CALNAME:Le Petit Varois.Fr
X-ORIGINAL-URL:https://lepetitvarois.fr
X-WR-CALDESC:évènements pour Le Petit Varois.Fr
REFRESH-INTERVAL;VALUE=DURATION:PT1H
X-Robots-Tag:noindex
X-PUBLISHED-TTL:PT1H
BEGIN:VTIMEZONE
TZID:Europe/Paris
BEGIN:DAYLIGHT
TZOFFSETFROM:+0100
TZOFFSETTO:+0200
TZNAME:CEST
DTSTART:20180325T010000
END:DAYLIGHT
BEGIN:STANDARD
TZOFFSETFROM:+0200
TZOFFSETTO:+0100
TZNAME:CET
DTSTART:20181028T010000
END:STANDARD
END:VTIMEZONE
BEGIN:VEVENT
DTSTART;TZID=Europe/Paris:20180809T093000
DTEND;TZID=Europe/Paris:20180809T233000
DTSTAMP:20260421T190448
CREATED:20180803T202320Z
LAST-MODIFIED:20180803T202320Z
UID:6552-1533807000-1533857400@lepetitvarois.fr
SUMMARY:SpaceBus à Six Fours
DESCRIPTION:SpaceBus à Six Fours de 9h30 à minuit.\nPlace des Poilus. SIX FOURS\nAnimations autour de l’espace pour petits et grands. Le SpaceBus est dans votre ville ! \n9h30 – 12h30 : marché du port du Brusc.  \n15h – 18h30 : place des Poilus. \n21h – minuit au parc de la Méditerranée  : soirée d’observations du ciel et discussions/débats avec des astronomes \nLes animations proposées : Escape Game dans la navette spatiale (réservation sur place\, tickets à 2 €/pers) \nDans la peau de Thomas Pesquet (stand de réalité virtuelle).\n> Plein tarif : 2 € (Ticket Escape Game).\nSpaceBus France 06 79 93 88 19
URL:https://lepetitvarois.fr/event/spacebus-a-six-fours/
CATEGORIES:Six-Fours
ATTACH;FMTTYPE=image/png:https://lepetitvarois.fr/wp-content/uploads/2018/07/Capture-d’écran-2018-07-31-à-22.50.00.png
END:VEVENT
END:VCALENDAR