BEGIN:VCALENDAR
VERSION:2.0
PRODID:-//Le Petit Varois.Fr - ECPv6.0.10//NONSGML v1.0//EN
CALSCALE:GREGORIAN
METHOD:PUBLISH
X-ORIGINAL-URL:https://lepetitvarois.fr
X-WR-CALDESC:évènements pour Le Petit Varois.Fr
REFRESH-INTERVAL;VALUE=DURATION:PT1H
X-Robots-Tag:noindex
X-PUBLISHED-TTL:PT1H
BEGIN:VTIMEZONE
TZID:Europe/Paris
BEGIN:DAYLIGHT
TZOFFSETFROM:+0100
TZOFFSETTO:+0200
TZNAME:CEST
DTSTART:20180325T010000
END:DAYLIGHT
BEGIN:STANDARD
TZOFFSETFROM:+0200
TZOFFSETTO:+0100
TZNAME:CET
DTSTART:20181028T010000
END:STANDARD
END:VTIMEZONE
BEGIN:VEVENT
DTSTART;TZID=Europe/Paris:20180810T213000
DTEND;TZID=Europe/Paris:20180810T233000
DTSTAMP:20260421T190623
CREATED:20180803T204038Z
LAST-MODIFIED:20180803T204038Z
UID:6565-1533936600-1533943800@lepetitvarois.fr
SUMMARY:Projection du film "Le Grand Bleu" en plein air
DESCRIPTION:Projection du film « Le Grand Bleu » en plein air à 21h30.\nIle des Embiez. SIX FOURS\nDocumentaires et films autour du monde marin. Intervention de Nardo Vicente. \nDurant l’après-midi : projection de « L’homme dauphin »\, sur Jacques Mayol. \n> Gratuit.\nPoint information touristique des Embiez 04 94 10 75 90
URL:https://lepetitvarois.fr/event/projection-du-film-le-grand-bleu-en-plein-air/
CATEGORIES:Six-Fours
ATTACH;FMTTYPE=image/jpeg:https://lepetitvarois.fr/wp-content/uploads/2018/06/wave-1215449_960_720.jpg
END:VEVENT
END:VCALENDAR