BEGIN:VCALENDAR
VERSION:2.0
PRODID:-//Le Petit Varois.Fr - ECPv6.0.10//NONSGML v1.0//EN
CALSCALE:GREGORIAN
METHOD:PUBLISH
X-WR-CALNAME:Le Petit Varois.Fr
X-ORIGINAL-URL:https://lepetitvarois.fr
X-WR-CALDESC:évènements pour Le Petit Varois.Fr
REFRESH-INTERVAL;VALUE=DURATION:PT1H
X-Robots-Tag:noindex
X-PUBLISHED-TTL:PT1H
BEGIN:VTIMEZONE
TZID:Europe/Paris
BEGIN:DAYLIGHT
TZOFFSETFROM:+0100
TZOFFSETTO:+0200
TZNAME:CEST
DTSTART:20180325T010000
END:DAYLIGHT
BEGIN:STANDARD
TZOFFSETFROM:+0200
TZOFFSETTO:+0100
TZNAME:CET
DTSTART:20181028T010000
END:STANDARD
END:VTIMEZONE
BEGIN:VEVENT
DTSTART;TZID=Europe/Paris:20180811T100000
DTEND;TZID=Europe/Paris:20180811T170000
DTSTAMP:20260421T190432
CREATED:20180803T205345Z
LAST-MODIFIED:20180803T205345Z
UID:6579-1533981600-1534006800@lepetitvarois.fr
SUMMARY:Tournoi de beach volley 3X3
DESCRIPTION:Tournoi de beach volley 3X3 à 10h.\nEsplanade plage de Bonnegrâce\, promenade général Charles de Gaulle. SIX FOURS\nTournois de beach volley mixtes ou non\, entre amis ou en famille (face à la Frégate). \n> 5 € par joueur. \nSix Fours Beach Volley
URL:https://lepetitvarois.fr/event/tournoi-de-beach-volley-3x3/
CATEGORIES:Six-Fours
ATTACH;FMTTYPE=image/jpeg:https://lepetitvarois.fr/wp-content/uploads/2018/07/beach-volleyball-1617093_960_720.jpg
END:VEVENT
BEGIN:VEVENT
DTSTART;TZID=Europe/Paris:20180811T180000
DTEND;TZID=Europe/Paris:20180811T200000
DTSTAMP:20260421T190432
CREATED:20180803T204242Z
LAST-MODIFIED:20180803T204242Z
UID:6567-1534010400-1534017600@lepetitvarois.fr
SUMMARY:Concours de chant "Grand Prix des Etoiles"
DESCRIPTION:Concours de chant « Grand Prix des Etoiles » à 18h.\nIle des Embiez. SIX FOURS\nConcours de chant ouvert à tous\, petits et grands. Des cadeaux à gagner ! Inscription obligatoire à tous ceux et celles qui veulent participer. \n> Gratuit. Hors traversée bateau.
URL:https://lepetitvarois.fr/event/concours-de-chant-grand-prix-des-etoiles/
CATEGORIES:Six-Fours
ATTACH;FMTTYPE=image/jpeg:https://lepetitvarois.fr/wp-content/uploads/2018/02/mic-1132528_960_720.jpg
END:VEVENT
BEGIN:VEVENT
DTSTART;TZID=Europe/Paris:20180811T213000
DTEND;TZID=Europe/Paris:20180811T233000
DTSTAMP:20260421T190432
CREATED:20180803T204839Z
LAST-MODIFIED:20180803T204839Z
UID:6572-1534023000-1534030200@lepetitvarois.fr
SUMMARY:Spectacle : Voyage 80
DESCRIPTION:Spectacle : Voyage 80 à 21h30.\nParc de la Méditerranée\, corniche de la Coudoulière. SIX FOURS\nUn spectacle 100% live entièrement dédié aux années 80 avec les plus grands tubes de cette belle période : Nuit de Folie\, L’Aziza\, Les Démons de Minuit\, Macumba\, L’Aventurier\, Born to Be Alive\, Voyage Voyage… \n> Gratuit.\nComité officiel des fêtes 06 62 03 11 96
URL:https://lepetitvarois.fr/event/spectacle-voyage-80/
CATEGORIES:Six-Fours
ATTACH;FMTTYPE=image/jpeg:https://lepetitvarois.fr/wp-content/uploads/2018/08/audience-868074_960_720.jpg
END:VEVENT
END:VCALENDAR