BEGIN:VCALENDAR
VERSION:2.0
PRODID:-//Le Petit Varois.Fr - ECPv6.0.10//NONSGML v1.0//EN
CALSCALE:GREGORIAN
METHOD:PUBLISH
X-ORIGINAL-URL:https://lepetitvarois.fr
X-WR-CALDESC:évènements pour Le Petit Varois.Fr
REFRESH-INTERVAL;VALUE=DURATION:PT1H
X-Robots-Tag:noindex
X-PUBLISHED-TTL:PT1H
BEGIN:VTIMEZONE
TZID:Europe/Paris
BEGIN:DAYLIGHT
TZOFFSETFROM:+0100
TZOFFSETTO:+0200
TZNAME:CEST
DTSTART:20180325T010000
END:DAYLIGHT
BEGIN:STANDARD
TZOFFSETFROM:+0200
TZOFFSETTO:+0100
TZNAME:CET
DTSTART:20181028T010000
END:STANDARD
END:VTIMEZONE
BEGIN:VEVENT
DTSTART;TZID=Europe/Paris:20180815T090000
DTEND;TZID=Europe/Paris:20180815T170000
DTSTAMP:20260421T190703
CREATED:20180803T210743Z
LAST-MODIFIED:20180803T210743Z
UID:6597-1534323600-1534352400@lepetitvarois.fr
SUMMARY:Fête de la mer
DESCRIPTION:Fête de la mer de 9h à 17h.\nIle des Embiez. SIX FOURS\nGroupe de musique provençale et bénédiction des bateaux. \n> Accès libre. Hors traversée bateau.\nCapitainerie des Embiez 04 94 10 65 21
URL:https://lepetitvarois.fr/event/fete-de-la-mer/
CATEGORIES:Six-Fours
ATTACH;FMTTYPE=image/jpeg:https://lepetitvarois.fr/wp-content/uploads/2018/06/surf-3450584_960_720.jpg
END:VEVENT
BEGIN:VEVENT
DTSTART;TZID=Europe/Paris:20180815T160000
DTEND;TZID=Europe/Paris:20180815T170000
DTSTAMP:20260421T190703
CREATED:20180803T210901Z
LAST-MODIFIED:20180803T210901Z
UID:6599-1534348800-1534352400@lepetitvarois.fr
SUMMARY:Les mercredis de la mer : conférence "Pollution et nuisances sur le littoral méditerranéen"
DESCRIPTION:Les mercredis de la mer : conférence « Pollution et nuisances sur le littoral méditerranéen » animée par Pr. Nardo Vicente\, délégué général\, responsable scientifique de l’Institut Océanographique Paul Ricard à 16h.\nInstitut océanographique Paul Ricard\, Ile des Embiez\, Fort Saint Pierre. SIX FOURS\nVisite du musée aquarium comprise\, prévoir d’arriver 30 minutes avant la conférence. \n> 5 € adultes / 2\,50 € enfants de 4 à 11 ans.\nInstitut océanographique Paul Ricard 04 94 34 02 49
URL:https://lepetitvarois.fr/event/les-mercredis-de-la-mer-conference-pollution-et-nuisances-sur-le-littoral-mediterraneen/
CATEGORIES:Six-Fours
ATTACH;FMTTYPE=image/jpeg:https://lepetitvarois.fr/wp-content/uploads/2018/06/sea-2052650_960_720.jpg
END:VEVENT
BEGIN:VEVENT
DTSTART;TZID=Europe/Paris:20180815T213000
DTEND;TZID=Europe/Paris:20180815T233000
DTSTAMP:20260421T190703
CREATED:20180803T211118Z
LAST-MODIFIED:20180803T211118Z
UID:6603-1534368600-1534375800@lepetitvarois.fr
SUMMARY:Soirée dansante avec le Christian Ruiz Orchestra
DESCRIPTION:Soirée dansante avec le Christian Ruiz Orchestra à 21h30.\nPlace des Poilus. SIX FOURS\nAmoureux de la musique sous toutes ses formes\, Christian Ruiz expose ses talents de trompettiste et de chanteur au sein d’un répertoire varié et international\, mélangeant grands standards et chansons populaires des années 1900 à nos jours. \n> Gratuit.\nComité officiel des fêtes 06 62 03 11 96
URL:https://lepetitvarois.fr/event/soiree-dansante-avec-le-christian-ruiz-orchestra/
CATEGORIES:Six-Fours
ATTACH;FMTTYPE=image/jpeg:https://lepetitvarois.fr/wp-content/uploads/2018/06/dance-238263_960_720.jpg
END:VEVENT
END:VCALENDAR