BEGIN:VCALENDAR
VERSION:2.0
PRODID:-//Le Petit Varois.Fr - ECPv6.0.10//NONSGML v1.0//EN
CALSCALE:GREGORIAN
METHOD:PUBLISH
X-ORIGINAL-URL:https://lepetitvarois.fr
X-WR-CALDESC:évènements pour Le Petit Varois.Fr
REFRESH-INTERVAL;VALUE=DURATION:PT1H
X-Robots-Tag:noindex
X-PUBLISHED-TTL:PT1H
BEGIN:VTIMEZONE
TZID:Europe/Paris
BEGIN:DAYLIGHT
TZOFFSETFROM:+0100
TZOFFSETTO:+0200
TZNAME:CEST
DTSTART:20180325T010000
END:DAYLIGHT
BEGIN:STANDARD
TZOFFSETFROM:+0200
TZOFFSETTO:+0100
TZNAME:CET
DTSTART:20181028T010000
END:STANDARD
END:VTIMEZONE
BEGIN:VEVENT
DTSTART;TZID=Europe/Paris:20180817T180000
DTEND;TZID=Europe/Paris:20180817T233000
DTSTAMP:20260421T190525
CREATED:20180803T211814Z
LAST-MODIFIED:20180803T211814Z
UID:6613-1534528800-1534548600@lepetitvarois.fr
SUMMARY:Marché des artisans et créateurs de Provence
DESCRIPTION:Marché des artisans et créateurs de Provence de 18h à minuit.\nQuai de la prud’homie\, port du Brusc. SIX FOURS\nMarché artistes créateurs provençaux et produits locaux organisé par le Comité Local des Associations Bruscaines. \nOT Six Fours 04 94 07 02 21
URL:https://lepetitvarois.fr/event/marche-des-artisans-et-createurs-de-provence/
CATEGORIES:Six-Fours
ATTACH;FMTTYPE=image/png:https://lepetitvarois.fr/wp-content/uploads/2018/07/Capture-d’écran-2018-07-31-à-22.49.31.png
END:VEVENT
BEGIN:VEVENT
DTSTART;TZID=Europe/Paris:20180817T193000
DTEND;TZID=Europe/Paris:20180817T233000
DTSTAMP:20260421T190525
CREATED:20180808T115121Z
LAST-MODIFIED:20180808T115121Z
UID:6679-1534534200-1534548600@lepetitvarois.fr
SUMMARY:Soirée Jazz aux Jardins D'Anglise
DESCRIPTION:Venez apprécier une soirée Jazz\, à Six-Fours\, dans un cadre idéal devant un bon dîner. \nDe 19H30 à 23H\, Menu jazzy à 38 €
URL:https://lepetitvarois.fr/event/soiree-jazz-aux-jardins-danglise/
CATEGORIES:Six-Fours
ATTACH;FMTTYPE=image/jpeg:https://lepetitvarois.fr/wp-content/uploads/2018/03/JardinAnglise-Jazz.jpg
END:VEVENT
END:VCALENDAR