BEGIN:VCALENDAR
VERSION:2.0
PRODID:-//Le Petit Varois.Fr - ECPv6.0.10//NONSGML v1.0//EN
CALSCALE:GREGORIAN
METHOD:PUBLISH
X-WR-CALNAME:Le Petit Varois.Fr
X-ORIGINAL-URL:https://lepetitvarois.fr
X-WR-CALDESC:évènements pour Le Petit Varois.Fr
REFRESH-INTERVAL;VALUE=DURATION:PT1H
X-Robots-Tag:noindex
X-PUBLISHED-TTL:PT1H
BEGIN:VTIMEZONE
TZID:Europe/Paris
BEGIN:DAYLIGHT
TZOFFSETFROM:+0100
TZOFFSETTO:+0200
TZNAME:CEST
DTSTART:20180325T010000
END:DAYLIGHT
BEGIN:STANDARD
TZOFFSETFROM:+0200
TZOFFSETTO:+0100
TZNAME:CET
DTSTART:20181028T010000
END:STANDARD
END:VTIMEZONE
BEGIN:VEVENT
DTSTART;TZID=Europe/Paris:20180825T213000
DTEND;TZID=Europe/Paris:20180825T233000
DTSTAMP:20260421T190341
CREATED:20180821T212653Z
LAST-MODIFIED:20180821T212653Z
UID:6874-1535232600-1535239800@lepetitvarois.fr
SUMMARY:Spectacle Alméras Music Live à 21h30 et Feu d'artifice à 22h.
DESCRIPTION:Spectacle Alméras Music Live à 21h30 et Feu d’artifice à 22h.\nPlage de Bonnegrâce. SIX FOURS\nUne équipe jeune et dynamique. Une grande exigence dans le choix des artistes. Un show visuel époustouflant avec écrans géant et laser. \nCe spectacle sera suivi d’un feu d’artifice. \n> Gratuit.\nComité officiel des fêtes 06 62 03 11 96
URL:https://lepetitvarois.fr/event/spectacle-almeras-music-live-a-21h30-et-feu-dartifice-a-22h/
CATEGORIES:Six-Fours
ATTACH;FMTTYPE=image/jpeg:https://lepetitvarois.fr/wp-content/uploads/2018/07/fireworks-3411152_960_720.jpg
END:VEVENT
END:VCALENDAR