BEGIN:VCALENDAR
VERSION:2.0
PRODID:-//Le Petit Varois.Fr - ECPv6.0.10//NONSGML v1.0//EN
CALSCALE:GREGORIAN
METHOD:PUBLISH
X-ORIGINAL-URL:https://lepetitvarois.fr
X-WR-CALDESC:évènements pour Le Petit Varois.Fr
REFRESH-INTERVAL;VALUE=DURATION:PT1H
X-Robots-Tag:noindex
X-PUBLISHED-TTL:PT1H
BEGIN:VTIMEZONE
TZID:Europe/Paris
BEGIN:DAYLIGHT
TZOFFSETFROM:+0100
TZOFFSETTO:+0200
TZNAME:CEST
DTSTART:20180325T010000
END:DAYLIGHT
BEGIN:STANDARD
TZOFFSETFROM:+0200
TZOFFSETTO:+0100
TZNAME:CET
DTSTART:20181028T010000
END:STANDARD
END:VTIMEZONE
BEGIN:VEVENT
DTSTART;TZID=Europe/Paris:20180826T100000
DTEND;TZID=Europe/Paris:20180826T190000
DTSTAMP:20260421T190658
CREATED:20180821T212733Z
LAST-MODIFIED:20180821T212733Z
UID:6876-1535277600-1535310000@lepetitvarois.fr
SUMMARY:Grand rassemblement de Porsche
DESCRIPTION:Grand rassemblement de Porsche de 10h à 19h.\nPort du Brusc\, quai Saint Pierre. SIX FOURS\nExposition de voitures Porsche organisée par le Porsche Club Méditerranée. \nComité de Liaison des Associations Bruscaines
URL:https://lepetitvarois.fr/event/grand-rassemblement-de-porsche/
CATEGORIES:Six-Fours
ATTACH;FMTTYPE=image/jpeg:https://lepetitvarois.fr/wp-content/uploads/2018/08/unnamed-2.jpg
END:VEVENT
END:VCALENDAR