BEGIN:VCALENDAR
VERSION:2.0
PRODID:-//Le Petit Varois.Fr - ECPv6.0.10//NONSGML v1.0//EN
CALSCALE:GREGORIAN
METHOD:PUBLISH
X-WR-CALNAME:Le Petit Varois.Fr
X-ORIGINAL-URL:https://lepetitvarois.fr
X-WR-CALDESC:évènements pour Le Petit Varois.Fr
REFRESH-INTERVAL;VALUE=DURATION:PT1H
X-Robots-Tag:noindex
X-PUBLISHED-TTL:PT1H
BEGIN:VTIMEZONE
TZID:Europe/Paris
BEGIN:DAYLIGHT
TZOFFSETFROM:+0100
TZOFFSETTO:+0200
TZNAME:CEST
DTSTART:20180325T010000
END:DAYLIGHT
BEGIN:STANDARD
TZOFFSETFROM:+0200
TZOFFSETTO:+0100
TZNAME:CET
DTSTART:20181028T010000
END:STANDARD
END:VTIMEZONE
BEGIN:VEVENT
DTSTART;TZID=Europe/Paris:20180901T080000
DTEND;TZID=Europe/Paris:20180901T113000
DTSTAMP:20260421T174004
CREATED:20180828T190836Z
LAST-MODIFIED:20180828T190836Z
UID:6933-1535788800-1535801400@lepetitvarois.fr
SUMMARY:Brocante du Secours Catholique
DESCRIPTION:Brocante du Secours Catholique de 8h à 11h30.\nSecours Catholique\, 40 Boucle du Stade. SIX FOURS\nChaque mois\, venez faire un tour à la brocante du Secours Catholique. Venez faire des affaires : vêtements hommes\, femmes\, enfants à partir de 0\,50 €\, chaussures\, jouets\, petits appareils ménagers… \n> Accès libre. \nSecours Catholique 04 94 34 26 32
URL:https://lepetitvarois.fr/event/brocante-du-secours-catholique/
CATEGORIES:Six-Fours
ATTACH;FMTTYPE=image/jpeg:https://lepetitvarois.fr/wp-content/uploads/2018/06/bread-1242240_960_720.jpg
END:VEVENT
BEGIN:VEVENT
DTSTART;TZID=Europe/Paris:20180901T113000
DTEND;TZID=Europe/Paris:20180901T170000
DTSTAMP:20260421T174004
CREATED:20180828T191451Z
LAST-MODIFIED:20180828T191451Z
UID:6939-1535801400-1535821200@lepetitvarois.fr
SUMMARY:Journée champêtre et repas aïoli
DESCRIPTION:Journée champêtre et repas aïoli à 11h45.\nCentre Robert Guillemard\, 190 av. Robert Guillemard. SIX FOURS \nCette  journée détente est accessible à tous. Après-midi\, concours de boules. \nAu menu : apéritif\, kémia\, aïoli\, fromage\, glace\, vin et café (Il est recommandé d’apporter votre couvert complet). \n> 24 €. Inscription obligatoire. \nAmicale Six Fournaise des Rapatriés 06 61 70 68 32
URL:https://lepetitvarois.fr/event/journee-champetre-et-repas-aioli/
CATEGORIES:Six-Fours
ATTACH;FMTTYPE=image/jpeg:https://lepetitvarois.fr/wp-content/uploads/2018/06/break-11881_960_720.jpg
END:VEVENT
END:VCALENDAR